{"text_format":"1","workbook":"xlsx","n_sheets":16,"sheets":["シート構成","入力シート（確認・工事届）","入力シート（中間・完了）","★確認申請書","☆第四面追加","☆第五面追加","☆第六面追加","★概要書","★工事届","★計画変更","★中間検査申請書","★完了検査申請書","☆連名用(確認)","☆連名用(概要書)","☆連名用(工事届)","項目リスト"],"not_rendered":{"charts":0,"images":43,"macros":1,"external_links":0,"defined_names":35,"comments":0,"pivot_tables":0},"unopened":[],"bounds":{"document_bytes":16777216,"sheet_cells":100000,"rows_first":2000,"rows_last":500,"rows_between":2000,"halvings":0,"cell_chars":16384,"cell_head_chars":4096},"cells_cut":0,"cells_raw":0,"read":"whole","date_system":"1900"}

{"sheet":"シート構成","index":0,"n_rows":84,"n_cols":20,"rows_kept":84,"cut":false,"hidden":false,"merged":[[7,2,7,11],[23,2,23,7],[21,2,21,7],[19,2,19,7],[34,3,34,8],[34,9,34,14],[37,3,37,8],[38,3,38,8],[36,3,36,8],[35,3,35,8],[35,9,35,14],[36,9,36,14],[37,9,37,14],[38,9,38,14],[63,3,63,8],[39,3,39,8],[39,9,39,14],[40,9,40,14],[42,9,42,14],[52,2,52,11],[50,2,50,11],[42,3,42,8],[40,3,40,8],[63,9,63,14],[41,3,41,8],[41,9,41,14],[62,9,62,14],[62,3,62,8],[63,23,63,28],[62,17,62,22],[34,25,34,30],[35,25,35,30],[36,25,36,30],[37,25,37,30],[38,25,38,30],[34,19,34,24],[63,17,63,22],[39,19,39,24],[38,19,38,24],[37,19,37,24],[35,19,35,24],[39,25,39,30],[62,23,62,28],[36,19,36,24]]}
["申請書作成シートについて",null,null,null,null,null,null,null,null,null,null,null,null,"2023/01/31 Ver.14.2"]
[]
["【確認申請書類の作成】"]
[null,"◆入力"]
[null,null,"確認申請書、建築計画概要書、工事届は入力シート（確認・工事届）から作成します。"]
[null,null,"入力シートに入力した内容が印刷用シートに反映されます。"]
[]
[null,null,"「入力シート（確認・工事届）」へ"]
[]
[null,null,"［入力について］"]
[null,null,"網掛けしたセル部分が申請書に記載される部分です。網掛けの色に応じて入力してください。"]
[null,null,null,null,null,"この色のセルには直接入力またはチェックボックスにチェックを入れてください。"]
[null,null,null,null,null,"この色のセルはリストから該当する内容を選択してください。"]
[null,null,null,null,null,"この色のセルはリストから該当する内容を選択、または直接入力してください。"]
[null,null,null,null,null,"網掛け無し（枠線のみ）のセルは自動計算部分または定型部分となりますので入力できません。"]
[]
[null,null,"※","確認申請書第四面、第五面、第六面について、入力シートで入れられない部分があります。"]
[null,null,null,"その場合は次の印刷用シート（「☆第四面追加」、「☆第五面追加」、「☆第六面追加」）に直接入力してください。"]
[]
[null,null,"「☆第四面追加」へ",null,null,null,null,null,null,"同一敷地内に10㎡を超える建築物が2以上ある場合、2以降はこちらに直接入力して作成してください。"]
[]
[null,null,"「☆第五面追加」へ",null,null,null,null,null,null,"階数が5以上、又は第4面「建築物別概要」が2棟以上ある場合は、こちらに直接入力して作成してください。"]
[]
[null,null,"「☆第六面追加」へ",null,null,null,null,null,null,"申請に係る建築物が2以上ある場合、2以降については、こちらに直接入力して作成してください。"]
[null,null,null,null,null,null,null,null,null,"建築物の二以上の部分がExp.jその他の相互に応力を伝えない構造方法のみで接している場合は、"]
[null,null,null,null,null,null,null,null,null,"それぞれに作成が必要になります。当該建築物の部分をこちらに直接入力してください。"]
[]
[null,"◆印刷"]
[null,null,"印刷は印刷用シートから行ってください。"]
[null,null,"印刷用のシートはシート名の頭に★または☆マークがついています（☆は場合によって必要になる書類です。）"]
[null,null,"申請書第四面～第六面の追加がある場合や追加の建築主がいる場合は、それぞれのシートの印刷も忘れないようにしてください。"]
[]
[null,null,"［印刷用シート］"]
[null,null,"○","確認申請",null,null,null,null,null,null,null,null,null,null,null,null,null,null,"○","計画変更確認申請書"]
[null,null,null,"★確認申請書",null,null,null,null,null,null,null,null,null,null,null,null,null,null,null,"★計画変更"]
[null,null,null,"★概要書",null,null,null,null,null,null,null,null,null,null,null,null,null,null,null,"★概要書"]
[null,null,null,"★工事届",null,null,null,null,null,null,null,null,null,null,null,null,null,null,null,"☆第四面追加"]
[null,null,null,"☆第四面追加",null,null,null,null,null,null,null,null,null,null,null,null,null,null,null,"☆第五面追加"]
[null,null,null,"☆第五面追加",null,null,null,null,null,null,null,null,null,null,null,null,null,null,null,"☆第六面追加"]
[null,null,null,"☆第六面追加",null,null,null,null,null,null,null,null,null,null,null,null,null,null,null,"☆連名用（確認）"]
[null,null,null,"☆連名用（確認）"]
[null,null,null,"☆連名用（概要書）"]
[null,null,null,"☆連名用（工事届）"]
[]
["【検査申請書類の作成について】"]
[null,"◆入力"]
[null,null,"中間検査申請書及び完了検査申請書は入力シート（中間・完了）から作成します。"]
[null,null,"検査申請書の項目のほとんどは確認申請書の項目からデータを取得します。"]
[null,null,"修正がある場合は、入力シート（確認・工事届）を修正してください。"]
[]
[null,null,"「入力シート（中間・完了）」へ"]
[]
[null,null,"「入力シート（確認・工事届）」へ"]
[null,null,null,"（確認申請書から引き継ぐ内容に修正があった場合）"]
[]
[null,"◆印刷"]
[null,null,"印刷は印刷用シートから行ってください（入力シートに入力した内容を印刷用シートに反映させています。）"]
[null,null,"追加の建築主がいる場合は、該当シートの印刷も忘れないようにしてください。"]
[null,null,"申請書二面～四面の写しは、中間、完了の各印刷用シートから一面を除いて印刷をして作成してください。"]
[]
[null,null,"［印刷用シート］"]
[null,null,"○","中間検査",null,null,null,null,null,null,null,null,null,null,null,null,"○","完了検査"]
[null,null,null,"★中間検査申請書",null,null,null,null,null,null,null,null,null,null,null,null,null,"★完了検査申請書"]
[null,null,null,"☆連名用（確認）",null,null,null,null,null,null,null,null,null,null,null,null,null,"☆連名用（確認）"]
[]
[]
["【注意事項】"]
[null,"○","各シートにシート間を移動するためのリンクが設定されています。"]
[null,null,"シート名を変更するとそのリンクが正常に作動しませんので、シート名の変更はしないでください。"]
[null,"○","各シートには必要箇所に保護（ロック）をかけています。"]
[null,null,"編集する場合は解除パスワードが必要です。パスワードは0522644055です。"]
[null,null,"（このExcelはマクロを含んでいます。編集した場合にマクロが正常に作動しない場合がありますのでご注意ください。）"]
[]
["【参考】"]
[null,"確認申請書第2面のデータについては、編集することが少なく数パターンに限定されると想定されます。"]
[null,"本シートにあらかじめ２面のデータを入力したファイルを作成していただき、それを雛型として申請書を作成していただくと次回以降の入力手間が省けます。"]
[null,"数パターンある場合はファイルをコピーしてテンプレートを複数用意しておくと便利です。"]
[null,"（ファイル名は自由に変更していただいてかまいません。）"]
[]
["【更新履歴】"]
[null,"平成30年9月25日：省令の改正に伴ない第3面11．延べ面積の内容を修正しました。「宅配ボックス」の追加等の訂正があります。"]
[null,"令和元年5月1日：改元に伴う必要箇所の改修をしました。令和と平成の選択が必要な個所もありますのでご注意ください。"]
[null,"令和元年6月25日：法改正に伴う必要箇所の改修をしました。確認申請書第４面等の改正に伴なう訂正があります。"]
[null,"令和2年4月1日：法改正に伴う必要箇所の改修をしました。確認申請書第4面等の改正に伴なう訂正があります。"]

{"sheet":"入力シート（確認・工事届）","index":1,"n_rows":782,"n_cols":38,"rows_kept":782,"cut":false,"hidden":false,"merged":[[266,3,266,6],[252,23,252,26],[253,8,253,11],[257,18,257,21],[262,5,263,26],[255,8,255,11],[644,4,644,26],[645,4,645,9],[628,1,628,4],[342,2,342,3],[292,10,292,13],[295,12,295,13],[296,12,296,13],[298,10,298,14],[288,16,288,19],[288,22,288,25],[596,8,596,14],[596,17,596,23],[595,10,595,11],[595,15,595,16],[620,1,621,26],[613,8,613,14],[593,8,593,10],[587,1,587,2],[141,22,141,25],[162,23,162,26],[247,11,247,13],[183,8,183,26],[184,8,184,14],[166,8,166,14],[167,8,167,26],[169,9,169,10],[169,15,169,18],[179,8,179,18],[180,19,180,22],[171,9,171,10],[171,16,171,18],[233,1,233,26],[160,22,160,25],[147,8,147,14],[148,8,148,26],[151,9,151,10],[151,15,151,18],[151,22,151,25],[143,23,143,26],[144,8,144,18],[145,8,145,11],[146,8,146,26],[54,8,54,18],[14,8,14,26],[129,8,129,26],[137,8,137,26],[128,8,128,11],[115,8,115,18],[61,15,61,18],[61,22,61,25],[77,8,77,14],[98,13,98,16],[99,6,99,16],[121,8,121,26],[106,8,106,18],[95,6,95,12],[95,13,95,16],[132,8,132,18],[133,8,133,11],[134,8,134,26],[84,6,84,16],[71,15,71,18],[69,8,69,26],[41,8,41,18],[156,8,156,26],[152,8,152,18],[153,9,153,10],[2,7,2,11],[12,11,12,16],[117,8,117,11],[127,8,127,14],[9,8,9,26],[72,8,72,18],[24,8,24,11],[23,8,23,26],[36,8,36,14],[35,8,35,14],[40,9,40,10],[40,15,40,18],[40,22,40,25],[31,23,31,26],[32,8,32,18],[33,8,33,11],[26,8,26,14],[45,8,45,26],[44,8,44,11],[61,9,61,10],[53,23,53,26],[2,1,2,3],[22,8,22,26],[244,1,244,26],[243,1,243,16],[227,1,230,26],[2,24,2,26],[174,8,174,26],[2,4,2,6],[2,12,2,14],[2,15,2,17],[2,18,2,20],[195,1,196,26],[130,8,130,26],[131,8,131,18],[111,8,111,11],[142,8,142,18],[143,9,143,10],[143,16,143,18],[135,8,135,14],[192,10,192,26],[191,10,191,18],[222,8,222,17],[211,8,211,26],[43,8,43,18],[594,8,594,10],[590,1,590,4],[617,3,617,9],[646,4,646,26],[610,6,610,19],[637,4,637,26],[638,4,638,11],[745,7,745,10],[745,12,745,15],[745,17,745,20],[745,22,745,25],[723,22,723,26],[725,8,725,12],[725,15,725,19],[725,22,725,26],[726,15,726,19],[726,22,726,26],[727,8,727,12],[727,15,727,19],[727,22,727,26],[723,8,723,12],[642,4,642,26],[634,4,634,24],[635,4,635,24],[636,4,636,9],[647,4,647,11],[650,4,650,26],[652,4,652,26],[653,4,653,9],[654,4,654,26],[655,4,655,11],[663,4,663,23],[664,4,664,23],[665,4,665,9],[743,23,743,25],[744,7,744,10],[744,12,744,15],[744,17,744,20],[744,22,744,25],[666,4,666,24],[667,4,667,11],[697,14,697,15],[743,18,743,20],[723,15,723,19],[702,22,702,26],[721,8,721,10],[721,15,721,17],[721,22,721,24],[571,19,571,22],[585,22,585,27],[577,1,578,26],[568,19,568,22],[569,4,569,7],[569,10,569,16],[569,19,569,22],[570,4,570,7],[570,10,570,16],[581,1,582,26],[572,4,572,7],[572,10,572,16],[568,4,568,7],[568,10,568,16],[573,19,573,22],[574,19,574,22],[575,8,575,26],[574,4,574,7],[574,10,574,16],[486,1,486,3],[499,4,499,7],[499,10,499,16],[531,4,531,7],[531,10,531,16],[494,10,494,16],[493,4,493,7],[493,10,493,16],[500,8,500,26],[495,10,495,16],[495,19,495,22],[494,4,494,7],[497,4,497,7],[497,10,497,16],[497,19,497,22],[498,4,498,7],[498,10,498,16],[498,19,498,22],[489,10,489,12],[502,1,503,26],[506,1,507,26],[521,1,521,3],[512,1,512,2],[494,19,494,22],[430,1,431,26],[406,22,406,25],[437,1,437,2],[420,1,420,3],[425,8,425,26],[455,4,455,7],[482,8,482,10],[456,10,456,16],[456,19,456,22],[457,10,457,16],[457,4,457,7],[460,10,460,16],[458,4,458,7],[457,19,457,22],[460,19,460,22],[474,1,474,2],[480,1,480,3],[477,2,477,3],[455,10,455,16],[455,19,455,22],[460,4,460,7],[461,4,461,7],[459,19,459,22],[479,8,479,10],[495,4,495,7],[496,4,496,7],[547,22,547,27],[561,1,561,3],[496,10,496,16],[496,19,496,22],[572,19,572,22],[573,4,573,7],[573,10,573,16],[535,10,535,16],[535,19,535,22],[536,4,536,7],[536,10,536,16],[536,19,536,22],[560,8,560,10],[537,19,537,22],[499,19,499,22],[570,19,570,22],[571,4,571,7],[518,1,518,3],[520,8,520,10],[571,10,571,16],[564,10,564,12],[555,1,555,3],[407,6,407,7],[406,6,406,7],[405,6,405,7],[404,6,404,7],[278,16,278,19],[278,22,278,25],[280,16,280,19],[275,16,275,19],[275,22,275,25],[375,10,375,11],[290,16,290,19],[290,22,290,25],[285,10,285,13],[285,16,285,19],[376,10,376,11],[374,10,374,11],[324,5,324,26],[291,10,291,13],[290,10,290,13],[285,22,285,25],[282,10,282,13],[282,16,282,19],[286,10,286,13],[286,16,286,19],[404,22,404,25],[202,8,202,26],[255,13,255,16],[255,18,255,21],[255,23,255,26],[257,8,257,11],[257,23,257,26],[258,10,258,13],[259,10,259,13],[261,17,261,20],[251,23,251,26],[248,11,248,13],[253,18,253,21],[253,23,253,26],[286,22,286,25],[287,10,287,13],[287,16,287,19],[287,22,287,25],[288,10,288,13],[289,10,289,13],[289,16,289,19],[289,22,289,25],[405,16,405,19],[377,10,377,11],[403,6,403,7],[402,6,402,7],[402,16,402,19],[411,1,411,26],[402,10,402,13],[401,16,401,19],[401,22,401,25],[403,10,403,13],[403,22,403,25],[383,8,383,26],[396,19,396,25],[399,19,399,25],[395,24,395,25],[402,22,402,25],[403,16,403,19],[407,10,407,13],[407,16,407,19],[401,10,401,13],[405,22,405,25],[407,22,407,25],[404,10,404,13],[404,16,404,19],[452,10,452,12],[136,8,136,11],[170,8,170,18],[180,13,180,16],[163,8,163,18],[164,8,164,11],[165,8,165,26],[171,23,171,26],[172,8,172,18],[173,8,173,11],[160,15,160,18],[141,15,141,18],[158,8,158,26],[160,9,160,10],[153,16,153,18],[161,8,161,18],[162,9,162,10],[162,16,162,18],[157,8,157,14],[253,13,253,16],[429,8,429,26],[426,1,427,26],[417,1,417,26],[405,10,405,13],[282,22,282,25],[284,22,284,25],[283,16,283,19],[283,22,283,25],[356,11,356,17],[349,10,349,22],[346,4,346,8],[346,10,346,22],[347,4,347,8],[347,10,347,22],[298,17,298,21],[308,1,314,26],[326,5,326,26],[299,10,299,14],[299,17,299,21],[300,17,300,21],[328,5,328,26],[349,4,349,8],[356,2,356,8],[350,4,350,8],[301,10,301,14],[301,17,301,21],[302,8,302,14],[302,17,302,23],[300,10,300,14],[350,10,350,22],[435,22,435,27],[445,8,445,10],[448,8,448,10],[523,8,523,10],[91,6,91,12],[91,13,91,16],[92,6,92,16],[93,6,93,12],[93,13,93,16],[118,8,118,26],[110,8,110,14],[119,8,119,14],[120,8,120,11],[176,8,176,26],[141,9,141,10],[257,13,257,16],[284,10,284,13],[276,10,276,13],[276,16,276,19],[273,10,273,13],[251,18,251,21],[205,8,205,26],[763,7,763,23],[780,7,780,25],[406,16,406,19],[778,7,778,23],[779,7,779,13],[754,9,754,10],[755,9,755,10],[757,8,757,10],[423,1,423,10],[483,1,483,3],[440,2,440,3],[468,1,469,26],[464,1,465,26],[458,19,458,22],[459,4,459,7],[459,10,459,16],[443,1,443,3],[446,1,446,3],[449,1,449,3],[408,16,408,19],[414,1,414,26],[408,22,408,25],[458,10,458,16],[442,8,442,10],[472,22,472,27],[406,10,406,13],[781,7,781,16],[686,6,689,26],[764,7,764,23],[765,7,765,13],[766,7,766,25],[767,7,767,16],[770,7,770,23],[771,7,771,23],[772,7,772,13],[773,7,773,25],[702,15,702,19],[735,6,735,8],[698,14,698,15],[699,14,699,15],[730,10,730,14],[726,8,726,12],[777,7,777,23],[758,8,758,10],[737,9,737,10],[743,8,743,10],[743,13,743,15],[749,14,749,15],[750,14,750,15],[751,14,751,15],[63,9,63,10],[63,16,63,18],[76,8,76,26],[75,8,75,11],[73,9,73,10],[71,22,71,25],[125,8,125,11],[122,8,122,26],[100,6,100,12],[100,13,100,16],[94,6,94,16],[116,8,116,18],[101,6,101,16],[102,6,102,12],[73,16,73,18],[109,8,109,26],[67,8,67,14],[97,6,97,16],[107,8,107,18],[112,8,112,26],[124,8,124,18],[71,9,71,10],[182,8,182,11],[138,8,138,26],[203,8,203,26],[206,8,206,17],[218,8,218,26],[201,8,201,26],[280,22,280,25],[272,16,272,19],[272,22,272,25],[266,8,266,26],[260,17,260,20],[251,8,251,11],[251,13,251,16],[252,8,252,11],[252,13,252,16],[252,18,252,21],[271,22,271,25],[175,8,175,14],[169,22,169,25],[153,23,153,26],[278,10,278,13],[181,8,181,18],[154,8,154,18],[155,8,155,11],[0,12,0,19],[0,21,0,26],[8,8,8,26],[55,8,55,11],[56,8,56,26],[63,23,63,26],[64,8,64,18],[65,8,65,11],[66,8,66,26],[62,8,62,18],[57,8,57,14],[59,8,59,26],[12,17,12,19],[42,23,42,26],[15,8,16,26],[21,8,21,26],[2,21,2,23],[29,9,29,10],[29,15,29,18],[29,22,29,25],[30,8,30,18],[31,9,31,10],[34,8,34,26],[31,16,31,18],[774,7,774,16],[221,8,221,26],[380,10,380,12],[381,10,381,12],[348,4,348,8],[348,10,348,22],[702,8,702,12],[25,8,25,26],[219,8,219,26],[209,8,209,26],[210,8,210,26],[212,8,212,14],[213,8,213,26],[214,8,214,17],[217,8,217,26],[220,8,220,14],[191,21,191,26],[48,8,48,26],[51,9,51,10],[51,15,51,18],[51,22,51,25],[535,4,535,7],[533,4,533,7],[533,10,533,16],[532,10,532,16],[13,8,13,9],[12,8,12,9],[317,8,317,9],[323,4,323,5],[325,4,325,5],[327,4,327,5],[462,8,462,26],[485,8,485,10],[456,4,456,7],[42,16,42,18],[52,8,52,18],[53,9,53,10],[53,16,53,18],[46,8,46,14],[408,10,408,13],[388,9,388,26],[422,8,422,14],[461,10,461,16],[79,8,79,26],[102,13,102,16],[85,13,85,16],[123,8,123,18],[88,6,88,12],[557,8,557,10],[537,10,537,16],[540,1,541,26],[544,1,545,26],[538,8,538,26],[524,1,524,3],[558,1,558,3],[527,10,527,12],[461,19,461,22],[517,8,517,10],[515,2,515,3],[493,19,493,22],[552,2,552,3],[554,8,554,10],[533,19,533,22],[532,4,532,7],[531,19,531,22],[549,1,549,2],[537,4,537,7],[534,4,534,7],[534,10,534,16],[532,19,532,22],[510,22,510,27],[534,19,534,22],[340,22,340,27],[85,6,85,12],[42,9,42,10],[108,8,108,11],[333,1,333,26],[336,1,337,26],[90,6,90,16],[98,6,98,12],[73,23,73,26],[74,8,74,18],[187,10,187,18],[187,21,187,26],[275,10,275,13],[204,8,204,14],[284,16,284,19],[283,10,283,13],[271,10,271,13],[271,16,271,19],[272,10,272,13],[88,13,88,16],[276,22,276,25],[280,10,280,13],[126,8,126,26],[87,6,87,16]]}
["入力シート（確認・工事届）",null,null,null,null,null,null,null,null,null,null,null,"入力シート（中間・完了）へ",null,null,null,null,null,null,null,null,"シート構成に戻る"]
[]
[null,"第1面",null,null,"第2面",null,null,"追加の建築主",null,null,null,null,"第3面",null,null,"第4面",null,null,"第5面",null,null,"第6面",null,null,"工事届"]
[]
["◆確認申請書（建築物）"]
["第一面"]
[]
["【申請日】",null,null,null,null,null,null,null,"令和",null,null,"年",null,"月",null,"日"]
["【申請者氏名】"]
[]
[]
["【計画を変更する建築物の直前の確認】　※計画変更確認の場合のみ記入"]
[null,"【確認済証番号】",null,null,null,null,null,null,null,null,null,null,null,null,null,null,null,null,null,null,"号",null,null,null,null,null,null,null,null,null,null,null,null,null,null,null,"←","令和元年5月1日以前の確認の場合は第Ｈを選択してください。"]
[null,"【確認済証交付年月日】",null,null,null,null,null,null,null,null,null,"年",null,"月",null,"日",null,null,null,null,null,null,null,null,null,null,null,null,null,null,null,null,null,null,null,null,"←","令和元年5月1日以前の確認の場合は平成を選択してください。"]
[null,"【確認済証交付者】",null,null,null,null,null,null,{"$f":"IF(OR(K14=\"\",M14=\"\",O14=\"\"),\"\",\"一般財団法人愛知県建築住宅センター　理事長　海田　肇\")","v":""}]
[null,"【計画変更の概要】"]
[]
[]
[]
["第二面　建築主等の概要"]
["【１.建築主】"]
[null,"【イ.氏名のフリガナ】"]
[null,"【ロ.氏名】",null,null,null,null,null,null,null,null,null,null,null,null,null,null,null,null,null,null,null,null,null,null,null,null,null,null,null,null,null,null,null,null,null,null,"←","「申請者をコピー」をクリックすると、第一面に入力した申請者氏名を"]
[null,null,null,null,null,null,null,null,null,null,null,null,null,null,null,null,null,null,null,null,null,null,null,null,null,null,null,null,null,null,null,null,null,null,null,null,null,"コピーします。"]
[null,"【ハ.郵便番号】"]
[null,"【ニ.住所】"]
[null,"【ホ.電話番号】"]
[]
["【２.代理者】"]
[null,"【イ.資格】",null,null,null,null,null,null,"（",null,null,"）建築士",null,null,"（",null,null,null,null,"）登録第",null,null,null,null,null,null,"号"]
[null,"【ロ.氏名】"]
[null,"【ハ.建築士事務所名】",null,null,null,null,null,null,"（",null,null,"）建築士事務所",null,null,null,"（",null,null,null,"）知事登録第",null,null,null,null,null,null,null,"号"]
[]
[null,"【ニ.郵便番号】"]
[null,"【ホ.所在地】"]
[null,"【ヘ.電話番号】"]
[null,"【ト.ファックス番号】"]
[]
["【３.設計者】"]
[null,"（代表となる設計者）"]
[null,"【イ.資格】",null,null,null,null,null,null,"（",null,null,"）建築士",null,null,"（",null,null,null,null,"）登録第",null,null,null,null,null,null,"号",null,null,null,null,null,null,null,null,null,"←","「代理者をコピー」をクリックすると、２に入力した代理者情報を"]
[null,"【ロ.氏名】",null,null,null,null,null,null,null,null,null,null,null,null,null,null,null,null,null,null,null,null,null,null,null,null,null,null,null,null,null,null,null,null,null,null,null,"コピーします。"]
[null,"【ハ.建築士事務所名】",null,null,null,null,null,null,"（",null,null,"）建築士事務所",null,null,null,"（",null,null,null,"）知事登録第",null,null,null,null,null,null,null,"号"]
[]
[null,"【ニ.郵便番号】"]
[null,"【ホ.所在地】"]
[null,"【ヘ.電話番号】"]
[null,"【ト.作成又は確認した設計図書】"]
[]
[]
[null,"（その他の設計者）"]
[null,"【イ.資格】",null,null,null,null,null,null,"（",null,null,"）建築士",null,null,"（",null,null,null,null,"）登録第",null,null,null,null,null,null,"号"]
[null,"【ロ.氏名】"]
[null,"【ハ.建築士事務所名】",null,null,null,null,null,null,"（",null,null,"）建築士事務所",null,null,null,"（",null,null,null,"）知事登録第",null,null,null,null,null,null,null,"号"]
[]
[null,"【ニ.郵便番号】"]
[null,"【ホ.所在地】"]
[null,"【ヘ.電話番号】"]
[null,"【ト.作成又は確認した設計図書】"]
[]
[]
[null,"【イ.資格】",null,null,null,null,null,null,"（",null,null,"）建築士",null,null,"（",null,null,null,null,"）登録第",null,null,null,null,null,null,"号"]
[null,"【ロ.氏名】"]
[null,"【ハ.建築士事務所名】",null,null,null,null,null,null,"（",null,null,"）建築士事務所",null,null,null,"（",null,null,null,"）知事登録第",null,null,null,null,null,null,null,"号"]
[]
[null,"【ニ.郵便番号】"]
[null,"【ホ.所在地】"]
[null,"【ヘ.電話番号】"]
[null,"【ト.作成又は確認した設計図書】"]
[]
[]
[null,"【イ.資格】",null,null,null,null,null,null,"（",null,null,"）建築士",null,null,"（",null,null,null,null,"）登録第",null,null,null,null,null,null,"号"]
[null,"【ロ.氏名】"]
[null,"【ハ.建築士事務所名】",null,null,null,null,null,null,"（",null,null,"）建築士事務所",null,null,null,"（",null,null,null,"）知事登録第",null,null,null,null,null,null,null,"号"]
[]
[null,"【ニ.郵便番号】"]
[null,"【ホ.所在地】"]
[null,"【ヘ.電話番号】"]
[null,"【ト.作成又は確認した設計図書】"]
[]
[]
[null,"（構造設計一級建築士又は設備設計一級建築士である旨の表示をした者）"]
[null," 上記の設計者のうち、"]
[null,{"$f":"IF(G85=\"\",\"□\",\"■\")","v":"□"},"建築士法第２０条の２第１項の表示をした者"]
[null,null,"【イ.氏名】"]
[null,null,"【ロ.資格】",null,null,null,"構造設計一級建築士交付第",null,null,null,null,null,null,null,null,null,null,"号"]
[null,{"$f":"IF(G88=\"\",\"□\",\"■\")","v":"□"},"建築士法第２０条の２第３項の表示をした者"]
[null,null,"【イ.氏名】"]
[null,null,"【ロ.資格】",null,null,null,"構造設計一級建築士交付第",null,null,null,null,null,null,null,null,null,null,"号"]
[null,{"$f":"IF(G91=\"\",\"□\",\"■\")","v":"□"},"建築士法第２０条の３第１項の表示をした者"]
[null,null,"【イ.氏名】"]
[null,null,"【ロ.資格】",null,null,null,"設備設計一級建築士交付第",null,null,null,null,null,null,null,null,null,null,"号"]
[null,null,"【イ.氏名】"]
[null,null,"【ロ.資格】",null,null,null,"設備設計一級建築士交付第",null,null,null,null,null,null,null,null,null,null,"号"]
[null,null,"【イ.氏名】"]
[null,null,"【ロ.資格】",null,null,null,"設備設計一級建築士交付第",null,null,null,null,null,null,null,null,null,null,"号"]
[null,{"$f":"IF(G98=\"\",\"□\",\"■\")","v":"□"},"建築士法第２０条の３第３項の表示をした者"]
[null,null,"【イ.氏名】"]
[null,null,"【ロ.資格】",null,null,null,"設備設計一級建築士交付第",null,null,null,null,null,null,null,null,null,null,"号"]
[null,null,"【イ.氏名】"]
[null,null,"【ロ.資格】",null,null,null,"設備設計一級建築士交付第",null,null,null,null,null,null,null,null,null,null,"号"]
[null,null,"【イ.氏名】"]
[null,null,"【ロ.資格】",null,null,null,"設備設計一級建築士交付第",null,null,null,null,null,null,null,null,null,null,"号"]
[]
["【４.建築設備の設計に関し意見を聴いた者】"]
[null,"（代表となる建築設備の設計に関し意見を聴いた者）"]
[null,"【イ.氏名】"]
[null,"【ロ.勤務先】"]
[null,"【ハ.郵便番号】"]
[null,"【ニ.所在地】"]
[null,"【ホ.電話番号】"]
[null,"【ヘ.登録番号】"]
[null,"【ト.意見を聴いた設計図書】"]
[]
[null,"（その他の建築設備の設計に関し意見を聴いた者）"]
[null,"【イ.氏名】"]
[null,"【ロ.勤務先】"]
[null,"【ハ.郵便番号】"]
[null,"【ニ.所在地】"]
[null,"【ホ.電話番号】"]
[null,"【ヘ.登録番号】"]
[null,"【ト.意見を聴いた設計図書】"]
[]
[null,"【イ.氏名】"]
[null,"【ロ.勤務先】"]
[null,"【ハ.郵便番号】"]
[null,"【ニ.所在地】"]
[null,"【ホ.電話番号】"]
[null,"【ヘ.登録番号】"]
[null,"【ト.意見を聴いた設計図書】"]
[]
[null,"【イ.氏名】"]
[null,"【ロ.勤務先】"]
[null,"【ハ.郵便番号】"]
[null,"【ニ.所在地】"]
[null,"【ホ.電話番号】"]
[null,"【ヘ.登録番号】"]
[null,"【ト.意見を聴いた設計図書】"]
[]
["【５.工事監理者】",null,null,null,null,null,null,null,null,null,null,null,null,null,null,null,null,null,null,null,null,null,null,null,null,null,null,null,null,null,null,null,null,null,null,null,"←","「代理者をコピー」をクリックで２の代理者情報を、「設計者をコピー」"]
[null,"（代表となる工事監理者）",null,null,null,null,null,null,null,null,null,null,null,null,null,null,null,null,null,null,null,null,null,null,null,null,null,null,null,null,null,null,null,null,null,null,null,"クリックで３の代表となる設計者情報をコピーします。"]
[null,"【イ.資格】",null,null,null,null,null,null,"（",null,null,"）建築士",null,null,"（",null,null,null,null,"）登録第",null,null,null,null,null,null,"号",null,null,null,null,null,null,null,null,null,"←","未定の場合は、【ロ．氏名】欄に”未定”と入力してください。"]
[null,"【ロ.氏名】",null,null,null,null,null,null,null,null,null,null,null,null,null,null,null,null,null,null,null,null,null,null,null,null,null,null,null,null,null,null,null,null,null,null,null,"その場合、他は入力不要です。"]
[null,"【ハ.建築士事務所名】",null,null,null,null,null,null,"（",null,null,"）建築士事務所",null,null,null,"（",null,null,null,"）知事登録第",null,null,null,null,null,null,null,"号"]
[]
[null,"【ニ.郵便番号】"]
[null,"【ホ.所在地】"]
[null,"【ヘ.電話番号】"]
[null,"【ト.工事と照合する設計図書】"]
[]
[null,"（その他の工事監理者）"]
[null,"【イ.資格】",null,null,null,null,null,null,"（",null,null,"）建築士",null,null,"（",null,null,null,null,"）登録第",null,null,null,null,null,null,"号"]
[null,"【ロ.氏名】"]
[null,"【ハ.建築士事務所名】",null,null,null,null,null,null,"（",null,null,"）建築士事務所",null,null,null,"（",null,null,null,"）知事登録第",null,null,null,null,null,null,null,"号"]
[]
[null,"【ニ.郵便番号】"]
[null,"【ホ.所在地】"]
[null,"【ヘ.電話番号】"]
[null,"【ト.工事と照合する設計図書】"]
[]
[null,"【イ.資格】",null,null,null,null,null,null,"（",null,null,"）建築士",null,null,"（",null,null,null,null,"）登録第",null,null,null,null,null,null,"号"]
[null,"【ロ.氏名】"]
[null,"【ハ.建築士事務所名】",null,null,null,null,null,null,"（",null,null,"）建築士事務所",null,null,null,"（",null,null,null,"）知事登録第",null,null,null,null,null,null,null,"号"]
[]
[null,"【ニ.郵便番号】"]
[null,"【ホ.所在地】"]
[null,"【ヘ.電話番号】"]
[null,"【ト.工事と照合する設計図書】"]
[]
[null,"【イ.資格】",null,null,null,null,null,null,"（",null,null,"）建築士",null,null,"（",null,null,null,null,"）登録第",null,null,null,null,null,null,"号"]
[null,"【ロ.氏名】"]
[null,"【ハ.建築士事務所名】",null,null,null,null,null,null,"（",null,null,"）建築士事務所",null,null,null,"（",null,null,null,"）知事登録第",null,null,null,null,null,null,null,"号"]
[]
[null,"【ニ.郵便番号】"]
[null,"【ホ.所在地】"]
[null,"【ヘ.電話番号】"]
[null,"【ト.工事と照合する設計図書】"]
[]
["【６.工事施工者】"]
[null,"【イ.氏名】",null,null,null,null,null,null,null,null,null,null,null,null,null,null,null,null,null,null,null,null,null,null,null,null,null,null,null,null,null,null,null,null,null,null,"←","未定の場合は、【ロ．氏名】欄に”未定”と入力してください。"]
[null,"【ロ.営業所名】",null,null,null,null,null,null,"建設業の許可",null,null,null,"（",null,null,null,null,"）","第",null,null,null,null,"号",null,null,null,null,null,null,null,null,null,null,null,null,null,"直営の場合は同欄に”直営”と入力してください。"]
[null,null,null,null,null,null,null,null,null,null,null,null,null,null,null,null,null,null,null,null,null,null,null,null,null,null,null,null,null,null,null,null,null,null,null,null,null,"その場合、他は入力不要です。"]
[null,"【ハ.郵便番号",null,null,null,null,null,null,null,null,null,null,null,null,null,null,null,null,null,null,null,null,null,null,null,null,null,null,null,null,null,null,null,null,null,null,null,"なお、小規模工事の場合は【８．備考】に”小規模工事”と記入してください。"]
[null,"【ニ.所在地】"]
[null,"【ホ.電話番号】"]
[]
["【７.構造計算適合性判定の申請】",null,null,null,null,null,null,null,{"$f":"IF(AND(AD188=TRUE,AE188=TRUE),\"注：重複です！申請済か未申請のどちらか一方にチェックしてください。\",\"\")","v":""},null,null,null,null,null,null,null,null,null,null,null,null,null,null,null,null,null,null,null,null,null,null,null,null,null,null,null,"←","初期値は申請不要にしてあります。"]
[null,null,"申請済",null,null,"未申請",null,"判定機関名",null,null,null,null,null,null,null,null,null,null,null,"所在地",null,{"$f":"IF(K188=\"\",\"\",VLOOKUP(K188,項目リスト!H3:I19,2,FALSE))","v":""},null,null,null,null,null,null,null,false,false,null,null,null,null,null,"←","未申請の場合は申請する予定の判定機関を選択してください。"]
[null,null,"申請不要",null,null,null,null,null,{"$f":"IF(AND(AD189=TRUE,OR(AD188=TRUE,AE188=TRUE)),\"注：申請不要の場合は申請済、未申請にチェックはしないでください。\",\"\")","v":""},null,null,null,null,null,null,null,null,null,null,null,null,null,null,null,null,null,null,null,null,true]
[null,{"$f":"IF(AND(AD188=FALSE,AE188=FALSE,AD189=FALSE),\"注：どれかにチェックを入れてください。\",\"\")","v":""}]
["【８.建築物エネルギー消費性能確保計画の提出】",null,null,null,null,null,null,null,null,null,null,null,{"$f":"IF(AND(AD192=TRUE,AE192=TRUE),\"注：重複です！申請済か未申請のどちらか一方にチェックしてください。\",\"\")","v":""},null,null,null,null,null,null,null,null,null,null,null,null,null,null,null,null,null,null,null,null,null,null,null,"←","初期値は提出不要にしてあります。"]
[null,null,"提出済",null,null,"未提出",null,"判定機関名",null,null,null,null,null,null,null,null,null,null,null,"所在地",null,null,null,null,null,null,null,null,null,false,false,null,null,null,null,null,"←","未提出の場合は提出する予定の判定機関を選択してください。"]
[null,null,"提出不要",null,null,"不要となる理由",null,null,null,"（",null,null,null,null,null,null,null,null,null,null,null,null,null,null,null,null,null,"）",null,true,null,null,null,null,null,null,"←","延べ面積が2,000㎡未満の場合等、明らかに提出不要な場合は、理由の記載は不要です。"]
[null,{"$f":"IF(AND(AD192=FALSE,AE192=FALSE,AD193=FALSE),\"注：どれかにチェックを入れてください。\",\"\")","v":""},null,null,null,null,null,null,null,null,{"$f":"IF(AND(AD193=TRUE,OR(AD192=TRUE,AE192=TRUE)),\"注：申請不要の場合は申請済、未申請にチェックはしないでください。\",\"\")","v":""}]
["【９．備考】"]
[]
[]
[]
[]
["第二面別紙　追加の建築主　※建築主が連名の場合のみ記入"]
["【建築主】"]
[null,"【イ.氏名のフリガナ】"]
[null,"【ロ.氏名】"]
[]
[null,"【ハ.郵便番号】"]
[null,"【ニ.住所】"]
[null,"【ホ.電話番号】"]
[]
["【建築主】"]
[null,"【イ.氏名のフリガナ】"]
[null,"【ロ.氏名】"]
[]
[null,"【ハ.郵便番号】"]
[null,"【ニ.住所】"]
[null,"【ホ.電話番号】"]
[]
["【建築主】"]
[null,"【イ.氏名のフリガナ】"]
[null,"【ロ.氏名】"]
[]
[null,"【ハ.郵便番号】"]
[null,"【ニ.住所】"]
[null,"【ホ.電話番号】"]
[]
[]
["第三面　建築物及びその敷地に関する事項"]
["【１.地名地番】"]
[]
[]
[]
[]
[]
["【２.住居表示】"]
[]
[]
["【３.都市計画区域及び準都市計画区域の内外の別等】"]
[null,null,"都市計画区域内",null,null,null,null,"（",null,"市街化区域",null,null,null,null,"市街化調整区域",null,null,null,null,null,"区域区分非設定）",null,null,null,null,null,null,null,null,false,false,false,false]
[null,null,"準都市計画区域内",null,null,null,null,null,null,null,"都市計画区域及び準都市計画区域外",null,null,null,null,null,null,null,null,null,null,null,null,null,null,null,null,null,null,false,false]
[]
["【４.防火地域】"]
[null,null,"防火地域",null,null,null,null,"準防火地域",null,null,null,null,null,"指定なし",null,null,null,null,null,null,null,null,null,null,null,null,null,null,null,false,false,false]
[]
["【５.その他の区域、地域、地区又は街区】"]
[]
[]
[]
["【６.道路】",null,null,null,"※小数点第3位以下を切捨てで記入してください。"]
[null,"【イ.幅員】",null,null,null,null,null,null,null,null,null,null,null,null,"ｍ",null,null,null,null,null,null,null,null,null,null,null,null,null,null,null,null,null,null,null,null,null,"←","小数点第3位以下に入力があった場合、入力シートに表示される数字と"]
[null,"【ロ.敷地と接している部分の長さ】",null,null,null,null,null,null,null,null,null,null,null,null,"ｍ",null,null,null,null,null,null,null,null,null,null,null,null,null,null,null,null,null,null,null,null,null,null,"印刷用シート（確認申請書、計画変更、概要書）に出力される数字が異なることがあります。"]
[]
["【７.敷地面積】",null,null,null,null,null,null,null,"※敷地面積は小数点第3位以下を切捨てで記入してください。",null,null,null,null,null,null,null,null,null,null,null,null,null,null,null,null,null,null,null,null,null,null,null,null,null,null,null,"←","小数点第3位以下に入力があった場合、入力シートに表示される数字と"]
[null,"【イ.敷地面積】",null,null,null,null,null,"(１)(",null,null,null,null,")(",null,null,null,null,")(",null,null,null,null,")(",null,null,null,null,")",null,null,null,null,null,null,null,null,null,"印刷用シート（確認申請書、計画変更、概要書）に出力される数字が異なることがあります。"]
[null,null,null,null,null,null,null,"(２)(",null,null,null,null,")(",null,null,null,null,")(",null,null,null,null,")(",null,null,null,null,")"]
[null,"【ロ.用途地域等】",null,null,null,null,null,"(",null,null,null,null,")(",null,null,null,null,")(",null,null,null,null,")(",null,null,null,null,")"]
[null,"【ハ.建築基準法第５２条第１項及び第２項の規定による建築物の容積率】"]
[null,null,null,null,null,null,null,"(",null,null,null,null,")(",null,null,null,null,")(",null,null,null,null,")(",null,null,null,null,")"]
[null,"【ニ.建築基準法第５３条第１項の規定による建築物の建蔽率】"]
[null,null,null,null,null,null,null,"(",null,null,null,null,")(",null,null,null,null,")(",null,null,null,null,")(",null,null,null,null,")"]
[null,"【ホ.敷地面積の合計】",null,null,null,null,null,null,"(１)",null,{"$f":"IF((I252+N252+S252+X252)=0,\"\",ROUNDDOWN(I252,2)+ROUNDDOWN(N252,2)+ROUNDDOWN(S252,2)+ROUNDDOWN(X252,2))","v":""}]
[null,null,null,null,null,null,null,null,"(２)",null,{"$f":"IF((I253+N253+S253+X253)=0,\"\",ROUNDDOWN(I253,2)+ROUNDDOWN(N253,2)+ROUNDDOWN(S253,2)+ROUNDDOWN(X253,2))","v":""}]
[null,"【ヘ.敷地に建築可能な延べ面積を敷地面積で除した数値】"]
[null,"【ト.敷地に建築可能な建築面積を敷地面積で除した数値】"]
[null,"【チ.備考】",null,null,null,"　　"]
[]
[]
["【８.主要用途】",null,null,null,null,null,null,null,null,null,null,null,null,null,null,null,null,null,null,null,null,null,null,null,null,null,null,null,null,null,null,null,null,null,null,null,"←","用途がわからない場合は、「用途検索」ボタンから用途の検索と登録を行ってください。"]
[null,"（区分",null,null,null,null,null,"）",null,null,null,null,null,null,null,null,null,null,null,null,null,null,null,null,null,null,null,null,null,null,null,null,null,null,null,null,null,"リストから直接選択することもできます。"]
[null,null,null,null,null,null,null,null,"※用途は具体的に記入してください。"]
["【９.工事種別】"]
[null,null,"新築",null,null,"増築",null,null,"改築",null,null,"移転",null,null,"用途変更",null,null,null,"大規模の修繕",null,null,null,null,"大規模の模様替",null,null,null,null,null,false,false,false,false,false,false,false]
[null,null,null,null,{"$f":"IF(AND(AD270=TRUE,OR(AE270=TRUE,AF270=TRUE,AG270=TRUE,AH270=TRUE,AI270=TRUE,AJ270=TRUE)),\"注　新築と他の種別は同時に選択しないでください。\",\"\")","v":""}]
["【１０.建築面積】",null,null,null,null,null,null,null,null,"（","申請部分",null,null,null,"）","（","申請以外の部分",null,null,null,"）","（","合計",null,null,null,"）"]
[null,"【イ.建築面積】",null,null,null,null,null,null,null,"（",null,null,null,null,"）","（",null,null,null,null,"）","（",{"$f":"IF(AND(K273=\"\",Q273=\"\"),\"\",ROUNDUP(K273,2)+ROUNDUP(Q273,2))","v":""},null,null,null,"）",null,null,null,null,null,null,null,null,null,"←","建築面積について、小数点第3位以下に入力があった場合、入力シートに表示される数字と"]
[null,"【ロ.建蔽率】",null,null,null,null,null,null,null,null,{"$f":"IF(K259=\"\",\"\",IF(W273=\"\",\"\",ROUND((W273/K259)*100,2)))","v":""},null,null,null,null,null,null,null,null,null,null,null,null,null,null,null,null,null,null,null,null,null,null,null,null,null,null,"印刷用シート（確認申請書、計画変更、概要書）に出力される数字が異なることがあります。"]
[null,null,null,null,null,null,null,null,null,null,null,null,null,null,null,null,null,null,null,null,null,null,null,null,null,null,null,null,null,null,null,null,null,null,null,null,null,"印刷用シートでは小数点第3位以下を切上げて表示します。"]
["【１１.延べ面積】",null,null,null,null,null,null,null,null,"（","申請部分",null,null,null,"）","（","申請以外の部分",null,null,null,"）","（","合計",null,null,null,"）"]
[null,"【イ.建築物全体】",null,null,null,null,null,null,null,"（",null,null,null,null,"）","（",null,null,null,null,"）","（",{"$f":"IF(AND(K277=\"\",Q277=\"\"),\"\",ROUND(K277,2)+ROUND(Q277,2))","v":""},null,null,null,"）",null,null,{"$f":"IF(K277=\"\",0,W277)","v":0}]
[null,"【ロ.地階の住宅又は老人ホーム等の部分】"]
[null,null,null,null,null,null,null,null,null,"（",null,null,null,null,"）","（",null,null,null,null,"）","（",{"$f":"IF(AND(K279=\"\",Q279=\"\"),\"\",ROUND(K279,2)+ROUND(Q279,2))","v":""},null,null,null,"）",null,null,{"$f":"IF(W279=\"\",0,IF((AD290+AD291-AD283-AD281)/3<W279,ROUNDDOWN((AD290+AD291-AD283-AD281)/3,2),W279))","v":0}]
[null,"【ハ.エレベーターの昇降路の部分】"]
[null,null,null,null,null,null,null,null,null,"（",null,null,null,null,"）","（",null,null,null,null,"）","（",{"$f":"IF(AND(K281=\"\",Q281=\"\"),\"\",ROUND(K281,2)+ROUND(Q281,2))","v":""},null,null,null,"）",null,null,{"$f":"IF(W281=\"\",0,W281)","v":0}]
[null,"【ニ.共同住宅又は老人ホーム等の共用の廊下等の部分】"]
[null,null,null,null,null,null,null,null,null,"（",null,null,null,null,"）","（",null,null,null,null,"）","（",{"$f":"IF(AND(K283=\"\",Q283=\"\"),\"\",ROUND(K283,2)+ROUND(Q283,2))","v":""},null,null,null,"）",null,null,{"$f":"IF(W283=\"\",0,W283)","v":0}]
[null,"【ホ.自動車車庫等の部分】",null,null,null,null,null,null,null,"（",null,null,null,null,"）","（",null,null,null,null,"）","（","",null,null,null,"）",null,null,{"$f":"IF(W284=\"\",0,IF(AD$277/5<W284,ROUNDDOWN(AD$277/5,2),W284))","v":0}]
[null,"【ヘ.備蓄倉庫の部分】",null,null,null,null,null,null,null,"（",null,null,null,null,"）","（",null,null,null,null,"）","（","",null,null,null,"）",null,null,{"$f":"IF(W285=\"\",0,IF(AD$277/50<W285,ROUNDDOWN(AD$277/50,2),W285))","v":0}]
[null,"【ト.蓄電池の設置部分】",null,null,null,null,null,null,null,"（",null,null,null,null,"）","（",null,null,null,null,"）","（","",null,null,null,"）",null,null,{"$f":"IF(W286=\"\",0,IF(AD$277/50<W286,ROUNDDOWN(AD$277/50,2),W286))","v":0}]
[null,"【チ.自家発電設備の設置部分】",null,null,null,null,null,null,null,"（",null,null,null,null,"）","（",null,null,null,null,"）","（","",null,null,null,"）",null,null,{"$f":"IF(W287=\"\",0,IF(AD$277/100<W287,ROUNDDOWN(AD$277/100,2),W287))","v":0}]
[null,"【リ.貯水槽の設置部分】",null,null,null,null,null,null,null,"（",null,null,null,null,"）","（",null,null,null,null,"）","（","",null,null,null,"）",null,null,{"$f":"IF(W288=\"\",0,IF(AD$277/100<W288,ROUNDDOWN(AD$277/100,2),W288))","v":0}]
[null,"【ヌ.宅配ボックスの設置部分】",null,null,null,null,null,null,null,"（",null,null,null,null,"）","（",null,null,null,null,"）","（","",null,null,null,"）",null,null,{"$f":"IF(W289=\"\",0,IF(AD$277/100<W289,ROUNDDOWN(AD$277/100,2),W289))","v":0}]
[null,"【ル.住宅の部分】",null,null,null,null,null,null,null,"（",null,null,null,null,"）","（",null,null,null,null,"）","（","",null,null,null,"）",null,null,{"$f":"IF(W290=\"\",0,W290)","v":0}]
[null,"【ヲ.老人ホーム等の部分】",null,null,null,null,null,null,null,"（",null,null,null,null,"）","（",null,null,null,null,"）","（","",null,null,null,"）",null,null,{"$f":"IF(W291=\"\",0,W291)","v":0}]
[null,"【ワ.延べ面積】",null,null,null,null,null,null,null,null,{"$f":"IF(W277=\"\",\"\",AD277-SUM(AD279:AD289))","v":""}]
[null,"【カ.容積率】",null,null,null,null,null,null,null,null,{"$f":"IF(ISBLANK(I252),\"\",IF(ISBLANK(I253),ROUND(K292/K259*100,2),ROUND(K292/K260*100,2)))","v":""}]
[]
["【１２.建築物の数】"]
[null,"【イ.申請に係る建築物の数】"]
[null,"【ロ.同一敷地内の他の建築物の数】"]
[]
["【１３.建築物の高さ等】",null,null,null,null,null,null,null,null,"（","申請に係る建築物",null,null,null,null,"）","（","他の建築物",null,null,null,null,"）"]
[null,"【イ.最高の高さ】",null,null,null,null,null,null,null,"（",null,null,null,null,null,"）","（",null,null,null,null,null,"）",null,null,null,null,null,null,null,null,null,null,null,null,null,"←","高さについて、小数点第4位以下に入力があった場合、入力シートに表示される数字と"]
[null,"【ロ.階数】",null,null,null,null,null,null,null,"地上（",null,null,null,null,null,"）","（",null,null,null,null,null,"）",null,null,null,null,null,null,null,null,null,null,null,null,null,null,"印刷用シート（確認申請書、計画変更、概要書）に出力される数字が異なることがあります。"]
[null,null,null,null,null,null,null,null,null,"地下（",null,null,null,null,null,"）","（",null,null,null,null,null,"）",null,null,null,null,null,null,null,null,null,null,null,null,null,null,"印刷用シートでは小数点第4位以下を切上げて表示します。"]
[null,"【ハ.構造】",null,null,null,null,null,null,null,null,null,null,null,null,null,"一部"]
[null,"【ニ.建築基準法第５６条第７項の規定による特例の適用の有無】",null,null,null,null,null,null,null,null,null,null,null,null,null,null,null,null,null,null,"有",null,null,"無",{"$f":"IF(AND(AD304=TRUE,AE304=TRUE),\"注：重複です\",\"\")","v":""},null,null,null,null,false,true]
[null,"【ホ.適用があるときは、特例の区分】",null,null,null,null,null,null,null,null,{"$f":"IF(AND(AE304=TRUE,Y304=\"\"),\"注：13.ニが無の場合は下記のチェックは不要です。\",\"\")","v":"注：13.ニが無の場合は下記のチェックは不要です。"}]
[null,null,null,null,null,null,"道路高さ制限不適用",null,null,null,null,null,null,"隣地高さ制限不適用",null,null,null,null,null,null,"北側高さ制限不適用",null,null,null,null,null,null,null,null,false,false,false]
[]
["【１４.許可・認定等】"]
[]
[]
[]
[]
[]
[]
[]
[]
["【１５.工事着手予定年月日】"]
[null,null,null,null,null,null,null,null,"令和",null,null,"年",null,"月",null,"日",null,null,null,null,null,null,null,null,null,null,null,null,null,null,null,null,null,null,null,null,"←","計画変更の場合で工事着手が令和元年5月1日以前の場合は平成を選択してください。"]
[]
["【１６.工事完了予定年月日】"]
[null,null,null,null,null,null,null,null,"令和",null,null,"年",null,"月",null,"日"]
[]
["【１７.特定工程工事終了予定年月日】"]
[null,"（第",{"$f":"IF(F325=\"\",\"\",\"1\")","v":""},"回）","令和",null,null,"年",null,"月",null,"日",null,null,null,null,null,null,null,null,null,null,null,null,null,null,null,null,null,null,null,null,null,null,null,null,"←","上にある行から工程の順に登録してください。"]
[null,null,"（特定工程）",null,null,null,null,null,null,null,null,null,null,null,null,null,null,null,null,null,null,null,null,null,null,null,null,null,null,null,null,null,null,null,null,null,null,"計画変更の場合で特定工程終了日が令和元年5月1日以前の場合は平成を選択してください。"]
[null,"（第",{"$f":"IF(F327=\"\",\"\",\"2\")","v":""},"回）","令和",null,null,"年",null,"月",null,"日"]
[null,null,"（特定工程）"]
[null,"（第",{"$f":"IF(F329=\"\",\"\",\"3\")","v":""},"回）","令和",null,null,"年",null,"月",null,"日"]
[null,null,"（特定工程）"]
[]
["【概要書１８.建築基準法第12条第１項の規定による調査の要否】",null,null,null,null,null,null,null,null,null,null,null,null,null,null,null,null,null,null,null,null,"要",null,null,"否",null,null,null,null,false,true,null,null,null,null,null,"←","建築計画概要書に出力される項目です（確認申請書には出力されません。）"]
["【概要書１９.建築基準法第12条第3項の規定による検査を要する防火設備の有無】",null,null,null,null,null,null,null,null,null,null,null,null,null,null,null,null,null,null,null,null,"有",null,null,"無",null,null,null,null,false,true,null,null,null,null,null,"←","建築計画概要書に出力される項目です（確認申請書には出力されません。）"]
["【１８（概要書２０）.その他必要な事項】"]
[null,null,null,null,null,null,null,null,null,null,null,null,null,null,null,null,null,null,null,null,null,null,null,null,null,null,null,null,null,null,null,null,null,null,null,null,"←","確認申請書と建築計画概要書に出力される項目です。"]
[]
["【１９.備考】",null,null,null,null,null,null,null,null,null,null,null,null,null,null,null,null,null,null,null,null,null,null,null,null,null,null,null,null,null,null,null,null,null,null,null,"←","確認申請書に出力される項目です（建築計画概要書には出力されません。）"]
[]
[]
[]
[]
["第四面　建築物別概要",null,null,null,null,null,null,null,"※2棟目以降は別シート「☆第四面追加」から作成してください。",null,null,null,null,null,null,null,null,null,null,null,null,null,"☆第四面追加へ"]
["【１.番号】"]
[null,null,1,null,null,null,null,null,null,null,null,null,null,null,null,null,null,null,null,null,null,null,null,null,null,null,null,null,null,null,null,null,null,null,null,null,"←","「3面を参照」ボタンをクリックすると第3面の入力内容を参照します。"]
[null,null,null,null,null,null,null,null,null,null,null,null,null,null,null,null,null,null,null,null,null,null,null,null,null,null,null,null,null,null,null,null,null,null,null,null,null,"第3面と第4面の内容が一致しない場合は変更してください。"]
["【２.用途】",null,null,null,"※用途は具体的に記入してください。"]
[]
[null,"（","区分",null,null,null,null,null,null,"）",null,null,null,null,null,null,null,null,null,null,null,null,null,null,null,null,null,null,null,null,null,null,null,null,null,null,"←","用途がわからない場合は、「用途確認」ボタンをクリックすると用途確認画面"]
[null,"（","区分",null,null,null,null,null,null,"）",null,null,null,null,null,null,null,null,null,null,null,null,null,null,null,null,null,null,null,null,null,null,null,null,null,null,null,"が開きます。該当する用途を調べたら、入力シートから選択または入力を"]
[null,"（","区分",null,null,null,null,null,null,"）",null,null,null,null,null,null,null,null,null,null,null,null,null,null,null,null,null,null,null,null,null,null,null,null,null,null,null,"してください。"]
[null,"（","区分",null,null,null,null,null,null,"）"]
[null,"（","区分",null,null,null,null,null,null,"）"]
[null,null,null,null,null,null,null,null,""]
["【３.工事種別】",null,null,null,{"$f":"IF(AND(AD354=TRUE,OR(AE354=TRUE,AF354=TRUE,AG354=TRUE,AH354=TRUE,AI354=TRUE,AJ354=TRUE)),\"注　新築と他の種別は同時に選択しないでください。\",\"\")","v":""}]
[null,null,"新築",null,null,"増築",null,null,"改築",null,null,"移転",null,null,"用途変更",null,null,null,"大規模の修繕",null,null,null,null,"大規模の模様替",null,null,null,null,null,false,false,false,false,false,false,false]
[]
["【４.構造】"]
[null,null,null,null,null,null,null,null,null,"一部"]
[]
["【５.主要構造部】"]
[null,null,"耐火構造",null,null,null,null,null,null,null,null,null,null,null,null,null,null,null,null,null,null,null,null,null,null,null,null,null,null,false]
[null,null,"建築基準法施行令第108条の３第１項第１号イ及びロに掲げる基準に適合する構造",null,null,null,null,null,null,null,null,null,null,null,null,null,null,null,null,null,null,null,null,null,null,null,null,null,null,false]
[null,null,"準耐火構造",null,null,null,null,null,"準耐火構造と同等の準耐火性能を有する構造（ロ-１）",null,null,null,null,null,null,null,null,null,null,null,null,null,null,null,null,null,null,null,null,false,false]
[null,null,"準耐火構造と同等の準耐火性能を有する構造（ロ-２）",null,null,null,null,null,null,null,null,null,null,null,null,null,null,null,"その他",null,null,null,null,null,null,null,null,null,null,false,false]
[]
["【６.建築基準法第21条及び第27条の規定の適用】"]
[null,null,"建築基準法施行令第109条の５第１号に掲げる基準に適合する構造",null,null,null,null,null,null,null,null,null,null,null,null,null,null,null,null,null,null,null,null,null,null,null,null,null,null,false]
[null,null,"建築基準法第21条第１項ただし書に該当する建築物",null,null,null,null,null,null,null,null,null,null,null,null,null,null,null,null,null,null,null,null,null,null,null,null,null,null,false]
[null,null,"建築基準法施行令第110条第１号に掲げる基準に適合する構造",null,null,null,null,null,null,null,null,null,null,null,null,null,null,null,null,null,null,null,null,null,null,null,null,null,null,false]
[null,null,"その他",null,null,null,"建築基準法第21条又は第27条の規定の適用を受けない",null,null,null,null,null,null,null,null,null,null,null,null,null,null,null,null,null,null,null,null,null,null,false,false]
[]
["【７.建築基準法第61条の規定の適用】",null,null,null,null,null,null,null,null,null,null,null,"耐火建築物",null,null,null,null,"延焼防止建築物",null,null,null,null,null,"準耐火建築物",null,null,null,null,null,false,false,false]
[null,null,"準延焼防止建築物",null,null,null,null,null,null,"その他",null,null,null,"建築基準法第61条の規定の適用を受けない",null,null,null,null,null,null,null,null,null,null,null,null,null,null,null,false,false,false]
[]
["【８.階数】"]
[null,"【イ.地階を除く階数】"]
[null,"【ロ.地階の階数】"]
[null,"【ハ.昇降機塔等の階の数】"]
[null,"【ニ.地階の倉庫等の階の数】"]
[]
["【９.高さ】"]
[null,"【イ.最高の高さ】",null,null,null,null,null,null,null,null,null,null,null,"ｍ",null,null,null,null,null,null,null,null,null,null,null,null,null,null,null,null,null,null,null,null,null,null,"←","高さについて、小数点第4位以下に入力があった場合、入力シートに表示される数字と"]
[null,"【ロ.最高の軒の高さ】",null,null,null,null,null,null,null,null,null,null,null,"ｍ",null,null,null,null,null,null,null,null,null,null,null,null,null,null,null,null,null,null,null,null,null,null,null,"印刷用シート（確認申請書、計画変更、概要書）に出力される数字が異なることがあります。"]
[null,null,null,null,null,null,null,null,null,null,null,null,null,null,null,null,null,null,null,null,null,null,null,null,null,null,null,null,null,null,null,null,null,null,null,null,null,"印刷用シートでは小数点第4位以下を切上げて表示します。"]
["【１０.建築設備の種類】"]
[null,null,"電気",null,null,"都市ガス",null,null,null,"LPガス",null,null,null,"給水",null,null,null,"排水",null,null,null,"換気",null,null,null,null,null,null,null,false,false,false,false,false,false]
[null,null,"暖房",null,null,"冷房",null,null,null,"自然排煙設備",null,null,null,null,null,"機械換気設備",null,null,null,null,null,"浄化槽",null,null,null,"煙突",null,null,null,false,false,false,false,false,false]
[null,null,"昇降機",null,null,null,"避雷針",null,null,null,"住宅用火災警報器",null,null,null,null,null,null,"自動火災報知機",null,null,null,null,null,null,"消火設備",null,null,null,null,false,false,false,false,false]
[null,null,null,null,null,null,null,null,null,null,null,null,null,null,null,null,null,null,null,null,null,null,null,null,null,null,null,null,null,{"$f":"IF(AD385=TRUE,\"電気、\",\"\")","v":""},{"$f":"IF(AE385=TRUE,\"都市ガス、\",\"\")","v":""},{"$f":"IF(AF385=TRUE,\"LPガス、\",\"\")","v":""},{"$f":"IF(AG385=TRUE,\"給水、\",\"\")","v":""},{"$f":"IF(AH385=TRUE,\"排水、\",\"\")","v":""},{"$f":"IF(AI385=TRUE,\"換気、\",\"\")","v":""}]
[null,"※上記以外の設備（直接入力）",null,null,null,null,null,null,null,null,null,null,null,null,null,null,null,null,null,null,null,null,null,null,null,null,null,null,null,{"$f":"IF(AD386=TRUE,\"暖房、\",\"\")","v":""},{"$f":"IF(AE386=TRUE,\"冷房、\",\"\")","v":""},{"$f":"IF(AF386=TRUE,\"自然排煙設備、\",\"\")","v":""},{"$f":"IF(AG386=TRUE,\"機械換気設備、\",\"\")","v":""},{"$f":"IF(AH386=TRUE,\"浄化槽、\",\"\")","v":""},{"$f":"IF(AI386=TRUE,\"煙突、\",\"\")","v":""}]
[null,null,null,null,null,null,null,null,null,null,null,null,null,null,null,null,null,null,null,null,null,null,null,null,null,null,null,null,null,{"$f":"IF(AD387=TRUE,\"昇降機、\",\"\")","v":""},{"$f":"IF(AE387=TRUE,\"避雷針、\",\"\")","v":""},{"$f":"IF(AF387=TRUE,\"住宅用火災警報器、\",\"\")","v":""},{"$f":"IF(AG387=TRUE,\"自動火災報知器、\",\"\")","v":""},{"$f":"IF(AH387=TRUE,\"消火設備、\",\"\")","v":""},{"$f":"CONCATENATE(AD388,AE388,AF388,AG388,AH388,AI388,AD389,AE389,AF389,AG389,AH389,AI389,AD390,AE390,AF390,AG390,AH390)","v":""}]
["【１１.確認の特例】"]
[null,"【イ.建築基準法第６条の３第１項ただし書又は法第１８条第４項ただし書の規定による"]
[null,null,"審査の特例の適用の有無】",null,null,null,null,null,null,null,null,null,null,null,null,null,null,null,{"$f":"IF(AND(AD393=TRUE,AE393=TRUE),\"注：重複です\",\"\")","v":""},null,null,null,null,"有",null,null,"無",null,null,false,false]
[null,"【ロ.建築基準法第６条の４第１項の規定による確認の特例の適用の有無】",null,null,null,null,null,null,null,null,null,null,null,null,null,null,null,null,null,{"$f":"IF(AND(AD394=TRUE,AE394=TRUE),\"注：重複です\",\"\")","v":""},null,null,null,"有",null,null,"無",null,null,false,false]
[null,"【ハ.建築基準法施行令第１０条各号に掲げる建築物の区分】",null,null,null,null,null,null,null,null,null,null,null,null,null,null,null,{"$f":"IF(AND(AD394=FALSE,AE394=TRUE),\"注：ロが無の場合は記入不要です\",\"\")","v":""}]
[null,null,null,null,null,null,null,null,null,null,null,null,null,null,null,null,null,null,null,null,null,null,null,"第",null,null,"号"]
[null,"【ニ.認定型式の認定番号】",null,null,null,null,null,null,null,null,null,null,null,null,null,null,null,null,"第",null,null,null,null,null,null,null,"号"]
[null,"【ホ.適合する一連の規定の区分】",null,null,null,null,null,null,null,null,null,null,null,null,null,null,"建築基準法施行令第１３６条の２の１１第１号イ",null,null,null,null,null,null,null,null,null,null,null,null,false]
[null,null,null,null,null,null,null,null,null,null,null,null,null,null,null,null,"建築基準法施行令第１３６条の２の１１第１号ロ",null,null,null,null,null,null,null,null,null,null,null,null,false]
[null,"【へ.認証型式部材等の認証番号】"]
[]
["【１２.床面積】",null,null,null,null,null,null,null,null,"（","申請部分",null,null,null,")","（","申請以外の部分",null,null,null,")","（","合計",null,null,null,")"]
[null,"【イ.階別】",null,null,"（",null,null,null,"階）","（",null,null,null,null,")","（",null,null,null,null,")","（",{"$f":"IF(AND(K403=\"\",Q403=\"\"),\"\",ROUND(K403,2)+ROUND(Q403,2))","v":""},null,null,null,")",null,null,null,null,null,null,null,null,null,"←","階数の左の記号は、Fが地上、Bが地下、Pが昇降機塔（PH）です。"]
[null,null,null,null,"（",null,null,null,"階）","（",null,null,null,null,")","（",null,null,null,null,")","（","",null,null,null,")",null,null,null,null,null,null,null,null,null,null,"最上階から順に入力してください。"]
[null,null,null,null,"（",null,null,null,"階）","（",null,null,null,null,")","（",null,null,null,null,")","（","",null,null,null,")"]
[null,null,null,null,"（",null,null,null,"階）","（",null,null,null,null,")","（",null,null,null,null,")","（","",null,null,null,")"]
[null,null,null,null,"（",null,null,null,"階）","（",null,null,null,null,")","（",null,null,null,null,")","（","",null,null,null,")"]
[null,null,null,null,"（",null,null,null,"階）","（",null,null,null,null,")","（",null,null,null,null,")","（","",null,null,null,")"]
[null,"【ロ.合計】",null,null,null,null,null,null,null,"（",{"$f":"ROUND(K403,2)+ROUND(K404,2)+ROUND(K405,2)+ROUND(K406,2)+ROUND(K407,2)+ROUND(K408,2)","v":0},null,null,null,")","（",{"$f":"ROUND(Q403,2)+ROUND(Q404,2)+ROUND(Q405,2)+ROUND(Q406,2)+ROUND(Q407,2)+ROUND(Q408,2)","v":0},null,null,null,")","（",{"$f":"SUM(W403:Z408)","v":0},null,null,null,")"]
[]
["【１３.屋根】"]
[]
[]
["【１４.外壁】"]
[]
[]
["【１５.軒裏】"]
[]
[]
["【１６.居室の床の高さ】"]
[null,null,null,null,"ｍｍ"]
[]
["【１７.便所の種類】"]
[]
[]
["【１８.その他必要な事項】"]
[]
[]
[]
["【１９.備考】"]
[]
[]
[]
[]
["第五面",null,"※階数が5以上、又は第4面「建築物別概要」が2棟以上ある場合は、別シート「☆第五面追加」から作成してください。"]
["…建築物の階別概要①",null,null,null,null,null,null,null,null,null,null,null,null,null,null,null,null,null,null,null,null,null,"☆第五面追加へ"]
["【１.番号】"]
[null,{"$f":"IF(C441=\"\",\"\",1)","v":""}]
[]
["【２.階】"]
[null,null,null,null,"階",null,null,null,null,null,null,null,null,null,null,null,null,null,null,null,null,null,null,null,null,null,null,null,null,null,null,null,null,null,null,null,"←","階数の左の記号は、Fが地上、Bが地下、Pが昇降機塔（PH）です。"]
[]
["【３.柱の小径】"]
[null,null,null,null,"ｍｍ"]
[]
["【４.横架材間の垂直距離】"]
[null,null,null,null,"ｍｍ"]
[]
["【５.階の高さ】"]
[null,null,null,null,"ｍｍ"]
[]
["【６.天井】"]
[null,"【イ.居室の天井の高さ】",null,null,null,null,null,null,null,null,null,null,null,"ｍｍ"]
[null,"【ロ.建築基準法施行令第39条第3項に規定する特定天井】",null,null,null,null,null,null,null,null,null,null,null,null,null,null,null,null,null,"有",null,null,"無",null,{"$f":"IF(AND(AD454=TRUE,AE454=TRUE),\"注：重複です\",\"\")","v":""},null,null,null,null,false,false]
["【７.用途別床面積】"]
[null,null,null,"(","用途の区分",null,null,null,")","(","具体的な用途の名称",null,null,null,null,null,null,")","(","床面積",null,null,null,")"]
[null,"【イ.】",null,"(",null,null,null,null,")","(",null,null,null,null,null,null,null,")","(",null,null,null,null,")",null,null,null,null,null,null,null,null,null,null,null,null,"←","「4面を参照」ボタンをクリックすると第4面に登録した用途を参照します。"]
[null,"【ロ.】",null,"(",null,null,null,null,")","(",null,null,null,null,null,null,null,")","(",null,null,null,null,")",null,null,null,null,null,null,null,null,null,null,null,null,null,"第4面と第5面の内容が一致しない場合は変更してください。"]
[null,"【ハ.】",null,"(",null,null,null,null,")","(",null,null,null,null,null,null,null,")","(",null,null,null,null,")",null,null,null,null,null,null,null,null,null,null,null,null,"←","用途がわからない場合は、「用途確認」ボタンをクリックすると用途確認画面"]
[null,"【ニ.】",null,"(",null,null,null,null,")","(",null,null,null,null,null,null,null,")","(",null,null,null,null,")",null,null,null,null,null,null,null,null,null,null,null,null,null,"が開きます。該当する用途を調べたら、入力シートから選択または入力を"]
[null,"【ホ.】",null,"(",null,null,null,null,")","(",null,null,null,null,null,null,null,")","(",null,null,null,null,")",null,null,null,null,null,null,null,null,null,null,null,null,null,"してください。"]
[null,"【ヘ.】",null,"(",null,null,null,null,")","(",null,null,null,null,null,null,null,")","(",null,null,null,null,")"]
[null,null,null,null,null,null,null,null,""]
["【８.その他必要な事項】"]
[]
[]
[]
["【９.備考】"]
[]
[]
[]
[]
["…建築物の階別概要②（第五面）　",null,null,null,null,null,null,null,null,null,null,null,null,null,null,null,null,null,null,null,null,null,"☆第五面追加へ"]
["【１.番号】"]
[null,{"$f":"IF(C478=\"\",\"\",1)","v":""}]
[]
["【２.階】"]
[null,null,null,null,"階",null,null,null,null,null,null,null,null,null,null,null,null,null,null,null,null,null,null,null,null,null,null,null,null,null,null,null,null,null,null,null,"←","階数の左の記号は、Fが地上、Bが地下、Pが昇降機塔（PH）です。"]
[]
["【３.柱の小径】"]
[null,null,null,null,"ｍｍ"]
[]
["【４.横架材間の垂直距離】"]
[null,null,null,null,"ｍｍ"]
[]
["【５.階の高さ】"]
[null,null,null,null,"ｍｍ"]
[]
["【６.天井】"]
[null,"【イ.居室の天井の高さ】",null,null,null,null,null,null,null,null,null,null,null,"ｍｍ"]
[null,"【ロ.建築基準法施行令第39条第3項に規定する特定天井】",null,null,null,null,null,null,null,null,null,null,null,null,null,null,null,null,null,"有",null,null,"無",null,{"$f":"IF(AND(AD491=TRUE,AE491=TRUE),\"注：重複です\",\"\")","v":""},null,null,null,null,false,false]
[]
["【７.用途別床面積】"]
[null,null,null,"(","用途の区分",null,null,null,")","(","具体的な用途の名称",null,null,null,null,null,null,")","(","床面積",null,null,null,")"]
[null,"【イ.】",null,"(",null,null,null,null,")","(",null,null,null,null,null,null,null,")","(",null,null,null,null,")",null,null,null,null,null,null,null,null,null,null,null,null,"←","「4面を参照」ボタンをクリックすると第4面に登録した用途を参照します。"]
[null,"【ロ.】",null,"(",null,null,null,null,")","(",null,null,null,null,null,null,null,")","(",null,null,null,null,")",null,null,null,null,null,null,null,null,null,null,null,null,null,"第4面と第5面の内容が一致しない場合は変更してください。"]
[null,"【ハ.】",null,"(",null,null,null,null,")","(",null,null,null,null,null,null,null,")","(",null,null,null,null,")",null,null,null,null,null,null,null,null,null,null,null,null,"←","用途がわからない場合は、「用途確認」ボタンをクリックすると用途確認画面"]
[null,"【ニ.】",null,"(",null,null,null,null,")","(",null,null,null,null,null,null,null,")","(",null,null,null,null,")",null,null,null,null,null,null,null,null,null,null,null,null,null,"が開きます。該当する用途を調べたら、入力シートから選択または入力を"]
[null,"【ホ.】",null,"(",null,null,null,null,")","(",null,null,null,null,null,null,null,")","(",null,null,null,null,")",null,null,null,null,null,null,null,null,null,null,null,null,null,"してください。"]
[null,"【ヘ.】",null,"(",null,null,null,null,")","(",null,null,null,null,null,null,null,")","(",null,null,null,null,")"]
[null,null,null,null,null,null,null,null,""]
["【８.その他必要な事項】"]
[]
[]
[]
["【９.備考】"]
[]
[]
[]
[]
["…建築物の階別概要③（第五面）　",null,null,null,null,null,null,null,null,null,null,null,null,null,null,null,null,null,null,null,null,null,"☆第五面追加へ"]
["【１.番号】"]
[null,{"$f":"IF(C516=\"\",\"\",1)","v":""}]
[]
["【２.階】"]
[null,null,null,null,"階",null,null,null,null,null,null,null,null,null,null,null,null,null,null,null,null,null,null,null,null,null,null,null,null,null,null,null,null,null,null,null,"←","階数の左の記号は、Fが地上、Bが地下、Pが昇降機塔（PH）です。"]
[]
["【３.柱の小径】"]
[null,null,null,null,"ｍｍ"]
[]
["【４.横架材間の垂直距離】"]
[null,null,null,null,"ｍｍ"]
[]
["【５.階の高さ】"]
[null,null,null,null,"ｍｍ"]
[]
["【６.天井】"]
[null,"【イ.居室の天井の高さ】",null,null,null,null,null,null,null,null,null,null,null,"ｍｍ"]
[null,"【ロ.建築基準法施行令第39条第3項に規定する特定天井】",null,null,null,null,null,null,null,null,null,null,null,null,null,null,null,null,null,"有",null,null,"無",null,{"$f":"IF(AND(AD529=TRUE,AE529=TRUE),\"注：重複です\",\"\")","v":""},null,null,null,null,false,false]
[]
["【７.用途別床面積】"]
[null,null,null,"(","用途の区分",null,null,null,")","(","具体的な用途の名称",null,null,null,null,null,null,")","(","床面積",null,null,null,")"]
[null,"【イ.】",null,"(",null,null,null,null,")","(",null,null,null,null,null,null,null,")","(",null,null,null,null,")",null,null,null,null,null,null,null,null,null,null,null,null,"←","「4面を参照」ボタンをクリックすると第4面に登録した用途を参照します。"]
[null,"【ロ.】",null,"(",null,null,null,null,")","(",null,null,null,null,null,null,null,")","(",null,null,null,null,")",null,null,null,null,null,null,null,null,null,null,null,null,null,"第4面と第5面の内容が一致しない場合は変更してください。"]
[null,"【ハ.】",null,"(",null,null,null,null,")","(",null,null,null,null,null,null,null,")","(",null,null,null,null,")",null,null,null,null,null,null,null,null,null,null,null,null,"←","用途がわからない場合は、「用途確認」ボタンをクリックすると用途確認画面"]
[null,"【ニ.】",null,"(",null,null,null,null,")","(",null,null,null,null,null,null,null,")","(",null,null,null,null,")",null,null,null,null,null,null,null,null,null,null,null,null,null,"が開きます。該当する用途を調べたら、入力シートから選択または入力を"]
[null,"【ホ.】",null,"(",null,null,null,null,")","(",null,null,null,null,null,null,null,")","(",null,null,null,null,")",null,null,null,null,null,null,null,null,null,null,null,null,null,"してください。"]
[null,"【ヘ.】",null,"(",null,null,null,null,")","(",null,null,null,null,null,null,null,")","(",null,null,null,null,")"]
[null,null,null,null,null,null,null,null,""]
["【８.その他必要な事項】"]
[]
[]
[]
["【９.備考】"]
[]
[]
[]
["…建築物の階別概要④（第五面）　",null,null,null,null,null,null,null,null,null,null,null,null,null,null,null,null,null,null,null,null,null,"☆第五面追加へ"]
["【１.番号】"]
[null,{"$f":"IF(C553=\"\",\"\",1)","v":""}]
[]
["【２.階】"]
[null,null,null,null,"階",null,null,null,null,null,null,null,null,null,null,null,null,null,null,null,null,null,null,null,null,null,null,null,null,null,null,null,null,null,null,null,"←","階数の左の記号は、Fが地上、Bが地下、Pが昇降機塔（PH）です。"]
[]
["【３.柱の小径】"]
[null,null,null,null,"ｍｍ"]
[]
["【４.横架材間の垂直距離】"]
[null,null,null,null,"ｍｍ"]
[]
["【５.階の高さ】"]
[null,null,null,null,"ｍｍ"]
[]
["【６.天井】"]
[null,"【イ.居室の天井の高さ】",null,null,null,null,null,null,null,null,null,null,null,"ｍｍ"]
[null,"【ロ.建築基準法施行令第39条第3項に規定する特定天井】",null,null,null,null,null,null,null,null,null,null,null,null,null,null,null,null,null,"有",null,null,"無",null,{"$f":"IF(AND(AD566=TRUE,AE566=TRUE),\"注：重複です\",\"\")","v":""},null,null,null,null,false,false]
[]
["【７.用途別床面積】"]
[null,null,null,"(","用途の区分",null,null,null,")","(","具体的な用途の名称",null,null,null,null,null,null,")","(","床面積",null,null,null,")"]
[null,"【イ.】",null,"(",null,null,null,null,")","(",null,null,null,null,null,null,null,")","(",null,null,null,null,")",null,null,null,null,null,null,null,null,null,null,null,null,"←","「4面を参照」ボタンをクリックすると第4面に登録した用途を参照します。"]
[null,"【ロ.】",null,"(",null,null,null,null,")","(",null,null,null,null,null,null,null,")","(",null,null,null,null,")",null,null,null,null,null,null,null,null,null,null,null,null,null,"第4面と第5面の内容が一致しない場合は変更してください。"]
[null,"【ハ.】",null,"(",null,null,null,null,")","(",null,null,null,null,null,null,null,")","(",null,null,null,null,")",null,null,null,null,null,null,null,null,null,null,null,null,"←","用途がわからない場合は、「用途確認」ボタンをクリックすると用途確認画面"]
[null,"【ニ.】",null,"(",null,null,null,null,")","(",null,null,null,null,null,null,null,")","(",null,null,null,null,")",null,null,null,null,null,null,null,null,null,null,null,null,null,"が開きます。該当する用途を調べたら、入力シートから選択または入力を"]
[null,"【ホ.】",null,"(",null,null,null,null,")","(",null,null,null,null,null,null,null,")","(",null,null,null,null,")",null,null,null,null,null,null,null,null,null,null,null,null,null,"してください。"]
[null,"【ヘ.】",null,"(",null,null,null,null,")","(",null,null,null,null,null,null,null,")","(",null,null,null,null,")"]
[null,null,null,null,null,null,null,null,""]
["【８.その他必要な事項】"]
[]
[]
[]
["【９.備考】"]
[]
[]
[]
[]
["第六面　建築物独立部分別概要",null,null,null,null,null,null,null,null,"※不足分は別シート「☆第六面追加」から作成してください。",null,null,null,null,null,null,null,null,null,null,null,null,"☆第六面追加へ",null,null,null,null,null,null,null,null,null,null,null,null,null,"←","建築物の2以上の部分がエキスパンションジョイント等の相互に応力を伝えない"]
["【１.番号】",null,null,null,null,null,null,null,"",null,null,null,null,null,null,null,null,null,null,null,null,null,null,null,null,null,null,null,null,null,null,null,null,null,null,null,null,"構造方法のみで接している場合は、それぞれに作成が必要です。→「☆第六面追加」へ"]
[null,null,null,null,null,null,null,null,null,null,null,null,null,null,null,null,null,null,null,null,null,null,null,null,null,null,null,null,null,null,null,null,null,null,null,null,null,"その場合、番号は1-1、1-2というように通し番号になるようにしてください。"]
[null,null,null,null,null,null,null,null,null,null,null,null,null,null,null,null,null,null,null,null,null,null,null,null,null,null,null,null,null,null,null,null,null,null,null,null,"←","「4面を参照」ボタンをクリックすると第4面の入力内容を参照します。"]
["【２.延べ面積】",null,null,null,null,"※建築物の数が１のときは記入不要です。",null,null,null,null,null,null,null,null,null,null,null,null,null,null,null,null,null,null,null,null,null,null,null,null,null,null,null,null,null,null,null,"第4面と第6面の内容が一致しない場合は変更してください。"]
[null,null,null,null,null,"㎡"]
[]
["【３.建築物の高さ等】",null,null,null,null,null,"※建築物の数が１のときは記入不要です。"]
[null,null,null,null,null,null,null,null,null,null,null,"m",null,null,null,null,null,null,null,null,null,null,null,null,null,null,null,null,null,null,null,null,null,null,null,null,"←","高さについて、小数点第4位以下に入力があった場合、入力シートに表示される数字と"]
[null,null,null,null,null,null,null,null,null,null,null,"m",null,null,null,null,null,null,null,null,null,null,null,null,null,null,null,null,null,null,null,null,null,null,null,null,null,"印刷用シート（確認申請書、計画変更、概要書）に出力される数字が異なることがあります。"]
[null,"【ハ.階数】",null,null,null,null,null,null,"地上（",null,null,null,"）","地下（",null,null,null,"）",null,null,null,null,null,null,null,null,null,null,null,null,null,null,null,null,null,null,null,"印刷用シートでは小数点第4位以下を切上げて表示します。"]
[null,"【ニ.構造】",null,null,null,null,null,null,null,null,null,null,null,null,null,"一部"]
[]
["【４.特定構造計算基準又は特定増改築構造計算基準の別】"]
[null,null,"特定構造計算基準",null,null,null,null,null,null,null,null,null,null,null,null,null,null,null,null,null,null,null,null,null,null,null,null,null,null,false]
[null,null,"特定増改築構造計算基準",null,null,null,null,null,null,null,null,null,null,null,null,null,null,null,null,null,null,null,null,null,null,null,null,null,null,false]
[]
["【５.構造計算の区分】"]
[null,null,"建築基準法施行令第８１条第１項各号に掲げる基準に従つた構造計算",null,null,null,null,null,null,null,null,null,null,null,null,null,null,null,null,null,null,null,null,null,null,null,null,null,null,false]
[null,null,"建築基準法施行令第８１条第２項第１号イに掲げる構造計算",null,null,null,null,null,null,null,null,null,null,null,null,null,null,null,null,null,null,null,null,null,null,null,null,null,null,false]
[null,null,"建築基準法施行令第８１条第２項第１号ロに掲げる構造計算",null,null,null,null,null,null,null,null,null,null,null,null,null,null,null,null,null,null,null,null,null,null,null,null,null,null,false]
[null,null,"建築基準法施行令第８１条第２項第２号イに掲げる構造計算",null,null,null,null,null,null,null,null,null,null,null,null,null,null,null,null,null,null,null,null,null,null,null,null,null,null,false]
[null,null,"建築基準法施行令第８１条第３項に掲げる構造計算",null,null,null,null,null,null,null,null,null,null,null,null,null,null,null,null,null,null,null,null,null,null,null,null,null,null,false]
[]
["【６.構造計算に用いたプログラム】"]
[null,"【イ.名称】"]
[null,"【ロ.区分】"]
[null,null,null,"建築基準法第２０条第１項第２号イ又は第３号イの認定を受けたプログラム",null,null,null,null,null,null,null,null,null,null,null,null,null,null,null,null,null,null,null,null,null,null,null,null,null,false]
[null,null,null,"(大臣認定番号",null,null,null,null,null,null,null,null,null,null,null,")"]
[null,null,null,"その他のプログラム",null,null,null,null,null,null,null,null,null,null,null,null,null,null,null,null,null,null,null,null,null,null,null,null,null,false]
[]
["【７.建築基準法施行令第１３７条の２各号に定める基準の区分】"]
[null,null,"(",null,null,null,null,null,null,null,")"]
[]
["【８.備考】"]
[]
[]
[]
[]
[]
["◆工事届"]
["第一面"]
["【申請先】"]
[]
[]
["【申請日】"]
[null,null,"令和",{"$f":"IF(K8=\"\",\"\",K8)","v":""},"年",{"$f":"IF(M8=\"\",\"\",M8)","v":""},"月",{"$f":"IF(O8=\"\",\"\",O8)","v":""},"日"]
[]
["【建築主】"]
[null,"氏名",null,null,{"$f":"I23","v":0}]
[null,null,null,null,{"$f":"I24","v":0}]
[null,"郵便番号",null,null,{"$f":"I25","v":0}]
[null,"住所",null,null,{"$f":"I26","v":0}]
[null,"電話番号",null,null,{"$f":"I27","v":0}]
[]
["【工事施工者（設計者又は代理者）】"]
[null,null,null,null,null,null,null,null,null,null,null,null,null,null,null,null,null,null,null,null,null,null,null,null,null,null,null,null,null,null,null,null,null,null,null,null,"←","「代理者」、「設計者」、「工事施工者」の各ボタンをクリックすると確認申請書"]
[null,"氏名",null,null,null,null,null,null,null,null,null,null,null,null,null,null,null,null,null,null,null,null,null,null,null,null,null,null,null,null,null,null,null,null,null,null,null,"第2面に入力した内容をコピーします。"]
[null,"営業所名（建築士事務所名）"]
[]
[null,"郵便番号"]
[null,"所在地"]
[null,"電話番号"]
[]
["【工事監理者】"]
[null,"氏名",null,null,{"$f":"I143","v":0}]
[null,"営業所名（建築士事務所名）"]
[null,null,null,null,{"$f":"I145","v":0}]
[null,"郵便番号",null,null,{"$f":"I146","v":0}]
[null,"所在地",null,null,{"$f":"I147","v":0}]
[null,"電話番号",null,null,{"$f":"I148","v":0}]
[]
["【建築確認】"]
[null,"確認済証番号",null,null,null,null,null,null,"第  ",null,null,null,null,null,null,null,null,null,null,"号"]
[null,"確認済証交付年月日",null,null,null,null,null,null,"令和",null,"年",null,"月",null,"日"]
[null,"確認済証交付者"]
[]
["【除却工事施工者】",null,null,null,null,null,"※該当する場合のみ"]
[null,"氏名"]
[null,"営業所名"]
[null,"郵便番号"]
[null,"所在地"]
[null,"電話番号"]
[]
[]
["第二面"]
["【1.着工及び工事完了の予定期日】"]
[null,"【イ.着工予定期日】",null,null,null,null,"令和",{"$f":"IF(K318=\"\",\"\",K318)","v":""},"年",{"$f":"IF(M318=\"\",\"\",M318)","v":""},"月",{"$f":"IF(O318=\"\",\"\",O318)","v":""},"日から"]
[null,"【ロ.工事完了予定期日】",null,null,null,null,"令和",{"$f":"IF(K321=\"\",\"\",K321)","v":""},"年",{"$f":"IF(M321=\"\",\"\",M321)","v":""},"月",{"$f":"IF(O321=\"\",\"\",O321)","v":""},"日まで"]
[]
["【2.建築主】"]
[null,"【イ.建築主の種別】",null,null,null,"　","(1) 国",null,null,"　","(2) 都道府県",null,null,null,null,"　","(3) 市区町村",null,null,null,null,"　","(4) 会社",null,null,null,null,null,null,false,false,false,false]
[null,null,null,null,null,"　","(5) 会社でない団体",null,null,null,null,null,null,null,"　","(6) 個人",null,null,null,null,null,null,null,null,null,null,null,null,null,false,false]
[null,"【ロ.資本の額又は出資の総額】"]
[null,null,null,null,null,"　","(1)１，０００万円以下",null,null,null,null,null,null,null,null,null,null,null,null,null,null,null,null,null,null,null,null,null,null,false]
[null,null,null,null,null,"　","(2)１，０００万円超～３，０００万円以下",null,null,null,null,null,null,null,null,null,null,null,null,null,null,null,null,null,null,null,null,null,null,false]
[null,null,null,null,null,"　","(3)３，０００万円超～１億円以下",null,null,null,null,null,null,null,null,null,null,null,null,null,null,null,null,null,null,null,null,null,null,false]
[null,null,null,null,null,"　","(4)１億円超～１０億円以下",null,null,null,null,null,null,null,null,null,null,null,null,null,null,null,null,null,null,null,null,null,null,false]
[null,null,null,null,null,"　","(5)１０億円超",null,null,null,null,null,null,null,null,null,null,null,null,null,null,null,null,null,null,null,null,null,null,false]
[]
["【3.敷地の位置】"]
[null,"【イ.地名地番】",null,null,null,null,{"$f":"IF(B228=\"\",\"\",B228)","v":""}]
[]
[]
[]
[null,"【ロ.都市計画】",null,null,null,null,{"$f":"IF(AE237=TRUE,\"■\",IF(AE237=FALSE,\"□\"))","v":"□"},"(1) 市街化区域",null,null,null,null,null,{"$f":"IF(AF237=TRUE,\"■\",IF(AF237=FALSE,\"□\"))","v":"□"},"(2) 市街化調整区域"]
[null,null,null,null,null,null,{"$f":"IF(AG237=TRUE,\"■\",IF(AG237=FALSE,\"□\"))","v":"□"},"(3) 区域区分非設定都市計画区域",null,null,null,null,null,null,null,null,null,{"$f":"IF(AD238=TRUE,\"■\",IF(AD238=FALSE,\"□\"))","v":"□"},"(4) 準都市計画区域"]
[null,null,null,null,null,null,{"$f":"IF(AE238=TRUE,\"■\",IF(AE238=FALSE,\"□\"))","v":"□"},"(5) 都市計画区域及び準都市計画区域外"]
[]
["【4.工事種別】",null,null,null,null,{"$f":"IF(AD270=TRUE,\"■\",IF(AD270=FALSE,\"□\"))","v":"□"},"(1) 新築",null,null,null,{"$f":"IF(AE270=TRUE,\"■\",IF(AE270=FALSE,\"□\"))","v":"□"},"(2) 増築",null,null,null,{"$f":"IF(AF270=TRUE,\"■\",IF(AF270=FALSE,\"□\"))","v":"□"},"(3) 改築",null,null,null,{"$f":"IF(AG270=TRUE,\"■\",IF(AG270=FALSE,\"□\"))","v":"□"},"(4) 移転"]
[]
["【5.主要用途】"]
[null,null,null,null,null,"　","(1) 居住専用建築物",null,null,null,null,null,null,"（",null,null,"）"]
[null,null,null,null,null,"　","(2) 居住産業併用建築物",null,null,null,null,null,null,"（",null,null,"）"]
[null,null,null,null,null,"　","(3) 産業専用建築物",null,null,null,null,null,null,"（",null,null,"）"]
[]
["【6.一の建築物ごとの内容】"]
[null,"【イ.番号】",null,null,null,null,null,"（",null,null,null,null,null,")","（",null,null,null,null,null,")","（",null,null,null,null,null,")"]
[null,"【ロ.用途】",null,null,null,null,null,"　","(1)","事務所等",null,null,null,null,"　","(1)","事務所等",null,null,null,null,"　","(1)","事務所等",null,null,null,null,null,false,false,false]
[null,null,null,null,null,null,null,"　","(2)","物品販売業を営",null,null,null,null,"　","(2)","物品販売業を営",null,null,null,null,"　","(2)","物品販売業を営",null,null,null,null,null,false,false,false]
[null,null,null,null,null,null,null,null,null,"む店舗等",null,null,null,null,null,null,"む店舗等",null,null,null,null,null,null,"む店舗等"]
[null,null,null,null,null,null,null,"　","(3)","工場、作業場",null,null,null,null,"　","(3)","工場、作業場",null,null,null,null,"　","(3)","工場、作業場",null,null,null,null,null,false,false,false]
[null,null,null,null,null,null,null,"　","(4)","倉庫",null,null,null,null,"　","(4)","倉庫",null,null,null,null,"　","(4)","倉庫",null,null,null,null,null,false,false,false]
[null,null,null,null,null,null,null,"　","(5)","学校",null,null,null,null,"　","(5)","学校",null,null,null,null,"　","(5)","学校",null,null,null,null,null,false,false,false]
[null,null,null,null,null,null,null,"　","(6)","病院、診療所",null,null,null,null,"　","(6)","病院、診療所",null,null,null,null,"　","(6)","病院、診療所",null,null,null,null,null,false,false,false]
[null,null,null,null,null,null,null,"　","(9)","その他",null,null,null,null,"　","(9)","その他",null,null,null,null,"　","(9)","その他",null,null,null,null,null,false,false,false]
[null,null,null,null,null,null,null,null,"多用途",null,null,null,null,null,null,"多用途",null,null,null,null,null,null,"多用途",null,null,null,null,null,null,false,false,false]
[null,"【ハ.工事部分の構造】",null,null,null,null,null,"　","(1)","木造",null,null,null,null,"　","(1)","木造",null,null,null,null,"　","(1)","木造",null,null,null,null,null,false,false,false]
[null,null,null,null,null,null,null,"　","(2)","鉄骨鉄筋コンク",null,null,null,null,"　","(2)","鉄骨鉄筋コンク",null,null,null,null,"　","(2)","鉄骨鉄筋コンク",null,null,null,null,null,false,false,false]
[null,null,null,null,null,null,null,null,null,"リート造",null,null,null,null,null,null,"リート造",null,null,null,null,null,null,"リート造"]
[null,null,null,null,null,null,null,"　","(3)","鉄筋コンクリー",null,null,null,null,"　","(3)","鉄筋コンクリー",null,null,null,null,"　","(3)","鉄筋コンクリー",null,null,null,null,null,false,false,false]
[null,null,null,null,null,null,null,null,null,"ト造",null,null,null,null,null,null,"ト造",null,null,null,null,null,null,"ト造"]
[null,null,null,null,null,null,null,"　","(4)","鉄骨造",null,null,null,null,"　","(4)","鉄骨造",null,null,null,null,"　","(4)","鉄骨造",null,null,null,null,null,false,false,false]
[null,null,null,null,null,null,null,"　","(5)","コンクリートブ",null,null,null,null,"　","(5)","コンクリートブ",null,null,null,null,"　","(5)","コンクリートブ",null,null,null,null,null,false,false,false]
[null,null,null,null,null,null,null,null,null,"ロック造",null,null,null,null,null,null,"ロック造",null,null,null,null,null,null,"ロック造"]
[null,null,null,null,null,null,null,"　","(6)","その他",null,null,null,null,"　","(6)","その他",null,null,null,null,"　","(6)","その他",null,null,null,null,null,false,false,false]
[null,"【二.工事の予定期間】",null,null,null,null,null,"（",null,null,null,"月間）",null,null,"（",null,null,null,"月間）",null,null,"（",null,null,null,"月間）"]
[null,"【ホ.工事部分の"]
[null,null,"　床面積の合計】",null,null,null,null,"（",null,null,null,null,null,")","（",null,null,null,null,null,")","（",null,null,null,null,null,")"]
[null,"【へ.建築工事費予定額】 ※単位：万円"]
[null,null,null,null,null,null,null,"（",null,null,null,null,null,")","（",null,null,null,null,null,")","（",null,null,null,null,null,")"]
[null,"【ト.地上の階数（新築の場合）】",null,null,null,null,null,"（",{"$f":"IF(K375=\"\",\"\",K375)","v":""},null,null,null,null,")","（",null,null,null,null,null,")","（",null,null,null,null,null,")"]
[null,"【チ.地下の階数（新築の場合）】",null,null,null,null,null,"（",{"$f":"IF(K376=\"\",\"\",K376)","v":""},null,null,null,null,")","（",null,null,null,null,null,")","（",null,null,null,null,null,")"]
[]
["【７．新築工事の場合における敷地面積】",null,null,null,null,null,null,null,null,null,null,null,null,""]
[null,null,null,null,null,null,null,null,null,null,{"$f":"IF(AD270=TRUE,K259,\"\")","v":""},null,null,null,null,"㎡"]
[]
[]
["（第三面）"]
["【1.住宅部分の概要】"]
[null,"【イ.番号】"]
[null,"【ロ.新設又はその他の別】",null,null,null,null,null,null,null,"(1)新設",null,"（","　","新築",null,null,"　","増築",null,null,"　","改築",null,null,")",null,null,null,null,false,false,false]
[null,null,null,null,null,null,null,null,null,"(2)その他",null,"（",null,null,null,null,"　","増築",null,null,"　","改築",null,null,")",null,null,null,null,false,false]
[null,"【ハ.新設受託の資金】",null,null,null,null,"　","(1)民間資金住宅",null,null,null,"　","(2)公営住宅",null,null,"　","(3)住宅金融支援機構住宅",null,null,null,null,null,null,null,null,null,null,null,null,false,false,false]
[null,null,null,null,null,null,"　","(4)都市再生機構住宅",null,null,null,null,null,null,null,"　","(5)その他",null,null,null,null,null,null,null,null,null,null,null,null,false,false]
[null,"【ニ.住宅の建築工法】",null,null,null,null,"　","(1)在来工法",null,null,null,null,"　","(2) プレハブ工法",null,null,null,null,null,"　","(3) 枠組壁工法",null,null,null,null,null,null,null,null,false,false,false]
[null,"【ホ.住宅の種類】",null,null,null,null,"　","(1)専用住宅",null,null,null,"(",null,"(2)併用住宅",null,null,null,"　","(3)その他の住宅",null,null,null,"　",null,null,null,null,null,null,false,false,false]
[null,"【へ.住宅の建て方】",null,null,null,null,"　","(1)一戸建住宅",null,null,null,"(","　","(2)長屋建住宅",null,null,null,"　","(3)共同住宅)",null,null,null,"　",null,null,null,null,null,null,false,false,false]
[null,"【ト.利用関係】",null,null,null,null,"（","　","(1)持家",null,null,")( ","　","(2)貸家",null,null,")( ","　","(3)給与住宅",null,null,")( ","　","(4)分譲住宅",null,null,")",null,null,false,false,false,false]
[null,"【チ.住宅の戸数】",null,null,null,null,"（",null,null,null,null,")( ",null,null,null,null,")( ",null,null,null,null,")( ",null,null,null,null,")"]
[null,"【リ.工事部分の",null,null,null,null,"（",null,null,null,null,")( ",null,null,null,null,")( ",null,null,null,null,")( ",null,null,null,null,")"]
[null,null," 床面積の合計】"]
[]
["（第四面）"]
["【1.主要用途】",null,null,null,null,null,"(1) 居住専用建築物",null,null,null,null,null,null,"（",null,null,"）",null,null,null,null,null,null,null,null,null,null,null,null,false]
[null,null,null,null,null,null,"(2) 居住産業併用建築物",null,null,null,null,null,null,"（",null,null,"）",null,null,null,null,null,null,null,null,null,null,null,null,false]
[null,null,null,null,null,null,"(3) 産業専用建築物",null,null,null,null,null,null,"（",null,null,"）",null,null,null,null,null,null,null,null,null,null,null,null,false]
["【2.除却原因】",null,null,null,null,null,"(1) 老朽して危険があるため",null,null,null,null,null,null,null,null,null,null,"(2) その他",null,null,null,null,null,null,null,null,null,null,null,false,false]
["【3.構造】",null,null,null,null,null,"(1) 木造",null,null,null,null,null,null,null,null,null,null,"(2) その他",null,null,null,null,null,null,null,null,null,null,null,false,false]
["【4.建築物の数】"]
["【5.住宅の戸数】",null,null,null,null,null,null,null,null,null,null,"戸"]
["【6.住宅の利用関係】",null,null,null,null,null,null,null,"(1) 持家",null,null,null,"(2) 貸家",null,null,null,"(3) 給与住宅",null,null,null,null,null,null,null,null,null,null,null,null,false,false,false]
["【7.建築物の床面積の合計】",null,null,null,null,null,null,null,null,null,null,"㎡"]
["【8.建築物の評価額】",null,null,null,null,null,null,null,null,null,null,"千円"]
[]
[]
["（別紙）　追加の建築主　　※建築主が連名の場合のみ記入"]
["建築主"]
[null,"氏名",null,null,null,null,null,{"$f":"IF(I203=\"\",\"\",I203)","v":""},null,null,null,null,null,null,null,null,null,null,null,null,null,null,null,null,"印"]
[null,null,null,null,null,null,null,{"$f":"IF(I204=\"\",\"\",I204)","v":""}]
[null,"郵便番号",null,null,null,null,null,{"$f":"IF(I205=\"\",\"\",I205)","v":""}]
[null,"住所",null,null,null,null,null,{"$f":"IF(I206=\"\",\"\",I206)","v":""}]
[null,"電話番号",null,null,null,null,null,{"$f":"IF(I207=\"\",\"\",I207)","v":""}]
[]
["建築主"]
[null,"氏名",null,null,null,null,null,{"$f":"IF(I211=\"\",\"\",I211)","v":""},null,null,null,null,null,null,null,null,null,null,null,null,null,null,null,null,"印"]
[null,null,null,null,null,null,null,{"$f":"IF(I212=\"\",\"\",I212)","v":""}]
[null,"郵便番号",null,null,null,null,null,{"$f":"IF(I213=\"\",\"\",I213)","v":""}]
[null,"住所",null,null,null,null,null,{"$f":"IF(I214=\"\",\"\",I214)","v":""}]
[null,"電話番号",null,null,null,null,null,{"$f":"IF(I215=\"\",\"\",I215)","v":""}]
[]
["建築主"]
[null,"氏名",null,null,null,null,null,{"$f":"IF(I219=\"\",\"\",I219)","v":""},null,null,null,null,null,null,null,null,null,null,null,null,null,null,null,null,"印"]
[null,null,null,null,null,null,null,{"$f":"IF(I220=\"\",\"\",I220)","v":""}]
[null,"郵便番号",null,null,null,null,null,{"$f":"IF(I221=\"\",\"\",I221)","v":""}]
[null,"住所",null,null,null,null,null,{"$f":"IF(I222=\"\",\"\",I222)","v":""}]
[null,"電話番号",null,null,null,null,null,{"$f":"IF(I223=\"\",\"\",I223)","v":""}]

{"sheet":"入力シート（中間・完了）","index":2,"n_rows":162,"n_cols":31,"rows_kept":162,"cut":false,"hidden":false,"merged":[[141,8,141,26],[144,1,145,26],[129,10,129,26],[159,20,159,24],[158,0,158,4],[158,5,158,8],[3,11,3,13],[2,11,2,13],[158,20,158,24],[157,0,157,4],[157,5,157,8],[157,9,157,13],[157,14,157,16],[157,17,157,19],[157,20,157,24],[2,5,2,7],[2,1,2,2],[57,10,58,26],[125,22,125,23],[126,10,127,26],[128,10,128,26],[132,11,132,12],[132,22,132,23],[85,8,85,15],[86,8,86,15],[140,11,140,26],[107,20,107,25],[122,10,122,13],[34,20,34,25],[83,8,83,21],[84,8,84,21],[137,10,137,11],[59,10,59,26],[60,10,60,26],[71,8,71,26],[70,11,70,26],[136,10,136,26],[125,11,125,12],[74,1,75,26],[65,10,66,26],[64,11,64,12],[56,11,56,12],[130,10,130,11],[133,10,134,26],[135,10,135,26],[61,10,61,11],[116,9,116,10],[161,0,161,4],[161,5,161,8],[161,9,161,13],[161,14,161,16],[161,17,161,19],[161,20,161,24],[160,0,160,4],[160,5,160,8],[160,9,160,13],[160,14,160,16],[160,17,160,19],[160,20,160,24],[159,0,159,4],[159,5,159,8],[159,9,159,13],[159,14,159,16],[156,0,156,4],[156,5,156,8],[156,9,156,13],[156,14,156,16],[156,17,156,19],[158,9,158,13],[158,14,158,16],[158,17,158,19],[159,17,159,19],[156,20,156,24],[155,0,155,4],[155,5,155,8],[155,9,155,13],[155,14,155,16],[155,17,155,19],[155,20,155,24],[154,14,154,16],[154,17,154,19],[154,20,154,24],[151,20,151,24],[151,25,151,27],[152,25,152,27],[153,0,153,4],[153,5,153,8],[153,9,153,13],[153,14,153,16],[153,17,153,19],[153,20,153,24],[153,25,153,27],[152,0,152,4],[152,5,152,8],[152,9,152,13],[152,14,152,16],[152,17,152,19],[152,20,152,24],[161,25,161,27],[155,25,155,27],[156,25,156,27],[157,25,157,27],[150,0,150,4],[53,10,53,13],[158,25,158,27],[159,25,159,27],[160,25,160,27],[154,25,154,27],[150,5,150,8],[150,9,150,13],[150,14,150,16],[150,17,150,19],[150,20,150,24],[150,25,150,27],[151,0,151,4],[151,5,151,8],[151,9,151,13],[151,14,151,16],[151,17,151,19],[154,0,154,4],[154,5,154,8],[154,9,154,13],[0,22,0,27],[0,14,0,21],[11,8,11,21],[0,0,0,3],[10,8,10,21],[1,17,1,22],[1,23,1,25],[56,22,56,23],[2,3,2,4],[1,14,1,15],[2,14,2,15],[43,9,43,10],[50,10,51,26],[1,11,1,13],[12,8,12,15],[13,8,13,15],[3,14,3,27],[1,9,3,10]]}
["入力シート",null,null,null,null,null,null,null,null,null,null,null,null,null,"入力シート（確認・工事届）へ",null,null,null,null,null,null,null,"シート構成に戻る"]
[null,null,null,null,null,null,null,null,null,"確認\n情報",null,"番号",null,null,"第Ｒ",null,null,"確認建築愛建住セ",null,null,null,null,null,null,null,null,"号"]
[null,"中間",null,"完了",null,"第四面",null,null,null,null,null,"交付日",null,null,"令和",null,null,"年",null,"月",null,"日"]
[null,null,null,null,null,null,null,null,null,null,null,"交付者",null,null,{"$f":"IF(OR(Q3=\"\",S3=\"\",U3=\"\"),\"\",\"一般財団法人愛知県建築住宅センター　理事長　海田　肇\")","v":""}]
["◆中間検査申請書（第一面～第三面）"]
["第一面"]
[]
["【検査希望日】",null,null,null,null,null,null,null,"令和",null,null,"年",null,"月",null,"日"]
["【担当者】"]
["※","検査立会者の情報を記入してください。"]
[null,"【会社名】"]
[null,"【氏名】"]
[null,"【連絡先（会社）】"]
[null,"【連絡先（携帯）】"]
[]
[]
["【申請日】",null,null,null,null,null,null,null,"令和",null,null,"年",null,"月",null,"日"]
["【申請者氏名】"]
["※","申請者氏名は、シート「入力シート（確認・工事届）」のデータを使用します。"]
[null,"変更がある場合はシート「入力シート（確認・工事届）」を修正してください。"]
[]
["第二面　建築主等の概要"]
["※","建築主等の概要は、シート「入力シート（確認・工事届）」のデータを使用します。"]
[null,"変更がある場合はシート「入力シート（確認・工事届）」を修正してください。連名の場合も同様です。"]
[]
["第三面　建築物及びその敷地に関する事項"]
["【１.建築場所】"]
["※","地名地番及び住居表示は、シート「入力シート（確認・工事届）」のデータを使用します。"]
[null,"変更がある場合はシート「入力シート（確認・工事届）」を修正してください。"]
["【２.工事種別】"]
[null,"【イ．建築基準法施行令第10条各号に掲げる建築物の区分】"]
[null,"【ロ．工事種別】"]
[null,"※","検査の特例の区分及び工事種別は、シート「入力シート（確認・工事届）」のデータを使用します。"]
[null,null,"変更がある場合はシート「入力シート（確認・工事届）」を修正してください。"]
[null,"【ハ．建築基準法第68条の20第２項の検査の特例に係る認証番号】",null,null,null,null,null,null,null,null,null,null,null,null,null,null,null,null,null,"第",null,null,null,null,null,null,"号"]
[]
["【３．確認済証番号】"]
["※","確認済証番号は、シート上部の確認情報を入力してください。"]
["【４．確認済証交付年月日】"]
["※","確認済証交付年月日は、シート上部の確認情報を入力してください。"]
["【５．確認済証交付者】"]
["※","確認済証交付者は、シート上部の確認情報を入力してください。"]
["【６．工事着手年月日】"]
[null,null,null,null,null,null,null,null,null,"令和",null,null,"年",null,"月",null,"日",null,null,null,null,null,null,null,null,null,null,null,null,"←","工事着手が令和元年5月1日以前の場合は平成を選択してください。"]
[]
["【７．工事完了予定年月日】",null,null,null,null,null,null,null,null,null,{"$f":"IF(OR(L44=\"\",N44=\"\",P44=\"\",L47=\"\",N47=\"\",P47=\"\"),\"\",IF((L44*10000+N44*100+P44)>(L47*10000+N47*100+P47),\"注：工事着手日以後の日付としてください\",\"\"))","v":""}]
[null,null,null,null,null,null,null,null,null,null,"令和",null,"年",null,"月",null,"日"]
[]
["【８．特定工程】"]
[null,"【イ．特定工程】"]
[]
[]
[null,"【ロ．特定工程工事終了(予定)年月日】",null,null,null,null,null,null,null,null,"令和",null,"年",null,"月",null,"日"]
[null,"【ハ．検査対象床面積】",null,null,null,null,null,null,null,null,null,null,null,null,null,null,null,{"$f":"IF(OR(L47=\"\",N47=\"\",P47=\"\",L53=\"\",N53=\"\",P53=\"\"),\"\",IF((L47*10000+N47*100+P47)<(L53*10000+N53*100+P53),\"注：工事完了予定日以前の日付としてください\",\"\"))","v":""}]
[]
["【９．今回申請以前の中間検査】　※複数工程がある場合のみ入力します。"]
[null,null,null,null,null,null,null,null,null,null,"第",null,null,"回",null,null,null,null,null,null,null,null,null,null,null,null,null,null,null,"←","今回申請以前の中間検査の回数を入力してください。"]
[null,"【イ．特定工程】",null,null,null,null,null,null,null,null,null,null,null,null,null,null,null,null,null,null,null,null,null,null,null,null,null,null,null,null,"例：今回の申請が3回目の中間検査の場合は第2回となります。"]
[]
[null,"【ロ．中間検査合格証交付者】",null,null,null,null,null,null,null,null,{"$f":"IF(OR(L57=\"\",K58=\"\"),\"\",\"一般財団法人愛知県建築住宅センター　理事長　海田　肇\")","v":""}]
[null,"【ハ．中間検査合格証番号】",null,null,null,null,null,null,null,null,{"$f":"IF(OR(L57=\"\",K58=\"\"),\"\",IF(AND((L57=1),NOT(K58=\"\")),O2&Q2&\"確合建築愛建住セ\"&X2&\"号\",IF(AND((L57>=2),NOT(K58=\"\")),O2&Q2&\"確合建築愛建住セ\"&X2&\"-\"&L57&\"号\")))","v":""}]
[null,"【ニ．交付年月日】",null,null,null,null,null,null,null,null,"令和",null,null,"年",null,"月",null,"日",null,null,null,null,null,null,null,null,null,null,null,"←","今回以前の中間検査合格日が令和元年5月1日以前の場合は平成を選択してください。"]
[]
["【１０．今回申請以降の中間検査】　※複数工程がある場合のみ入力します。"]
[null,null,null,null,null,null,null,null,null,null,"第",null,null,"回",null,null,null,null,null,null,null,null,null,null,null,null,null,null,null,"←","今回申請以降の中間検査の回数を入力してください。"]
[null,"【イ．特定工程】",null,null,null,null,null,null,null,null,null,null,null,null,null,null,null,null,null,null,null,null,null,null,null,null,null,null,null,null,"例：今回の申請が3回目の中間検査の場合は第4回となります。"]
[]
[null,"【ロ．特定工程工事終了予定年月日】",null,null,null,null,null,null,null,null,"令和",null,null,"年",null,"月",null,"日"]
[]
["【１１.確認以降の軽微な変更の概要】"]
[null,"【イ．","変更された設計図書の種類】"]
[null,"【ロ．","変更の概要】"]
[]
["【１２.備考】"]
[]
[]
[]
["◆完了検査申請書（第一面～第三面）"]
["第一面"]
[]
["【検査希望日】",null,null,null,null,null,null,null,"令和",null,null,"年",null,"月",null,"日"]
["【担当者】"]
["※","検査立会者の情報を記入してください。"]
[null,"【会社名】"]
[null,"【氏名】"]
[null,"【連絡先（会社）】"]
[null,"【連絡先（携帯）】"]
[]
[]
["【申請日】",null,null,null,null,null,null,null,"令和",null,null,"年",null,"月",null,"日"]
["【申請者氏名】"]
["※","申請者氏名は、シート「入力シート（確認・工事届）」のデータを使用します。"]
[null,"変更がある場合はシート「入力シート（確認・工事届）」を修正してください。"]
[]
["第二面　建築主等の概要"]
["※","建築主等の概要は、シート「入力シート（確認・工事届）」のデータを使用します。"]
[null,"変更がある場合はシート「入力シート（確認・工事届）」を修正してください。連名の場合も同様です。"]
[]
["第三面　建築物及びその敷地に関する事項"]
["【１.建築場所】"]
["※","地名地番及び住居表示は、シート「入力シート（確認・工事届）」のデータを使用します。"]
[null,"変更がある場合はシート「入力シート（確認・工事届）」を修正してください。"]
["【２.工事種別】"]
[null,"【イ．建築基準法施行令第10条各号に掲げる建築物の区分】"]
[null,"【ロ．工事種別】"]
[null,"※","検査の特例の区分及び工事種別は、シート「入力シート（確認・工事届）」のデータを使用します。"]
[null,null,"変更がある場合はシート「入力シート（確認・工事届）」を修正してください。"]
[null,"【ハ．建築基準法第68条の20第２項の検査の特例に係る認証番号】",null,null,null,null,null,null,null,null,null,null,null,null,null,null,null,null,null,"第",null,null,null,null,null,null,"号"]
[]
["【３．確認済証番号】"]
["※","確認済証番号は、シート上部の確認情報を入力してください。"]
["【４．確認済証交付年月日】"]
["※","確認済証交付年月日は、シート上部の確認情報を入力してください。"]
["【５．確認済証交付者】"]
["※","確認済証交付者は、シート上部の確認情報を入力してください。"]
["【６．工事着手年月日】"]
[null,null,null,null,null,null,null,null,null,"令和",null,null,"年",null,"月",null,"日",null,null,null,null,null,null,null,null,null,null,null,null,"←","工事着手が令和元年5月1日以前の場合は平成を選択してください。"]
[]
["【７．工事完了(予定)年月日】"]
[null,null,null,null,null,null,null,null,null,null,"令和",null,"年",null,"月",null,"日"]
[]
["【８．検査対象床面積】"]
[null,null,null,null,null,null,null,null,null,null,{"$f":"IF('入力シート（確認・工事届）'!K277=\"\",\"\",'入力シート（確認・工事届）'!K277:N277)","v":""}]
[]
["【９．検査経過】　※愛知県は特定工程の指定は1回だけとなります。"]
[null,null,null,null,null,null,null,null,null,null,"第",{"$f":"IF(K127=\"\",\"\",\"1\")","v":""},null,"回"]
[null,"【イ．特定工程】"]
[]
[null,"【ロ．中間検査合格証交付者】",null,null,null,null,null,null,null,null,{"$f":"IF(OR(L126=\"\",K127=\"\"),\"\",\"一般財団法人愛知県建築住宅センター　理事長　祖父江　隆弘\")","v":""},null,null,null,null,null,null,null,null,null,null,null,null,null,null,null,null,null,null,"←","特定工程と交付年月日を入れると表示されます。"]
[null,"【ハ．中間検査合格証番号】",null,null,null,null,null,null,null,null,{"$f":"IF(OR(K127=\"\",Q2=\"\",X2=\"\"),\"\",O2&Q2&\"確合建築愛建住セ\"&X2&\"号\")","v":""},null,null,null,null,null,null,null,null,null,null,null,null,null,null,null,null,null,null,"←","シート上部の確認番号を入れてください。"]
[null,"【ニ．交付年月日】",null,null,null,null,null,null,null,null,"令和",null,null,"年",null,"月",null,"日",null,null,null,null,null,null,null,null,null,null,null,"←","中間検査合格日が令和元年5月1日以前の場合は平成を選択してください。"]
[]
[null,null,null,null,null,null,null,null,null,null,"第",{"$f":"IF(K134=\"\",\"\",\"2\")","v":""},null,"回"]
[null,"【イ．特定工程】"]
[]
[null,"【ロ．中間検査合格証交付者】",null,null,null,null,null,null,null,null,{"$f":"IF(OR(L133=\"\",K134=\"\"),\"\",\"一般財団法人愛知県建築住宅センター　理事長　祖父江　隆弘\")","v":""},null,null,null,null,null,null,null,null,null,null,null,null,null,null,null,null,null,null,"←","特定工程と交付年月日を入れると表示されます。"]
[null,"【ハ．中間検査合格証番号】",null,null,null,null,null,null,null,null,{"$f":"IF(OR(K134=\"\",Q2=\"\",X2=\"\"),\"\",O2&Q2&\"確合建築愛建住セ\"&X2&\"-\"&L133&\"号\")","v":""},null,null,null,null,null,null,null,null,null,null,null,null,null,null,null,null,null,null,"←","シート上部の確認番号を入れてください。"]
[null,"【ニ．交付年月日】",null,null,null,null,null,null,null,null,"令和",null,null,"年",null,"月",null,"日",null,null,null,null,null,null,null,null,null,null,null,"←","中間検査合格日が令和元年5月1日以前の場合は平成を選択してください。"]
[]
["【１０.確認以降の軽微な変更の概要】"]
[null,"【イ．","変更された設計図書の種類】"]
[null,"【ロ．","変更の概要】"]
[]
["【１１.備考】"]
[]
[]
[]
[]
["◆中間検査申請書・完了検査申請書　共通"]
["第四面　工事監理の状況"]
[null,null,null,null,null,"確認を行った部位・材料の種類等",null,null,null,"照合内容",null,null,null,null,"照合を行った設計図書",null,null,"設計図書の内容について設計者に確認した事項",null,null,"照合方法",null,null,null,null,"　 照合結果\n（不適の場合には建築主に対して行った報告の内容）"]
["敷地の形状、高さ、衛生及び安全"]
["主要構造部及び主要構造部以外の構造耐力上主要な部分に用いる材料（接合材料を含む）の種類、品質、形状及び寸法"]
["主要構造部及び主要構造部以外の構造耐力上主要な部分に用いる材料の接合状況、接合部分の形状等"]
["建築物の各部分の位置、形状及び大きさ"]
["構造耐力上主要な部分の防錆、防腐及び防蟻措置及び状況"]
["特定天井に用いる材料の種類並びに当該特定天井の構造及び施工状況"]
["居室の内装の仕上げに用いる建築材料の種別及び当該建築材料を用いる部分の面積"]
["天井及び壁の室内に面する部分に係る仕上げの材料の種別及び厚さ"]
["開口部に設ける建具の種類及び大きさ"]
["建築設備に用いる材料の種類及びその照合した内容並びに当該建築設備の構造及び施工状況（区画貫通部の処理状況を含む。）"]
["備考"]

{"sheet":"★確認申請書","index":3,"n_rows":551,"n_cols":28,"rows_kept":551,"cut":false,"hidden":false,"merged":[[56,18,56,27],[550,1,551,26],[530,10,530,12],[530,16,530,18],[531,8,531,14],[531,17,531,23],[457,11,457,20],[456,11,456,20],[458,1,458,2],[459,1,459,2],[480,1,480,2],[480,5,480,8],[480,23,480,26],[470,7,470,8],[471,7,471,8],[472,8,472,10],[473,8,473,10],[458,11,458,20],[474,8,474,10],[479,11,479,20],[468,0,468,26],[465,1,466,26],[456,5,456,8],[479,5,479,8],[479,23,479,26],[451,10,451,12],[399,6,399,7],[398,6,398,7],[381,1,382,26],[399,10,399,13],[394,10,394,13],[460,5,460,8],[448,8,448,10],[445,7,445,8],[446,7,446,8],[447,8,447,10],[458,5,458,8],[398,10,398,13],[459,11,459,20],[395,6,395,7],[456,1,456,2],[413,0,413,26],[421,10,421,12],[449,8,449,10],[397,16,397,19],[424,5,424,8],[432,1,433,26],[399,16,399,19],[419,8,419,10],[548,3,548,9],[322,1,324,26],[515,5,515,8],[515,23,515,26],[517,1,518,26],[292,10,292,14],[345,10,345,26],[396,22,396,25],[397,10,397,13],[396,10,396,13],[396,16,396,19],[398,16,398,19],[376,9,376,10],[375,9,375,10],[374,9,374,10],[373,9,373,10],[542,5,542,19],[428,11,428,20],[427,11,427,20],[426,11,426,20],[425,11,425,20],[424,11,424,20],[476,10,476,12],[545,8,545,14],[261,10,262,26],[308,13,310,26],[515,11,515,20],[514,11,514,20],[513,11,513,20],[512,11,512,20],[511,11,511,20],[510,11,510,20],[509,11,509,20],[485,11,485,20],[484,11,484,20],[483,11,483,20],[482,11,482,20],[481,11,481,20],[480,11,480,20],[401,4,401,26],[455,11,455,20],[454,11,454,20],[430,11,430,20],[429,11,429,20],[280,22,280,25],[347,10,347,26],[346,10,346,26],[279,10,279,13],[279,16,279,19],[280,16,280,19],[281,22,281,25],[282,10,282,13],[282,16,282,19],[282,22,282,25],[291,17,291,21],[288,11,288,13],[287,11,287,13],[280,10,280,13],[289,17,289,21],[290,10,290,14],[290,17,290,21],[291,10,291,14],[395,22,395,25],[341,0,341,26],[292,17,292,21],[293,8,293,14],[400,10,400,13],[293,17,293,23],[394,16,394,19],[398,22,398,25],[389,18,389,26],[392,18,392,26],[400,16,400,19],[394,6,394,7],[394,22,394,25],[399,22,399,25],[383,1,383,26],[344,6,344,8],[345,6,345,8],[402,4,402,26],[403,4,403,26],[400,22,400,25],[397,22,397,25],[396,6,396,7],[435,1,436,26],[430,23,430,26],[428,5,428,8],[428,23,428,26],[429,5,429,8],[429,23,429,26],[427,1,427,2],[415,7,415,8],[404,8,404,10],[430,5,430,8],[426,5,426,8],[426,23,426,26],[405,6,405,11],[410,1,411,26],[407,1,408,26],[418,8,418,10],[417,8,417,10],[426,1,426,2],[425,1,425,2],[428,1,428,2],[429,1,429,2],[430,1,430,2],[458,23,458,26],[416,7,416,8],[481,1,481,2],[481,5,481,8],[424,23,424,26],[425,5,425,8],[425,23,425,26],[454,5,454,8],[454,23,454,26],[455,1,455,2],[455,5,455,8],[455,23,455,26],[427,5,427,8],[427,23,427,26],[462,1,463,26],[481,23,481,26],[456,23,456,26],[460,11,460,20],[457,1,457,2],[457,5,457,8],[457,23,457,26],[460,23,460,26],[459,5,459,8],[459,23,459,26],[460,1,460,2],[504,8,504,10],[506,10,506,12],[485,1,485,2],[485,5,485,8],[485,23,485,26],[482,1,482,2],[482,5,482,8],[482,23,482,26],[483,1,483,2],[483,5,483,8],[483,23,483,26],[484,1,484,2],[484,5,484,8],[484,23,484,26],[487,1,488,26],[490,1,491,26],[500,7,500,8],[501,7,501,8],[502,8,502,10],[503,8,503,10],[509,5,509,8],[509,23,509,26],[510,1,510,2],[510,5,510,8],[510,23,510,26],[511,1,511,2],[523,0,523,26],[511,5,511,8],[511,23,511,26],[512,1,512,2],[512,5,512,8],[512,23,512,26],[525,7,525,8],[526,10,526,13],[515,1,515,2],[528,10,528,14],[529,10,529,14],[514,1,514,2],[514,5,514,8],[513,1,513,2],[520,1,521,26],[513,5,513,8],[513,23,513,26],[514,23,514,26],[278,16,278,19],[277,10,277,13],[277,16,277,19],[269,22,269,25],[311,13,313,26],[397,6,397,7],[395,16,395,19],[269,16,269,19],[273,16,273,19],[273,22,273,25],[379,9,379,11],[393,10,393,13],[393,16,393,19],[393,22,393,25],[388,24,388,26],[278,22,278,25],[283,10,283,13],[283,16,283,19],[378,9,378,11],[351,5,351,11],[269,10,269,13],[279,22,279,25],[395,10,395,13],[289,10,289,14],[259,5,260,26],[268,10,268,13],[344,10,344,26],[346,6,346,8],[351,14,351,20],[343,4,343,5],[347,6,347,8],[348,6,348,8],[348,10,348,26],[261,6,261,8],[276,22,276,25],[273,10,273,13],[298,1,304,26],[318,1,320,26],[276,10,276,13],[276,16,276,19],[283,22,283,25],[284,10,284,13],[285,10,285,13],[281,10,281,13],[281,16,281,19],[277,22,277,25],[278,10,278,13],[265,10,265,13],[265,16,265,19],[265,22,265,25],[266,10,266,13],[266,16,266,19],[266,22,266,25],[275,10,275,13],[275,16,275,19],[275,22,275,25],[271,10,271,13],[271,16,271,19],[271,22,271,25],[267,10,267,13],[268,16,268,19],[268,22,268,25],[248,8,248,11],[248,13,248,16],[248,18,248,21],[248,23,248,26],[217,6,217,26],[218,6,218,26],[230,0,230,26],[237,5,237,26],[249,8,249,11],[249,13,249,16],[249,18,249,21],[249,23,249,26],[227,1,228,26],[233,1,236,26],[250,8,250,11],[250,13,250,16],[250,18,250,21],[250,23,250,26],[255,10,255,13],[256,10,256,13],[257,17,257,20],[258,17,258,20],[252,8,252,11],[252,13,252,16],[252,18,252,21],[252,23,252,26],[254,8,254,11],[254,13,254,16],[254,18,254,21],[254,23,254,26],[212,8,212,14],[213,8,213,26],[214,8,214,16],[205,8,205,16],[206,10,206,26],[209,8,209,26],[210,8,210,26],[245,12,245,14],[246,12,246,14],[242,11,242,26],[222,6,222,26],[223,6,223,26],[224,6,224,26],[243,1,243,26],[201,8,201,26],[202,8,202,26],[203,8,203,14],[204,8,204,26],[196,8,196,16],[197,10,197,26],[199,8,199,26],[200,8,200,26],[211,8,211,26],[186,8,186,26],[177,8,177,16],[178,10,178,26],[181,8,181,26],[182,8,182,26],[192,8,192,26],[193,8,193,26],[194,8,194,14],[195,8,195,26],[187,8,187,16],[188,10,188,26],[190,8,190,26],[191,8,191,26],[175,8,175,14],[176,8,176,26],[167,8,167,17],[168,10,168,26],[171,8,171,26],[172,8,172,26],[183,8,183,26],[184,8,184,26],[185,8,185,14],[164,8,164,14],[165,8,165,26],[166,8,166,17],[159,8,159,17],[160,10,160,26],[162,8,162,26],[163,8,163,26],[173,8,173,26],[174,8,174,26],[150,8,150,17],[142,8,142,17],[143,10,143,26],[146,8,146,26],[147,8,147,26],[156,8,156,14],[157,8,157,26],[158,8,158,17],[151,8,151,17],[152,10,152,26],[154,8,154,26],[155,8,155,26],[139,8,139,14],[140,8,140,26],[141,8,141,17],[134,6,134,26],[137,8,137,26],[138,8,138,26],[148,8,148,14],[149,8,149,26],[131,6,131,26],[132,6,132,26],[133,6,133,26],[69,8,69,26],[70,8,70,26],[80,8,80,26],[81,8,81,14],[87,8,87,26],[127,6,127,26],[129,6,129,26],[130,6,130,26],[124,6,124,26],[125,6,125,26],[126,6,126,26],[120,6,120,26],[122,6,122,26],[123,6,123,26],[103,11,103,26],[105,8,105,26],[106,8,106,26],[107,8,107,26],[99,8,99,26],[100,8,100,14],[101,8,101,26],[89,8,89,26],[96,8,96,26],[54,13,55,27],[0,11,0,16],[0,18,0,27],[3,20,5,23],[3,24,5,27],[6,9,8,19],[6,20,9,27],[10,9,11,19],[10,20,11,22],[10,23,11,27],[12,20,13,22],[12,23,13,27],[25,17,25,26],[29,17,29,26],[26,17,26,26],[63,8,63,14],[94,11,94,26],[97,8,97,26],[102,8,102,17],[23,19,23,20],[23,21,23,22],[14,20,15,20],[14,21,15,21],[14,22,15,22],[14,23,15,27],[17,0,19,27],[92,8,92,26],[93,8,93,17],[98,8,98,26],[54,0,56,3],[54,4,56,5],[77,8,77,26],[78,8,78,26],[79,8,79,26],[72,8,72,26],[65,8,65,17],[67,8,67,26],[71,8,71,13],[88,8,88,26],[68,8,68,26],[116,6,116,26],[117,6,117,26],[119,6,119,26],[108,8,108,26],[314,13,316,26],[54,6,56,8],[54,9,56,12],[62,8,62,26],[64,8,64,26],[57,0,57,26],[60,8,60,26],[61,8,61,26],[112,11,112,26],[73,8,73,17],[74,8,74,17],[84,11,84,26],[82,8,82,26],[83,8,83,17],[90,8,90,26],[91,8,91,14],[109,8,109,14],[110,8,110,26],[111,8,111,17]]}
["印刷用シート　「★確認申請書」",null,null,null,null,null,null,null,null,null,null,"シート構成に戻る",null,null,null,null,null,null,"入力シート（確認・工事届）に戻る"]
[]
["Ｃ－１号様式（第一条の三、第三条、第三条の三関係）",null,null,null,null,null,null,null,null,null,null,null,null,null,null,null,null,null,null,null,null,"中間検査",null,null,"有","・","無"]
[null,null,null,null,null,null,null,null,null,null,null,null,null,null,null,null,null,null,null,null,"正",null,null,null,"副"]
[]
[]
[null,null,null,null,null,null,null,null,null,"確認申請書　（建築物）",null,null,null,null,null,null,null,null,null,null,"浄化槽\n適合証明\n構造計算\nルート２\n適合判定\n長期\n性能評価"]
[]
[]
[]
[null,null,null,null,null,null,null,null,null,"（第一面）",null,null,null,null,null,null,null,null,null,null,"消防",null,null,"通知 　・ 　同意"]
[]
[null,null,null,null,null,null,null,null,null,null,null,null,null,null,null,null,null,null,null,null,"特例",null,null,"1　　2　　3　　4"]
[]
[null,null,null,null,null,null,null,null,null,null,null,null,null,null,null,null,null,null,null,null,"有１","有３","有４","\n型式\n丸太\n枠組\n在来\n"]
[]
[]
["　建築基準法第６条第１項又は第６条の２第１項の規定による確認を申請します。申請にあたっては、一般財団法人愛知県建築住宅センター確認検査業務約款を遵守します。又、この申請書及び添付図書に記載の事項は、事実に相違ありません。"]
[]
[]
[]
["一般財団法人愛知県建築住宅センター"]
["　　理事長　海田　肇　様"]
[null,null,null,null,null,null,null,null,null,null,null,null,null,null,null,null,null,null,null,"令和",null,{"$f":"IF('入力シート（確認・工事届）'!K8=\"\",\"\",'入力シート（確認・工事届）'!K8)","v":""},null,"年",{"$f":"IF('入力シート（確認・工事届）'!M8=\"\",\"\",'入力シート（確認・工事届）'!M8)","v":""},"月",{"$f":"IF('入力シート（確認・工事届）'!O8=\"\",\"\",'入力シート（確認・工事届）'!O8)","v":""},"日"]
[]
[null,null,null,null,null,null,null,null,null,null,null,null,null,"申請者氏名",null,null,null,{"$f":"'入力シート（確認・工事届）'!I9","v":0}]
[null,null,null,null,null,null,null,null,null,null,null,null,null,null,null,null,null,{"$f":"'入力シート（確認・工事届）'!I10","v":0}]
[]
[]
[null,null,null,null,null,null,null,null,null,null,null,null,null,"設計者氏名",null,null,null,{"$f":"'入力シート（確認・工事届）'!I42","v":0}]
[]
["※受付欄",null,null,null,null,null,"※消防関係同意欄",null,null,null,null,null,"※決裁欄",null,null,null,null,null,"※確認番号欄"]
[null,null,null,null,null,null,null,null,null,null,null,null,null,null,null,null,null,null,"令和",null,null,"年",null,null,"月",null,null,"日"]
[null,null,null,null,null,null,null,null,null,null,null,null,null,null,null,null,null,null,"第Ｒ"]
[null,null,null,null,null,null,null,null,null,null,null,null,null,null,null,null,null,null,null,"確認建築愛建住セ",null,null,null,null,null,null,null,"号"]
[null,null,null,null,null,null,null,null,null,null,null,null,null,null,null,null,null,null,"係員氏名"]
["係員氏名"]
[]
["※経過欄"]
[]
[]
[]
[]
[]
[]
[]
[]
[]
[]
[]
[]
[]
[]
[]
["※確認済証\n交付欄",null,null,null,"受領\n月日",null,"／",null,null,"受領者氏名\n連絡先"]
[]
[null,null,null,null,null,null,null,null,null,null,null,null,null,null,null,null,null,"℡"]
["（第二面）"]
["建築主等の概要"]
["【１.建築主】"]
[null,"【イ.氏名のフリガナ】",null,null,null,null,null,null,{"$f":"'入力シート（確認・工事届）'!I22","v":0}]
[null,"【ロ.氏名】",null,null,null,null,null,null,{"$f":"'入力シート（確認・工事届）'!I23","v":0}]
[null,null,null,null,null,null,null,null,{"$f":"'入力シート（確認・工事届）'!I24","v":0}]
[null,"【ハ.郵便番号】",null,null,null,null,null,null,{"$f":"'入力シート（確認・工事届）'!I25","v":0}]
[null,"【ニ.住所】",null,null,null,null,null,null,{"$f":"'入力シート（確認・工事届）'!I26","v":0}]
[null,"【ホ.電話番号】",null,null,null,null,null,null,{"$f":"'入力シート（確認・工事届）'!I27","v":0}]
["【２.代理者】"]
[null,"【イ.資格】",null,null,null,null,null,null,{"$f":"IF('入力シート（確認・工事届）'!$J$30=\"\",\"（　　　　）建築士　　（　　　　）登録第　　　　　　　号\",CONCATENATE(\"(　\",'入力シート（確認・工事届）'!$J$30,\"　)\",\"建築士　　\", \"（\",'入力シート（確認・工事届）'!$P$30,\"　）\",\"登録　第　\",'入力シート（確認・工事届）'!$W$30,\"　号\"))","v":"（　　　　）建築士　　（　　　　）登録第　　　　　　　号"}]
[null,"【ロ.氏名】",null,null,null,null,null,null,{"$f":"'入力シート（確認・工事届）'!I31","v":0}]
[null,"【ハ.建築士事務所名】",null,null,null,null,null,null,{"$f":"IF('入力シート（確認・工事届）'!$J$32=\"\",\"（　　　　）建築士事務所　　（　　　　）知事登録　第　　　　　号\",CONCATENATE(\"(　\",'入力シート（確認・工事届）'!$J$32,\"　)\",\"建築士事務所　　\",\"（　\",'入力シート（確認・工事届）'!$Q$32,\"　）\",\"知事登録第　\",'入力シート（確認・工事届）'!$X$32,\"　号\"))","v":"（　　　　）建築士事務所　　（　　　　）知事登録　第　　　　　号"}]
[null,null,null,null,null,null,null,null,{"$f":"'入力シート（確認・工事届）'!I33","v":0}]
[null,"【ニ.郵便番号】",null,null,null,null,null,null,{"$f":"'入力シート（確認・工事届）'!I34","v":0}]
[null,"【ホ.所在地】",null,null,null,null,null,null,{"$f":"'入力シート（確認・工事届）'!I35","v":0}]
[null,"【ヘ.電話番号】",null,null,null,null,null,null,{"$f":"'入力シート（確認・工事届）'!I36","v":0}]
[null,"【ト.ファックス番号】",null,null,null,null,null,null,{"$f":"'入力シート（確認・工事届）'!I37","v":0}]
["【３.設計者】"]
[null,"（代表となる設計者）"]
[null,"【イ.資格】",null,null,null,null,null,null,{"$f":"IF('入力シート（確認・工事届）'!$J$41=\"\",\"（　　　　）建築士　　（　　　　）登録第　　　　　　　号\",CONCATENATE(\"(　\",'入力シート（確認・工事届）'!$J$41,\"　)\",\"建築士　　\", \"（\",'入力シート（確認・工事届）'!$P$41,\"　）\",\"登録　第　\",'入力シート（確認・工事届）'!$W$41,\"　号\"))","v":"（　　　　）建築士　　（　　　　）登録第　　　　　　　号"}]
[null,"【ロ.氏名】",null,null,null,null,null,null,{"$f":"'入力シート（確認・工事届）'!I42","v":0}]
[null,"【ハ.建築士事務所名】",null,null,null,null,null,null,{"$f":"IF('入力シート（確認・工事届）'!$J$43=\"\",\"（　　　　）建築士事務所　　（　　　　）知事登録　第　　　　　号\",CONCATENATE(\"(　\",'入力シート（確認・工事届）'!$J$43,\"　)\",\"建築士事務所　　\",\"（　\",'入力シート（確認・工事届）'!$Q$43,\"　）\",\"知事登録第　\",'入力シート（確認・工事届）'!$X$43,\"　号\"))","v":"（　　　　）建築士事務所　　（　　　　）知事登録　第　　　　　号"}]
[null,null,null,null,null,null,null,null,{"$f":"'入力シート（確認・工事届）'!I44","v":0}]
[null,"【ニ.郵便番号】",null,null,null,null,null,null,{"$f":"'入力シート（確認・工事届）'!I45","v":0}]
[null,"【ホ.所在地】",null,null,null,null,null,null,{"$f":"'入力シート（確認・工事届）'!I46","v":0}]
[null,"【ヘ.電話番号】",null,null,null,null,null,null,{"$f":"'入力シート（確認・工事届）'!I47","v":0}]
[null,"【ト.作成又は確認した設計図書】",null,null,null,null,null,null,null,null,null,{"$f":"'入力シート（確認・工事届）'!I49","v":0}]
[]
[null,"（その他の設計者）"]
[null,"【イ.資格】",null,null,null,null,null,null,{"$f":"IF('入力シート（確認・工事届）'!$J$52=\"\",\"（　　　　）建築士　　（　　　　）登録第　　　　　　　号\",CONCATENATE(\"(　\",'入力シート（確認・工事届）'!$J$52,\"　)\",\"建築士　　\", \"（\",'入力シート（確認・工事届）'!$P$52,\"　）\",\"登録　第　\",'入力シート（確認・工事届）'!$W$52,\"　号\"))","v":"（　　　　）建築士　　（　　　　）登録第　　　　　　　号"}]
[null,"【ロ.氏名】",null,null,null,null,null,null,{"$f":"'入力シート（確認・工事届）'!I53","v":0}]
[null,"【ハ.建築士事務所名】",null,null,null,null,null,null,{"$f":"IF('入力シート（確認・工事届）'!$J$54=\"\",\"（　　　　）建築士事務所　　（　　　　）知事登録　第　　　　　号\",CONCATENATE(\"(　\",'入力シート（確認・工事届）'!$J$54,\"　)\",\"建築士事務所　　\",\"（　\",'入力シート（確認・工事届）'!$Q$54,\"　）\",\"知事登録第　\",'入力シート（確認・工事届）'!$X$54,\"　号\"))","v":"（　　　　）建築士事務所　　（　　　　）知事登録　第　　　　　号"}]
[null,null,null,null,null,null,null,null,{"$f":"'入力シート（確認・工事届）'!I55","v":0}]
[null,"【ニ.郵便番号】",null,null,null,null,null,null,{"$f":"'入力シート（確認・工事届）'!I56","v":0}]
[null,"【ホ.所在地】",null,null,null,null,null,null,{"$f":"'入力シート（確認・工事届）'!I57","v":0}]
[null,"【ヘ.電話番号】",null,null,null,null,null,null,{"$f":"'入力シート（確認・工事届）'!I58","v":0}]
[null,"【ト.作成又は確認した設計図書】",null,null,null,null,null,null,null,null,null,{"$f":"'入力シート（確認・工事届）'!I60","v":0}]
[]
[null,"【イ.資格】",null,null,null,null,null,null,{"$f":"IF('入力シート（確認・工事届）'!$J$62=\"\",\"（　　　　）建築士　　（　　　　）登録第　　　　　　　号\",CONCATENATE(\"(　\",'入力シート（確認・工事届）'!$J$62,\"　)\",\"建築士　　\", \"（\",'入力シート（確認・工事届）'!$P$62,\"　）\",\"登録　第　\",'入力シート（確認・工事届）'!$W$62,\"　号\"))","v":"（　　　　）建築士　　（　　　　）登録第　　　　　　　号"}]
[null,"【ロ.氏名】",null,null,null,null,null,null,{"$f":"'入力シート（確認・工事届）'!I63","v":0}]
[null,"【ハ.建築士事務所名】",null,null,null,null,null,null,{"$f":"IF('入力シート（確認・工事届）'!$J$64=\"\",\"（　　　　）建築士事務所　　（　　　　）知事登録　第　　　　　号\",CONCATENATE(\"(　\",'入力シート（確認・工事届）'!$J$64,\"　)\",\"建築士事務所　　\",\"（　\",'入力シート（確認・工事届）'!$Q$64,\"　）\",\"知事登録第　\",'入力シート（確認・工事届）'!$X$64,\"　号\"))","v":"（　　　　）建築士事務所　　（　　　　）知事登録　第　　　　　号"}]
[null,null,null,null,null,null,null,null,{"$f":"'入力シート（確認・工事届）'!I65","v":0}]
[null,"【ニ.郵便番号】",null,null,null,null,null,null,{"$f":"'入力シート（確認・工事届）'!I66","v":0}]
[null,"【ホ.所在地】",null,null,null,null,null,null,{"$f":"'入力シート（確認・工事届）'!I67","v":0}]
[null,"【ヘ.電話番号】",null,null,null,null,null,null,{"$f":"'入力シート（確認・工事届）'!I68","v":0}]
[null,"【ト.作成又は確認した設計図書】",null,null,null,null,null,null,null,null,null,{"$f":"'入力シート（確認・工事届）'!I70","v":0}]
[]
[null,"【イ.資格】",null,null,null,null,null,null,{"$f":"IF('入力シート（確認・工事届）'!$J$72=\"\",\"（　　　　）建築士　　（　　　　）登録第　　　　　　　号\",CONCATENATE(\"(　\",'入力シート（確認・工事届）'!$J$72,\"　)\",\"建築士　　\", \"（\",'入力シート（確認・工事届）'!$P$72,\"　）\",\"登録　第　\",'入力シート（確認・工事届）'!$W$72,\"　号\"))","v":"（　　　　）建築士　　（　　　　）登録第　　　　　　　号"}]
[null,"【ロ.氏名】",null,null,null,null,null,null,{"$f":"'入力シート（確認・工事届）'!I73","v":0}]
[null,"【ハ.建築士事務所名】",null,null,null,null,null,null,{"$f":"IF('入力シート（確認・工事届）'!$J$74=\"\",\"（　　　　）建築士事務所　　（　　　　）知事登録　第　　　　　号\",CONCATENATE(\"(　\",'入力シート（確認・工事届）'!$J$74,\"　)\",\"建築士事務所　　\",\"（　\",'入力シート（確認・工事届）'!$Q$74,\"　）\",\"知事登録第　\",'入力シート（確認・工事届）'!$X$74,\"　号\"))","v":"（　　　　）建築士事務所　　（　　　　）知事登録　第　　　　　号"}]
[null,null,null,null,null,null,null,null,{"$f":"'入力シート（確認・工事届）'!I75","v":0}]
[null,"【ニ.郵便番号】",null,null,null,null,null,null,{"$f":"'入力シート（確認・工事届）'!I76","v":0}]
[null,"【ホ.所在地】",null,null,null,null,null,null,{"$f":"'入力シート（確認・工事届）'!I77","v":0}]
[null,"【ヘ.電話番号】",null,null,null,null,null,null,{"$f":"'入力シート（確認・工事届）'!I78","v":0}]
[null,"【ト.作成又は確認した設計図書】",null,null,null,null,null,null,null,null,null,{"$f":"'入力シート（確認・工事届）'!I80","v":0}]
[null,"（構造設計一級建築士又は設備設計一級建築士である旨の表示をした者）"]
[null," 上記の設計者のうち、"]
[null,{"$f":"'入力シート（確認・工事届）'!B84","v":"□"},"建築士法第２０条の２第１項の表示をした者"]
[null,null,"【イ.氏名】",null,null,null,{"$f":"'入力シート（確認・工事届）'!G85","v":0}]
[null,null,"【ロ.資格】",null,null,null,{"$f":"IF('入力シート（確認・工事届）'!$N$86=\"\",\"構造設計一級建築士交付第　　　　　　　　号\",CONCATENATE(\"構造設計一級建築士交付第　\",'入力シート（確認・工事届）'!$N$86,\"　号\"))","v":"構造設計一級建築士交付第　　　　　　　　号"}]
[null,{"$f":"'入力シート（確認・工事届）'!B87","v":"□"},"建築士法第２０条の２第３項の表示をした者"]
[null,null,"【イ.氏名】",null,null,null,{"$f":"'入力シート（確認・工事届）'!G88","v":0}]
[null,null,"【ロ.資格】",null,null,null,{"$f":"IF('入力シート（確認・工事届）'!$N$89=\"\",\"構造設計一級建築士交付第　　　　　　　　号\",CONCATENATE(\"構造設計一級建築士交付第　\",'入力シート（確認・工事届）'!$N$89,\"　号\"))","v":"構造設計一級建築士交付第　　　　　　　　号"}]
[null,{"$f":"'入力シート（確認・工事届）'!B90","v":"□"},"建築士法第２０条の３第１項の表示をした者"]
[null,null,"【イ.氏名】",null,null,null,{"$f":"'入力シート（確認・工事届）'!G91","v":0}]
[null,null,"【ロ.資格】",null,null,null,{"$f":"IF('入力シート（確認・工事届）'!$N$92=\"\",\"設備設計一級建築士交付第　　　　　　　　号\",CONCATENATE(\"設備設計一級建築士交付第　\",'入力シート（確認・工事届）'!$N$92,\"　号\"))","v":"設備設計一級建築士交付第　　　　　　　　号"}]
[null,null,"【イ.氏名】",null,null,null,{"$f":"'入力シート（確認・工事届）'!G93","v":0}]
[null,null,"【ロ.資格】",null,null,null,{"$f":"IF('入力シート（確認・工事届）'!$N$94=\"\",\"設備設計一級建築士交付第　　　　　　　　号\",CONCATENATE(\"設備設計一級建築士交付第　\",'入力シート（確認・工事届）'!$N$94,\"　号\"))","v":"設備設計一級建築士交付第　　　　　　　　号"}]
[null,null,"【イ.氏名】",null,null,null,{"$f":"'入力シート（確認・工事届）'!G95","v":0}]
[null,null,"【ロ.資格】",null,null,null,{"$f":"IF('入力シート（確認・工事届）'!$N$96=\"\",\"設備設計一級建築士交付第　　　　　　　　号\",CONCATENATE(\"設備設計一級建築士交付第　\",'入力シート（確認・工事届）'!$N$96,\"　号\"))","v":"設備設計一級建築士交付第　　　　　　　　号"}]
[null,{"$f":"'入力シート（確認・工事届）'!B97","v":"□"},"建築士法第２０条の３第３項の表示をした者"]
[null,null,"【イ.氏名】",null,null,null,{"$f":"'入力シート（確認・工事届）'!G98","v":0}]
[null,null,"【ロ.資格】",null,null,null,{"$f":"IF('入力シート（確認・工事届）'!$N$99=\"\",\"設備設計一級建築士交付第　　　　　　　　号\",CONCATENATE(\"設備設計一級建築士交付第　\",'入力シート（確認・工事届）'!$N$99,\"　号\"))","v":"設備設計一級建築士交付第　　　　　　　　号"}]
[null,null,"【イ.氏名】",null,null,null,{"$f":"'入力シート（確認・工事届）'!G100","v":0}]
[null,null,"【ロ.資格】",null,null,null,{"$f":"IF('入力シート（確認・工事届）'!$N$101=\"\",\"設備設計一級建築士交付第　　　　　　　　号\",CONCATENATE(\"設備設計一級建築士交付第　\",'入力シート（確認・工事届）'!$N$101,\"　号\"))","v":"設備設計一級建築士交付第　　　　　　　　号"}]
[null,null,"【イ.氏名】",null,null,null,{"$f":"'入力シート（確認・工事届）'!G102","v":0}]
[null,null,"【ロ.資格】",null,null,null,{"$f":"IF('入力シート（確認・工事届）'!$N$103=\"\",\"設備設計一級建築士交付第　　　　　　　　号\",CONCATENATE(\"設備設計一級建築士交付第　\",'入力シート（確認・工事届）'!$N$103,\"　号\"))","v":"設備設計一級建築士交付第　　　　　　　　号"}]
["【４.建築設備の設計に関し意見を聴いた者】"]
[null,"（代表となる建築設備の設計に関し意見を聴いた者）"]
[null,"【イ.氏名】",null,null,null,null,null,null,{"$f":"'入力シート（確認・工事届）'!I107","v":0}]
[null,"【ロ.勤務先】",null,null,null,null,null,null,{"$f":"'入力シート（確認・工事届）'!I108","v":0}]
[null,"【ハ.郵便番号】",null,null,null,null,null,null,{"$f":"'入力シート（確認・工事届）'!I109","v":0}]
[null,"【ニ.所在地】",null,null,null,null,null,null,{"$f":"'入力シート（確認・工事届）'!I110","v":0}]
[null,"【ホ.電話番号】",null,null,null,null,null,null,{"$f":"'入力シート（確認・工事届）'!I111","v":0}]
[null,"【ヘ.登録番号】",null,null,null,null,null,null,{"$f":"'入力シート（確認・工事届）'!I112","v":0}]
[null,"【ト.意見を聴いた設計図書】",null,null,null,null,null,null,null,null,{"$f":"'入力シート（確認・工事届）'!I113","v":0}]
[]
[null,"（その他の建築設備の設計に関し意見を聴いた者）"]
[null,"【イ.氏名】",null,null,null,null,null,null,{"$f":"'入力シート（確認・工事届）'!I116","v":0}]
[null,"【ロ.勤務先】",null,null,null,null,null,null,{"$f":"'入力シート（確認・工事届）'!I117","v":0}]
[null,"【ハ.郵便番号】",null,null,null,null,null,null,{"$f":"'入力シート（確認・工事届）'!I118","v":0}]
[null,"【ニ.所在地】",null,null,null,null,null,null,{"$f":"'入力シート（確認・工事届）'!I119","v":0}]
[null,"【ホ.電話番号】",null,null,null,null,null,null,{"$f":"'入力シート（確認・工事届）'!I120","v":0}]
[null,"【ヘ.登録番号】",null,null,null,null,null,null,{"$f":"'入力シート（確認・工事届）'!I121","v":0}]
[null,"【ト.意見を聴いた設計図書】",null,null,null,null,null,null,null,null,{"$f":"'入力シート（確認・工事届）'!I122","v":0}]
[]
[null,"【イ.氏名】",null,null,null,null,null,null,{"$f":"'入力シート（確認・工事届）'!I124","v":0}]
[null,"【ロ.勤務先】",null,null,null,null,null,null,{"$f":"'入力シート（確認・工事届）'!I125","v":0}]
[null,"【ハ.郵便番号】",null,null,null,null,null,null,{"$f":"'入力シート（確認・工事届）'!I126","v":0}]
[null,"【ニ.所在地】",null,null,null,null,null,null,{"$f":"'入力シート（確認・工事届）'!I127","v":0}]
[null,"【ホ.電話番号】",null,null,null,null,null,null,{"$f":"'入力シート（確認・工事届）'!I128","v":0}]
[null,"【ヘ.登録番号】",null,null,null,null,null,null,{"$f":"'入力シート（確認・工事届）'!I129","v":0}]
[null,"【ト.意見を聴いた設計図書】",null,null,null,null,null,null,null,null,{"$f":"'入力シート（確認・工事届）'!I130","v":0}]
[]
[null,"【イ.氏名】",null,null,null,null,null,null,{"$f":"'入力シート（確認・工事届）'!I132","v":0}]
[null,"【ロ.勤務先】",null,null,null,null,null,null,{"$f":"'入力シート（確認・工事届）'!I133","v":0}]
[null,"【ハ.郵便番号】",null,null,null,null,null,null,{"$f":"'入力シート（確認・工事届）'!I134","v":0}]
[null,"【ニ.所在地】",null,null,null,null,null,null,{"$f":"'入力シート（確認・工事届）'!I135","v":0}]
[null,"【ホ.電話番号】",null,null,null,null,null,null,{"$f":"'入力シート（確認・工事届）'!I136","v":0}]
[null,"【ヘ.登録番号】",null,null,null,null,null,null,{"$f":"'入力シート（確認・工事届）'!I137","v":0}]
[null,"【ト.意見を聴いた設計図書】",null,null,null,null,null,null,null,null,{"$f":"'入力シート（確認・工事届）'!I138","v":0}]
["【５.工事監理者】"]
[null,"（代表となる工事監理者）"]
[null,"【イ.資格】",null,null,null,null,null,null,{"$f":"IF('入力シート（確認・工事届）'!$J$142=\"\",\"（　　　　）建築士　　（　　　　）登録第　　　　　　　号\",CONCATENATE(\"(　\",'入力シート（確認・工事届）'!$J$142,\"　)\",\"建築士　　\", \"（\",'入力シート（確認・工事届）'!$P$142,\"　）\",\"登録　第　\",'入力シート（確認・工事届）'!$W$142,\"　号\"))","v":"（　　　　）建築士　　（　　　　）登録第　　　　　　　号"}]
[null,"【ロ.氏名】",null,null,null,null,null,null,{"$f":"'入力シート（確認・工事届）'!I143","v":0}]
[null,"【ハ.建築士事務所名】",null,null,null,null,null,null,{"$f":"IF('入力シート（確認・工事届）'!$J$144=\"\",\"（　　　　）建築士事務所　　（　　　　）知事登録　第　　　　　号\",CONCATENATE(\"(　\",'入力シート（確認・工事届）'!$J$144,\"　)\",\"建築士事務所　　\",\"（　\",'入力シート（確認・工事届）'!$Q$144,\"　）\",\"知事登録第　\",'入力シート（確認・工事届）'!$X$144,\"　号\"))","v":"（　　　　）建築士事務所　　（　　　　）知事登録　第　　　　　号"}]
[null,null,null,null,null,null,null,null,{"$f":"'入力シート（確認・工事届）'!I145","v":0}]
[null,"【ニ.郵便番号】",null,null,null,null,null,null,{"$f":"'入力シート（確認・工事届）'!I146","v":0}]
[null,"【ホ.所在地】",null,null,null,null,null,null,{"$f":"'入力シート（確認・工事届）'!I147","v":0}]
[null,"【ヘ.電話番号】",null,null,null,null,null,null,{"$f":"'入力シート（確認・工事届）'!I148","v":0}]
[null,"【ト.工事と照合する設計図書】",null,null,null,null,null,null,null,null,{"$f":"'入力シート（確認・工事届）'!I149","v":0}]
[]
[null,"（その他の工事監理者）"]
[null,"【イ.資格】",null,null,null,null,null,null,{"$f":"IF('入力シート（確認・工事届）'!$J$152=\"\",\"（　　　　）建築士　　（　　　　）登録第　　　　　　　号\",CONCATENATE(\"(　\",'入力シート（確認・工事届）'!$J$152,\"　)\",\"建築士　　\", \"（\",'入力シート（確認・工事届）'!$P$152,\"　）\",\"登録　第　\",'入力シート（確認・工事届）'!$W$152,\"　号\"))","v":"（　　　　）建築士　　（　　　　）登録第　　　　　　　号"}]
[null,"【ロ.氏名】",null,null,null,null,null,null,{"$f":"'入力シート（確認・工事届）'!I153","v":0}]
[null,"【ハ.建築士事務所名】",null,null,null,null,null,null,{"$f":"IF('入力シート（確認・工事届）'!$J$154=\"\",\"（　　　　）建築士事務所　　（　　　　）知事登録　第　　　　　号\",CONCATENATE(\"(　\",'入力シート（確認・工事届）'!$J$154,\"　)\",\"建築士事務所　　\",\"（　\",'入力シート（確認・工事届）'!$Q$154,\"　）\",\"知事登録第　\",'入力シート（確認・工事届）'!$X$154,\"　号\"))","v":"（　　　　）建築士事務所　　（　　　　）知事登録　第　　　　　号"}]
[null,null,null,null,null,null,null,null,{"$f":"'入力シート（確認・工事届）'!I155","v":0}]
[null,"【ニ.郵便番号】",null,null,null,null,null,null,{"$f":"'入力シート（確認・工事届）'!I156","v":0}]
[null,"【ホ.所在地】",null,null,null,null,null,null,{"$f":"'入力シート（確認・工事届）'!I157","v":0}]
[null,"【ヘ.電話番号】",null,null,null,null,null,null,{"$f":"'入力シート（確認・工事届）'!I158","v":0}]
[null,"【ト.工事と照合する設計図書】",null,null,null,null,null,null,null,null,{"$f":"'入力シート（確認・工事届）'!I159","v":0}]
[]
[null,"【イ.資格】",null,null,null,null,null,null,{"$f":"IF('入力シート（確認・工事届）'!$J$161=\"\",\"（　　　　）建築士　　（　　　　）登録第　　　　　　　号\",CONCATENATE(\"(　\",'入力シート（確認・工事届）'!$J$161,\"　)\",\"建築士　　\", \"（\",'入力シート（確認・工事届）'!$P$161,\"　）\",\"登録　第　\",'入力シート（確認・工事届）'!$W$161,\"　号\"))","v":"（　　　　）建築士　　（　　　　）登録第　　　　　　　号"}]
[null,"【ロ.氏名】",null,null,null,null,null,null,{"$f":"'入力シート（確認・工事届）'!I162","v":0}]
[null,"【ハ.建築士事務所名】",null,null,null,null,null,null,{"$f":"IF('入力シート（確認・工事届）'!$J$163=\"\",\"（　　　　）建築士事務所　　（　　　　）知事登録　第　　　　　号\",CONCATENATE(\"(　\",'入力シート（確認・工事届）'!$J$163,\"　)\",\"建築士事務所　　\",\"（　\",'入力シート（確認・工事届）'!$Q$163,\"　）\",\"知事登録第　\",'入力シート（確認・工事届）'!$X$163,\"　号\"))","v":"（　　　　）建築士事務所　　（　　　　）知事登録　第　　　　　号"}]
[null,null,null,null,null,null,null,null,{"$f":"'入力シート（確認・工事届）'!I164","v":0}]
[null,"【ニ.郵便番号】",null,null,null,null,null,null,{"$f":"'入力シート（確認・工事届）'!I165","v":0}]
[null,"【ホ.所在地】",null,null,null,null,null,null,{"$f":"'入力シート（確認・工事届）'!I166","v":0}]
[null,"【ヘ.電話番号】",null,null,null,null,null,null,{"$f":"'入力シート（確認・工事届）'!I167","v":0}]
[null,"【ト.工事と照合する設計図書】",null,null,null,null,null,null,null,null,{"$f":"'入力シート（確認・工事届）'!I168","v":0}]
[]
[null,"【イ.資格】",null,null,null,null,null,null,{"$f":"IF('入力シート（確認・工事届）'!$J$170=\"\",\"（　　　　）建築士　　（　　　　）登録第　　　　　　　号\",CONCATENATE(\"(　\",'入力シート（確認・工事届）'!$J$170,\"　)\",\"建築士　　\", \"（\",'入力シート（確認・工事届）'!$P$170,\"　）\",\"登録　第　\",'入力シート（確認・工事届）'!$W$170,\"　号\"))","v":"（　　　　）建築士　　（　　　　）登録第　　　　　　　号"}]
[null,"【ロ.氏名】",null,null,null,null,null,null,{"$f":"'入力シート（確認・工事届）'!I171","v":0}]
[null,"【ハ.建築士事務所名】",null,null,null,null,null,null,{"$f":"IF('入力シート（確認・工事届）'!$J$172=\"\",\"（　　　　）建築士事務所　　（　　　　）知事登録　第　　　　　号\",CONCATENATE(\"(　\",'入力シート（確認・工事届）'!$J$172,\"　)\",\"建築士事務所　　\",\"（　\",'入力シート（確認・工事届）'!$Q$172,\"　）\",\"知事登録第　\",'入力シート（確認・工事届）'!$X$172,\"　号\"))","v":"（　　　　）建築士事務所　　（　　　　）知事登録　第　　　　　号"}]
[null,null,null,null,null,null,null,null,{"$f":"'入力シート（確認・工事届）'!I173","v":0}]
[null,"【ニ.郵便番号】",null,null,null,null,null,null,{"$f":"'入力シート（確認・工事届）'!I174","v":0}]
[null,"【ホ.所在地】",null,null,null,null,null,null,{"$f":"'入力シート（確認・工事届）'!I175","v":0}]
[null,"【ヘ.電話番号】",null,null,null,null,null,null,{"$f":"'入力シート（確認・工事届）'!I176","v":0}]
[null,"【ト.工事と照合する設計図書】",null,null,null,null,null,null,null,null,{"$f":"'入力シート（確認・工事届）'!I177","v":0}]
[]
["【６.工事施工者】"]
[null,"【イ.氏名】",null,null,null,null,null,null,{"$f":"'入力シート（確認・工事届）'!I180","v":0}]
[null,"【ロ.営業所名】",null,null,null,null,null,null,{"$f":"IF('入力シート（確認・工事届）'!$N$181=\"\",\"建設業の許可（　　　　　　　）　第　　　　　　　　　号\",CONCATENATE(\"建設業の許可（　\",'入力シート（確認・工事届）'!$N$181,\"　）　　第　\",'入力シート（確認・工事届）'!$T$181,\"　号\"))","v":"建設業の許可（　　　　　　　）　第　　　　　　　　　号"}]
[null,null,null,null,null,null,null,null,{"$f":"'入力シート（確認・工事届）'!I182","v":0}]
[null,"【ハ.郵便番号】",null,null,null,null,null,null,{"$f":"'入力シート（確認・工事届）'!I183","v":0}]
[null,"【ニ.所在地】",null,null,null,null,null,null,{"$f":"'入力シート（確認・工事届）'!I184","v":0}]
[null,"【ホ.電話番号】",null,null,null,null,null,null,{"$f":"'入力シート（確認・工事届）'!I185","v":0}]
[]
["【７.構造計算適合性判定の申請】"]
[null,{"$f":"IF('入力シート（確認・工事届）'!AD188=TRUE,\"■\",\"□\")","v":"□"},"申請済",null,null,"（",{"$f":"IF(B218=\"□\",\"\",\"判定機関名：\"&'入力シート（確認・工事届）'!K188&\"　　\"&\"所在地：\"&'入力シート（確認・工事届）'!V188)","v":""},null,null,null,null,null,null,null,null,null,null,null,null,null,null,null,null,null,null,null,null,"）"]
[null,{"$f":"IF('入力シート（確認・工事届）'!AE188=TRUE,\"■\",\"□\")","v":"□"},"未申請",null,null,"（",{"$f":"IF(B219=\"□\",\"\",\"判定機関名：\"&'入力シート（確認・工事届）'!K188&\"　　\"&\"所在地：\"&'入力シート（確認・工事届）'!V188)","v":""},null,null,null,null,null,null,null,null,null,null,null,null,null,null,null,null,null,null,null,null,"）"]
[null,{"$f":"IF('入力シート（確認・工事届）'!AD189=TRUE,\"■\",\"□\")","v":"■"},"申請不要"]
[]
["【８.建築物エネルギー消費性能確保計画の提出】"]
[null,{"$f":"IF('入力シート（確認・工事届）'!AD192=TRUE,\"■\",\"□\")","v":"□"},"提出済",null,null,"（",{"$f":"IF(B223=\"□\",\"\",\"判定機関名：\"&'入力シート（確認・工事届）'!K192&\"　　\"&\"所在地：\"&'入力シート（確認・工事届）'!V192)","v":""},null,null,null,null,null,null,null,null,null,null,null,null,null,null,null,null,null,null,null,null,"）"]
[null,{"$f":"IF('入力シート（確認・工事届）'!AE192=TRUE,\"■\",\"□\")","v":"□"},"未提出",null,null,"（",{"$f":"IF(B224=\"□\",\"\",\"判定機関名：\"&'入力シート（確認・工事届）'!K192&\"　　\"&\"所在地：\"&'入力シート（確認・工事届）'!V192)","v":""},null,null,null,null,null,null,null,null,null,null,null,null,null,null,null,null,null,null,null,null,"）"]
[null,{"$f":"IF('入力シート（確認・工事届）'!AD193=TRUE,\"■\",\"□\")","v":"■"},"提出不要",null,null,"（",{"$f":"IF(AND(B225=\"□\",'入力シート（確認・工事届）'!K193=\"\"),\"\",'入力シート（確認・工事届）'!K193)","v":0},null,null,null,null,null,null,null,null,null,null,null,null,null,null,null,null,null,null,null,null,"）"]
[]
["【９.備考】"]
[null,{"$f":"'入力シート（確認・工事届）'!B196","v":0}]
[]
[]
["（第三面）"]
["建築物及びその敷地に関する事項"]
["【１.地名地番】"]
[null,{"$f":"'入力シート（確認・工事届）'!B228","v":0}]
[]
[]
[]
["【２.住居表示】",null,null,null,null,{"$f":"'入力シート（確認・工事届）'!B234","v":0}]
["【３.都市計画区域及び準都市計画区域の内外の別等】"]
[null,{"$f":"IF('入力シート（確認・工事届）'!AD237=TRUE,\"■\",IF('入力シート（確認・工事届）'!AD237=FALSE,\"□\"))","v":"□"},"都市計画区域内",null,null,null,null,"（",{"$f":"IF('入力シート（確認・工事届）'!AE237=TRUE,\"■\",IF('入力シート（確認・工事届）'!AE237=FALSE,\"□\"))","v":"□"},"市街化区域",null,null,null,{"$f":"IF('入力シート（確認・工事届）'!AF237=TRUE,\"■\",IF('入力シート（確認・工事届）'!AF237=FALSE,\"□\"))","v":"□"},"市街化調整区域",null,null,null,null,{"$f":"IF('入力シート（確認・工事届）'!AG237=TRUE,\"■\",IF('入力シート（確認・工事届）'!AG237=FALSE,\"□\"))","v":"□"},"区域区分非設定）"]
[null,{"$f":"IF('入力シート（確認・工事届）'!AD238=TRUE,\"■\",IF('入力シート（確認・工事届）'!AD238=FALSE,\"□\"))","v":"□"},"準都市計画区域内",null,null,null,null,null,null,{"$f":"IF('入力シート（確認・工事届）'!AE238=TRUE,\"■\",IF('入力シート（確認・工事届）'!AE238=FALSE,\"□\"))","v":"□"},"都市計画区域及び準都市計画区域外"]
["【４.防火地域】",null,null,null,null,null,{"$f":"IF('入力シート（確認・工事届）'!AD241=TRUE,\"■\",IF('入力シート（確認・工事届）'!AD241=FALSE,\"□\"))","v":"□"},"防火地域",null,null,null,{"$f":"IF('入力シート（確認・工事届）'!AE241=TRUE,\"■\",IF('入力シート（確認・工事届）'!AE241=FALSE,\"□\"))","v":"□"},"準防火地域",null,null,null,null,{"$f":"IF('入力シート（確認・工事届）'!AF241=TRUE,\"■\",IF('入力シート（確認・工事届）'!AF241=FALSE,\"□\"))","v":"□"},"指定なし"]
["【５.その他の区域、地域、地区又は街区】",null,null,null,null,null,null,null,null,null,null,{"$f":"IF('入力シート（確認・工事届）'!B244=\"\",\"\",'入力シート（確認・工事届）'!B244)","v":""}]
[null,{"$f":"IF('入力シート（確認・工事届）'!B245=\"\",\"\",'入力シート（確認・工事届）'!B245)","v":""}]
["【６.道路】"]
[null,"【イ.幅員】",null,null,null,null,null,null,null,null,null,null,{"$f":"IF('入力シート（確認・工事届）'!L248=\"\",\"\",ROUNDDOWN('入力シート（確認・工事届）'!L248,2))","v":""},null,null,"ｍ"]
[null,"【ロ.敷地と接している部分の長さ】",null,null,null,null,null,null,null,null,null,null,{"$f":"IF('入力シート（確認・工事届）'!L249=\"\",\"\",ROUNDDOWN('入力シート（確認・工事届）'!L249,2))","v":""},null,null,"ｍ"]
["【７.敷地面積】"]
[null,"【イ.敷地面積】",null,null,null,null,null,"(１)(",{"$f":"IF('入力シート（確認・工事届）'!$I$252=\"\",\"\",ROUNDDOWN('入力シート（確認・工事届）'!$I$252,2))","v":""},null,null,null,")(",{"$f":"IF('入力シート（確認・工事届）'!$N$252=\"\",\"\",ROUNDDOWN('入力シート（確認・工事届）'!$N$252,2))","v":""},null,null,null,")(",{"$f":"IF('入力シート（確認・工事届）'!$S$252=\"\",\"\",ROUNDDOWN('入力シート（確認・工事届）'!$S$252,2))","v":""},null,null,null,")(",{"$f":"IF('入力シート（確認・工事届）'!$X$252=\"\",\"\",ROUNDDOWN('入力シート（確認・工事届）'!$X$252,2))","v":""},null,null,null,")"]
[null,null,null,null,null,null,null,"(２)(",{"$f":"IF('入力シート（確認・工事届）'!$I$253=\"\",\"\",ROUNDDOWN('入力シート（確認・工事届）'!$I$253,2))","v":""},null,null,null,")(",{"$f":"IF('入力シート（確認・工事届）'!$N$253=\"\",\"\",ROUNDDOWN('入力シート（確認・工事届）'!$N$253,2))","v":""},null,null,null,")(",{"$f":"IF('入力シート（確認・工事届）'!$S$253=\"\",\"\",ROUNDDOWN('入力シート（確認・工事届）'!$S$253,2))","v":""},null,null,null,")(",{"$f":"IF('入力シート（確認・工事届）'!$X$253=\"\",\"\",ROUNDDOWN('入力シート（確認・工事届）'!$X$253,2))","v":""},null,null,null,")"]
[null,"【ロ.用途地域等】",null,null,null,null,null,"(",{"$f":"IF('入力シート（確認・工事届）'!$I$254=\"\",\"\",'入力シート（確認・工事届）'!$I$254)","v":""},null,null,null,")(",{"$f":"IF('入力シート（確認・工事届）'!$N$254=\"\",\"\",'入力シート（確認・工事届）'!$N$254)","v":""},null,null,null,")(",{"$f":"IF('入力シート（確認・工事届）'!$S$254=\"\",\"\",'入力シート（確認・工事届）'!$S$254)","v":""},null,null,null,")(",{"$f":"IF('入力シート（確認・工事届）'!$X$254=\"\",\"\",'入力シート（確認・工事届）'!$X$254)","v":""},null,null,null,")"]
[null,"【ハ.建築基準法第５２条第１項及び第２項の規定による建築物の容積率】"]
[null,null,null,null,null,null,null,"(",{"$f":"IF('入力シート（確認・工事届）'!I256=\"\",\"\",'入力シート（確認・工事届）'!I256)","v":""},null,null,null,")(",{"$f":"IF('入力シート（確認・工事届）'!N256=\"\",\"\",'入力シート（確認・工事届）'!N256)","v":""},null,null,null,")(",{"$f":"IF('入力シート（確認・工事届）'!S256=\"\",\"\",'入力シート（確認・工事届）'!S256)","v":""},null,null,null,")(",{"$f":"IF('入力シート（確認・工事届）'!X256=\"\",\"\",'入力シート（確認・工事届）'!X256)","v":""},null,null,null,")"]
[null,"【ニ.建築基準法第５３条第１項の規定による建築物の建蔽率】"]
[null,null,null,null,null,null,null,"(",{"$f":"IF('入力シート（確認・工事届）'!I258=\"\",\"\",'入力シート（確認・工事届）'!I258)","v":""},null,null,null,")(",{"$f":"IF('入力シート（確認・工事届）'!N258=\"\",\"\",'入力シート（確認・工事届）'!N258)","v":""},null,null,null,")(",{"$f":"IF('入力シート（確認・工事届）'!S258=\"\",\"\",'入力シート（確認・工事届）'!S258)","v":""},null,null,null,")(",{"$f":"IF('入力シート（確認・工事届）'!X258=\"\",\"\",'入力シート（確認・工事届）'!X258)","v":""},null,null,null,")"]
[null,"【ホ.敷地面積の合計】",null,null,null,null,null,null,"(１)",null,{"$f":"IF('入力シート（確認・工事届）'!K259=\"\",\"\",'入力シート（確認・工事届）'!K259)","v":""},null,null,null,"㎡"]
[null,null,null,null,null,null,null,null,"(２)",null,{"$f":"IF('入力シート（確認・工事届）'!K260=\"\",\"\",'入力シート（確認・工事届）'!K260)","v":""},null,null,null,"㎡"]
[null,"【ヘ.敷地に建築可能な延べ面積を敷地面積で除した数値】",null,null,null,null,null,null,null,null,null,null,null,null,null,null,null,{"$f":"IF('入力シート（確認・工事届）'!R261=\"\",\"\",'入力シート（確認・工事届）'!R261)","v":""}]
[null,"【ト.敷地に建築可能な建築面積を敷地面積で除した数値】",null,null,null,null,null,null,null,null,null,null,null,null,null,null,null,{"$f":"IF('入力シート（確認・工事届）'!R262=\"\",\"\",'入力シート（確認・工事届）'!R262)","v":""}]
[null,"【チ.備考】",null,null,null,{"$f":"'入力シート（確認・工事届）'!F263","v":"　　"}]
[null,null,0]
["【８.主要用途】",null,null,null,null,"（区分",{"$f":"IF('入力シート（確認・工事届）'!D267=\"\",\"\",'入力シート（確認・工事届）'!D267)","v":""},null,null,"）",{"$f":"IF('入力シート（確認・工事届）'!I267=\"\",\"\",'入力シート（確認・工事届）'!I267)","v":""}]
[]
["【９.工事種別】"]
[null,{"$f":"IF('入力シート（確認・工事届）'!AD270=TRUE,\"■\",IF('入力シート（確認・工事届）'!AD270=FALSE,\"□\"))","v":"□"},"新築",null,{"$f":"IF('入力シート（確認・工事届）'!AE270=TRUE,\"■\",IF('入力シート（確認・工事届）'!AE270=FALSE,\"□\"))","v":"□"},"増築",null,{"$f":"IF('入力シート（確認・工事届）'!AF270=TRUE,\"■\",IF('入力シート（確認・工事届）'!AF270=FALSE,\"□\"))","v":"□"},"改築",null,{"$f":"IF('入力シート（確認・工事届）'!AG270=TRUE,\"■\",IF('入力シート（確認・工事届）'!AG270=FALSE,\"□\"))","v":"□"},"移転",null,{"$f":"IF('入力シート（確認・工事届）'!AH270=TRUE,\"■\",IF('入力シート（確認・工事届）'!AH270=FALSE,\"□\"))","v":"□"},"用途変更",null,null,{"$f":"IF('入力シート（確認・工事届）'!AI270=TRUE,\"■\",IF('入力シート（確認・工事届）'!AI270=FALSE,\"□\"))","v":"□"},"大規模の修繕",null,null,null,{"$f":"IF('入力シート（確認・工事届）'!AJ270=TRUE,\"■\",IF('入力シート（確認・工事届）'!AJ270=FALSE,\"□\"))","v":"□"},"大規模の模様替"]
["【１０.建築面積】",null,null,null,null,null,null,null,null,"（","申請部分",null,null,null,"）","（","申請以外の部分",null,null,null,"）","（","合計",null,null,null,"）"]
[null,"【イ.建築面積】",null,null,null,null,null,null,null,"（",{"$f":"IF('入力シート（確認・工事届）'!K273=\"\",\"\",ROUNDUP('入力シート（確認・工事届）'!K273,2))","v":""},null,null,null,"）","（",{"$f":"IF('入力シート（確認・工事届）'!Q273=\"\",\"\",ROUNDUP('入力シート（確認・工事届）'!Q273,2))","v":""},null,null,null,"）","（",{"$f":"IF('入力シート（確認・工事届）'!W273=\"\",\"\",'入力シート（確認・工事届）'!W273)","v":""},null,null,null,"）"]
[null,"【ロ.建蔽率】",null,null,null,null,null,null,null,null,{"$f":"IF('入力シート（確認・工事届）'!K274=\"\",\"\",'入力シート（確認・工事届）'!K274)","v":""},null,null,null,"％"]
["【１１.延べ面積】",null,null,null,null,null,null,null,null,"（","申請部分",null,null,null,"）","（","申請以外の部分",null,null,null,"）","（","合計",null,null,null,"）"]
[null,"【イ.建築物全体】",null,null,null,null,null,null,null,"（",{"$f":"IF('入力シート（確認・工事届）'!K277=\"\",\"\",'入力シート（確認・工事届）'!K277)","v":""},null,null,null,"）","（",{"$f":"IF('入力シート（確認・工事届）'!Q277=\"\",\"\",'入力シート（確認・工事届）'!Q277)","v":""},null,null,null,"）","（",{"$f":"IF('入力シート（確認・工事届）'!W277=\"\",\"\",'入力シート（確認・工事届）'!W277)","v":""},null,null,null,"）"]
[null,"【ロ.地階の住宅又は老人ホーム等の部分】"]
[null,null,null,null,null,null,null,null,null,"（",{"$f":"IF('入力シート（確認・工事届）'!K279=\"\",\"\",'入力シート（確認・工事届）'!K279)","v":""},null,null,null,"）","（",{"$f":"IF('入力シート（確認・工事届）'!Q279=\"\",\"\",'入力シート（確認・工事届）'!Q279)","v":""},null,null,null,"）","（",{"$f":"IF('入力シート（確認・工事届）'!W279=\"\",\"\",'入力シート（確認・工事届）'!W279)","v":""},null,null,null,"）"]
[null,"【ハ.エレベーターの昇降路の部分】"]
[null,null,null,null,null,null,null,null,null,"（",{"$f":"IF('入力シート（確認・工事届）'!K281=\"\",\"\",'入力シート（確認・工事届）'!K281)","v":""},null,null,null,"）","（",{"$f":"IF('入力シート（確認・工事届）'!Q281=\"\",\"\",'入力シート（確認・工事届）'!Q281)","v":""},null,null,null,"）","（",{"$f":"IF('入力シート（確認・工事届）'!W281=\"\",\"\",'入力シート（確認・工事届）'!W281)","v":""},null,null,null,"）"]
[null,"【ニ.共同住宅又は老人ホーム等の共用の廊下等の部分】"]
[null,null,null,null,null,null,null,null,null,"（",{"$f":"IF('入力シート（確認・工事届）'!K283=\"\",\"\",'入力シート（確認・工事届）'!K283)","v":""},null,null,null,"）","（",{"$f":"IF('入力シート（確認・工事届）'!Q283=\"\",\"\",'入力シート（確認・工事届）'!Q283)","v":""},null,null,null,"）","（",{"$f":"IF('入力シート（確認・工事届）'!W283=\"\",\"\",'入力シート（確認・工事届）'!W283)","v":""},null,null,null,"）"]
[null,"【ホ.自動車車庫等の部分】",null,null,null,null,null,null,null,"（",{"$f":"IF('入力シート（確認・工事届）'!K284=\"\",\"\",'入力シート（確認・工事届）'!K284)","v":""},null,null,null,"）","（",{"$f":"IF('入力シート（確認・工事届）'!Q284=\"\",\"\",'入力シート（確認・工事届）'!Q284)","v":""},null,null,null,"）","（",{"$f":"IF('入力シート（確認・工事届）'!W284=\"\",\"\",'入力シート（確認・工事届）'!W284)","v":""},null,null,null,"）"]
[null,"【へ.備蓄倉庫の部分】",null,null,null,null,null,null,null,"（",{"$f":"IF('入力シート（確認・工事届）'!K285=\"\",\"\",'入力シート（確認・工事届）'!K285)","v":""},null,null,null,"）","（",{"$f":"IF('入力シート（確認・工事届）'!Q285=\"\",\"\",'入力シート（確認・工事届）'!Q285)","v":""},null,null,null,"）","（",{"$f":"IF('入力シート（確認・工事届）'!W285=\"\",\"\",'入力シート（確認・工事届）'!W285)","v":""},null,null,null,"）"]
[null,"【ト.蓄電池の設置部分】",null,null,null,null,null,null,null,"（",{"$f":"IF('入力シート（確認・工事届）'!K286=\"\",\"\",'入力シート（確認・工事届）'!K286)","v":""},null,null,null,"）","（",{"$f":"IF('入力シート（確認・工事届）'!Q286=\"\",\"\",'入力シート（確認・工事届）'!Q286)","v":""},null,null,null,"）","（",{"$f":"IF('入力シート（確認・工事届）'!W286=\"\",\"\",'入力シート（確認・工事届）'!W286)","v":""},null,null,null,"）"]
[null,"【チ.自家発電設備の設置部分】",null,null,null,null,null,null,null,"（",{"$f":"IF('入力シート（確認・工事届）'!K287=\"\",\"\",'入力シート（確認・工事届）'!K287)","v":""},null,null,null,"）","（",{"$f":"IF('入力シート（確認・工事届）'!Q287=\"\",\"\",'入力シート（確認・工事届）'!Q287)","v":""},null,null,null,"）","（",{"$f":"IF('入力シート（確認・工事届）'!W287=\"\",\"\",'入力シート（確認・工事届）'!W287)","v":""},null,null,null,"）"]
[null,"【リ.貯水槽の設置部分】",null,null,null,null,null,null,null,"（",{"$f":"IF('入力シート（確認・工事届）'!K288=\"\",\"\",'入力シート（確認・工事届）'!K288)","v":""},null,null,null,"）","（",{"$f":"IF('入力シート（確認・工事届）'!Q288=\"\",\"\",'入力シート（確認・工事届）'!Q288)","v":""},null,null,null,"）","（",{"$f":"IF('入力シート（確認・工事届）'!W288=\"\",\"\",'入力シート（確認・工事届）'!W288)","v":""},null,null,null,"）"]
[null,"【ヌ.宅配ボックスの設置部分】",null,null,null,null,null,null,null,"（",{"$f":"IF('入力シート（確認・工事届）'!K289=\"\",\"\",'入力シート（確認・工事届）'!K289)","v":""},null,null,null,"）","（",{"$f":"IF('入力シート（確認・工事届）'!Q289=\"\",\"\",'入力シート（確認・工事届）'!Q289)","v":""},null,null,null,"）","（",{"$f":"IF('入力シート（確認・工事届）'!W289=\"\",\"\",'入力シート（確認・工事届）'!W289)","v":""},null,null,null,"）"]
[null,"【ル.住宅の部分】",null,null,null,null,null,null,null,"（",{"$f":"IF('入力シート（確認・工事届）'!K290=\"\",\"\",'入力シート（確認・工事届）'!K290)","v":""},null,null,null,"）","（",{"$f":"IF('入力シート（確認・工事届）'!Q290=\"\",\"\",'入力シート（確認・工事届）'!Q290)","v":""},null,null,null,"）","（",{"$f":"IF('入力シート（確認・工事届）'!W290=\"\",\"\",'入力シート（確認・工事届）'!W290)","v":""},null,null,null,"）"]
[null,"【ヲ.老人ホーム等の部分】",null,null,null,null,null,null,null,"（",{"$f":"IF('入力シート（確認・工事届）'!K291=\"\",\"\",'入力シート（確認・工事届）'!K291)","v":""},null,null,null,"）","（",{"$f":"IF('入力シート（確認・工事届）'!Q291=\"\",\"\",'入力シート（確認・工事届）'!Q291)","v":""},null,null,null,"）","（",{"$f":"IF('入力シート（確認・工事届）'!W291=\"\",\"\",'入力シート（確認・工事届）'!W291)","v":""},null,null,null,"）"]
[null,"【ワ.延べ面積】",null,null,null,null,null,null,null,null,{"$f":"IF('入力シート（確認・工事届）'!K292=\"\",\"\",'入力シート（確認・工事届）'!K292)","v":""}]
[null,"【カ.容積率】",null,null,null,null,null,null,null,null,{"$f":"IF('入力シート（確認・工事届）'!K293=\"\",\"\",'入力シート（確認・工事届）'!K293)","v":""},null,null,null,"％"]
["【１２.建築物の数】"]
[null,"【イ.申請に係る建築物の数】",null,null,null,null,null,null,null,null,null,{"$f":"IF('入力シート（確認・工事届）'!M296=\"\",\"\",'入力シート（確認・工事届）'!M296)","v":""}]
[null,"【ロ.同一敷地内の他の建築物の数】",null,null,null,null,null,null,null,null,null,{"$f":"IF('入力シート（確認・工事届）'!M297=\"\",\"\",'入力シート（確認・工事届）'!M297)","v":""}]
["【１３.建築物の高さ等】",null,null,null,null,null,null,null,null,"（","申請に係る建築物",null,null,null,null,"）","（","他の建築物",null,null,null,null,"）"]
[null,"【イ.最高の高さ】",null,null,null,null,null,null,null,"（",{"$f":"IF('入力シート（確認・工事届）'!K300=\"\",\"\",ROUNDUP('入力シート（確認・工事届）'!K300,3))","v":""},null,null,null,null,"）","（",{"$f":"IF('入力シート（確認・工事届）'!R300=\"\",\"\",ROUNDUP('入力シート（確認・工事届）'!R300,3))","v":""},null,null,null,null,"）"]
[null,"【ロ.階数】",null,null,null,null,null,null,null,"地上（",{"$f":"IF('入力シート（確認・工事届）'!K301=\"\",\"\",'入力シート（確認・工事届）'!K301)","v":""},null,null,null,null,"）","（",{"$f":"IF('入力シート（確認・工事届）'!R301=\"\",\"\",'入力シート（確認・工事届）'!R301)","v":""},null,null,null,null,"）"]
[null,null,null,null,null,null,null,null,null,"地下（",{"$f":"IF('入力シート（確認・工事届）'!K302=\"\",\"\",'入力シート（確認・工事届）'!K302)","v":""},null,null,null,null,"）","（",{"$f":"IF('入力シート（確認・工事届）'!R302=\"\",\"\",'入力シート（確認・工事届）'!R302)","v":""},null,null,null,null,"）"]
[null,"【ハ.構造】",null,null,null,null,null,null,{"$f":"IF('入力シート（確認・工事届）'!I303=\"\",\"\",'入力シート（確認・工事届）'!I303)","v":""},null,null,null,null,null,null,"一部",null,{"$f":"IF('入力シート（確認・工事届）'!R303=\"\",\"\",'入力シート（確認・工事届）'!R303)","v":""}]
[null,"【ニ.建築基準法第５６条第７項の規定による特例の適用の有無】",null,null,null,null,null,null,null,null,null,null,null,null,null,null,null,null,null,{"$f":"IF('入力シート（確認・工事届）'!AD304=TRUE,\"■\",IF('入力シート（確認・工事届）'!AD304=FALSE,\"□\"))","v":"□"},"有",null,{"$f":"IF('入力シート（確認・工事届）'!AE304=TRUE,\"■\",IF('入力シート（確認・工事届）'!AE304=FALSE,\"□\"))","v":"■"},"無"]
[null,"【ホ.適用があるときは、特例の区分】"]
[null,null,null,null,null,{"$f":"IF('入力シート（確認・工事届）'!AD306=TRUE,\"■\",IF('入力シート（確認・工事届）'!AD306=FALSE,\"□\"))","v":"□"},"道路高さ制限不適用",null,null,null,null,null,{"$f":"IF('入力シート（確認・工事届）'!AE306=TRUE,\"■\",IF('入力シート（確認・工事届）'!AE306=FALSE,\"□\"))","v":"□"},"隣地高さ制限不適用",null,null,null,null,null,{"$f":"IF('入力シート（確認・工事届）'!AF306=TRUE,\"■\",IF('入力シート（確認・工事届）'!AF306=FALSE,\"□\"))","v":"□"},"北側高さ制限不適用"]
["【１４.許可・認定等】"]
[null,{"$f":"IF('入力シート（確認・工事届）'!B309=\"\",\"\",'入力シート（確認・工事届）'!B309)","v":""}]
[]
[]
[]
[]
[]
[]
["【１５.工事着手予定年月日】",null,null,null,null,null,null,null,null,{"$f":"'入力シート（確認・工事届）'!I318","v":"令和"},{"$f":"'入力シート（確認・工事届）'!K318","v":0},"年",{"$f":"'入力シート（確認・工事届）'!M318","v":0},"月",{"$f":"'入力シート（確認・工事届）'!O318","v":0},"日"]
["【１６.工事完了予定年月日】",null,null,null,null,null,null,null,null,"令和",{"$f":"'入力シート（確認・工事届）'!K321","v":0},"年",{"$f":"'入力シート（確認・工事届）'!M321","v":0},"月",{"$f":"'入力シート（確認・工事届）'!O321","v":0},"日"]
["【１７.特定工程工事終了予定年月日】",null,null,null,null,null,null,null,null,null,null,null,null,null,"（特定工程）"]
[null,"（第",{"$f":"'入力シート（確認・工事届）'!C324","v":""},"回）",null,{"$f":"'入力シート（確認・工事届）'!E324","v":"令和"},{"$f":"'入力シート（確認・工事届）'!G324","v":0},"年",{"$f":"'入力シート（確認・工事届）'!I324","v":0},"月",{"$f":"'入力シート（確認・工事届）'!K324","v":0},"日",null,{"$f":"'入力シート（確認・工事届）'!F325","v":0}]
[]
[]
[null,"（第",{"$f":"'入力シート（確認・工事届）'!C326","v":""},"回）",null,{"$f":"'入力シート（確認・工事届）'!E326","v":"令和"},{"$f":"'入力シート（確認・工事届）'!G326","v":0},"年",{"$f":"'入力シート（確認・工事届）'!I326","v":0},"月",{"$f":"'入力シート（確認・工事届）'!K326","v":0},"日",null,{"$f":"'入力シート（確認・工事届）'!F327","v":0}]
[]
[]
[null,"（第",{"$f":"'入力シート（確認・工事届）'!C328","v":""},"回）",null,{"$f":"'入力シート（確認・工事届）'!E328","v":"令和"},{"$f":"'入力シート（確認・工事届）'!G328","v":0},"年",{"$f":"'入力シート（確認・工事届）'!I328","v":0},"月",{"$f":"'入力シート（確認・工事届）'!K328","v":0},"日",null,{"$f":"'入力シート（確認・工事届）'!F329","v":0}]
[]
[]
["【１８.その他必要な事項】"]
[null,{"$f":"'入力シート（確認・工事届）'!B334","v":0}]
[]
[]
["【１９.備考】"]
[null,{"$f":"'入力シート（確認・工事届）'!B337","v":0}]
[]
[]
[]
[]
[]
[]
[]
[]
[]
[]
[]
[]
[]
[]
[]
[]
[]
[]
["（第四面）"]
["建築物別概要"]
["【１.番号】",null,null,null,{"$f":"IF('入力シート（確認・工事届）'!C343=\"\",\"\",'入力シート（確認・工事届）'!C343)","v":1}]
["【２.用途】",null,null,"（","区分",null,{"$f":"IF('入力シート（確認・工事届）'!E347=\"\",\"\",'入力シート（確認・工事届）'!E347)","v":""},null,null,"）",{"$f":"IF('入力シート（確認・工事届）'!K347=\"\",\"\",'入力シート（確認・工事届）'!K347)","v":""}]
[null,null,null,"（","区分",null,{"$f":"IF('入力シート（確認・工事届）'!E348=\"\",\"\",'入力シート（確認・工事届）'!E348)","v":""},null,null,"）",{"$f":"IF('入力シート（確認・工事届）'!K348=\"\",\"\",'入力シート（確認・工事届）'!K348)","v":""}]
[null,null,null,"（","区分",null,{"$f":"IF('入力シート（確認・工事届）'!E349=\"\",\"\",'入力シート（確認・工事届）'!E349)","v":""},null,null,"）",{"$f":"IF('入力シート（確認・工事届）'!K349=\"\",\"\",'入力シート（確認・工事届）'!K349)","v":""}]
[null,null,null,"（","区分",null,{"$f":"IF('入力シート（確認・工事届）'!E350=\"\",\"\",'入力シート（確認・工事届）'!E350)","v":""},null,null,"）",{"$f":"IF('入力シート（確認・工事届）'!K350=\"\",\"\",'入力シート（確認・工事届）'!K350)","v":""}]
[null,null,null,"（","区分",null,{"$f":"IF('入力シート（確認・工事届）'!E351=\"\",\"\",'入力シート（確認・工事届）'!E351)","v":""},null,null,"）",{"$f":"IF('入力シート（確認・工事届）'!K351=\"\",\"\",'入力シート（確認・工事届）'!K351)","v":""}]
["【３.工事種別】"]
[null,{"$f":"IF('入力シート（確認・工事届）'!AD354=TRUE,\"■\",IF('入力シート（確認・工事届）'!AD354=FALSE,\"□\"))","v":"□"},"新築",null,{"$f":"IF('入力シート（確認・工事届）'!AE354=TRUE,\"■\",IF('入力シート（確認・工事届）'!AE354=FALSE,\"□\"))","v":"□"},"増築",null,{"$f":"IF('入力シート（確認・工事届）'!AF354=TRUE,\"■\",IF('入力シート（確認・工事届）'!AF354=FALSE,\"□\"))","v":"□"},"改築",null,{"$f":"IF('入力シート（確認・工事届）'!AG354=TRUE,\"■\",IF('入力シート（確認・工事届）'!AG354=FALSE,\"□\"))","v":"□"},"移転",null,{"$f":"IF('入力シート（確認・工事届）'!AH354=TRUE,\"■\",IF('入力シート（確認・工事届）'!AH354=FALSE,\"□\"))","v":"□"},"用途変更",null,null,{"$f":"IF('入力シート（確認・工事届）'!AI354=TRUE,\"■\",IF('入力シート（確認・工事届）'!AI354=FALSE,\"□\"))","v":"□"},"大規模の修繕",null,null,null,{"$f":"IF('入力シート（確認・工事届）'!AJ354=TRUE,\"■\",IF('入力シート（確認・工事届）'!AJ354=FALSE,\"□\"))","v":"□"},"大規模の模様替"]
["【４.構造】",null,null,null,null,{"$f":"'入力シート（確認・工事届）'!C357","v":0},null,null,null,null,null,null,"一部",null,{"$f":"'入力シート（確認・工事届）'!L357","v":0}]
["【５.主要構造部】"]
[null,{"$f":"IF('入力シート（確認・工事届）'!AD360=TRUE,\"■\",IF('入力シート（確認・工事届）'!AD360=FALSE,\"□\"))","v":"□"},"耐火構造"]
[null,{"$f":"IF('入力シート（確認・工事届）'!AD361=TRUE,\"■\",IF('入力シート（確認・工事届）'!AD361=FALSE,\"□\"))","v":"□"},"建築基準法施行令第108条の３第１項第１号イ及びロに掲げる基準に適合する構造"]
[null,{"$f":"IF('入力シート（確認・工事届）'!AD362=TRUE,\"■\",IF('入力シート（確認・工事届）'!AD362=FALSE,\"□\"))","v":"□"},"準耐火構造"]
[null,{"$f":"IF('入力シート（確認・工事届）'!AE362=TRUE,\"■\",IF('入力シート（確認・工事届）'!AE362=FALSE,\"□\"))","v":"□"},"準耐火構造と同等の準耐火性能を有する構造（ロ-１）"]
[null,{"$f":"IF('入力シート（確認・工事届）'!AD363=TRUE,\"■\",IF('入力シート（確認・工事届）'!AD363=FALSE,\"□\"))","v":"□"},"準耐火構造と同等の準耐火性能を有する構造（ロ-２）"]
[null,{"$f":"IF('入力シート（確認・工事届）'!AE363=TRUE,\"■\",IF('入力シート（確認・工事届）'!AE363=FALSE,\"□\"))","v":"□"},"その他"]
["【６.建築基準法第21条及び第27条の規定の適用】"]
[null,{"$f":"IF('入力シート（確認・工事届）'!AD366=TRUE,\"■\",IF('入力シート（確認・工事届）'!AD366=FALSE,\"□\"))","v":"□"},"建築基準法施行令第109条の５第１号に掲げる基準に適合する構造"]
[null,{"$f":"IF('入力シート（確認・工事届）'!AD367=TRUE,\"■\",IF('入力シート（確認・工事届）'!AD367=FALSE,\"□\"))","v":"□"},"建築基準法第21条第１項ただし書きに該当する建築物"]
[null,{"$f":"IF('入力シート（確認・工事届）'!AD368=TRUE,\"■\",IF('入力シート（確認・工事届）'!AD368=FALSE,\"□\"))","v":"□"},"建築基準法施行令第110条第１号に掲げる基準に適合する構造"]
[null,{"$f":"IF('入力シート（確認・工事届）'!AD369=TRUE,\"■\",IF('入力シート（確認・工事届）'!AD369=FALSE,\"□\"))","v":"□"},"その他"]
[null,{"$f":"IF('入力シート（確認・工事届）'!AE369=TRUE,\"■\",IF('入力シート（確認・工事届）'!AE369=FALSE,\"□\"))","v":"□"},"建築基準法第21条又は第27条の規定の適用を受けない"]
["【７.建築基準法第61条の規定の適用】"]
[null,{"$f":"IF('入力シート（確認・工事届）'!AD371=TRUE,\"■\",IF('入力シート（確認・工事届）'!AD371=FALSE,\"□\"))","v":"□"},"耐火建築物"]
[null,{"$f":"IF('入力シート（確認・工事届）'!AE371=TRUE,\"■\",IF('入力シート（確認・工事届）'!AE371=FALSE,\"□\"))","v":"□"},"延焼防止建築物"]
[null,{"$f":"IF('入力シート（確認・工事届）'!AF371=TRUE,\"■\",IF('入力シート（確認・工事届）'!AF371=FALSE,\"□\"))","v":"□"},"準耐火建築物"]
[null,{"$f":"IF('入力シート（確認・工事届）'!AD372=TRUE,\"■\",IF('入力シート（確認・工事届）'!AD372=FALSE,\"□\"))","v":"□"},"準延焼防止建築物"]
[null,{"$f":"IF('入力シート（確認・工事届）'!AE372=TRUE,\"■\",IF('入力シート（確認・工事届）'!AE32=FALSE,\"□\"))","v":"□"},"その他"]
[null,{"$f":"IF('入力シート（確認・工事届）'!AF372=TRUE,\"■\",IF('入力シート（確認・工事届）'!AF372=FALSE,\"□\"))","v":"□"},"建築基準法第61条の規定の適用を受けない"]
["【８.階数】"]
[null,"【イ.地階を除く階数】",null,null,null,null,null,null,null,{"$f":"IF('入力シート（確認・工事届）'!K375=\"\",\"\",'入力シート（確認・工事届）'!K375)","v":""}]
[null,"【ロ.地階の階数】",null,null,null,null,null,null,null,{"$f":"IF('入力シート（確認・工事届）'!K376=\"\",\"\",'入力シート（確認・工事届）'!K376)","v":""}]
[null,"【ハ.昇降機塔等の階の数】",null,null,null,null,null,null,null,{"$f":"IF('入力シート（確認・工事届）'!K377=\"\",\"\",'入力シート（確認・工事届）'!K377)","v":""}]
[null,"【ニ.地階の倉庫等の階の数】",null,null,null,null,null,null,null,{"$f":"IF('入力シート（確認・工事届）'!K378=\"\",\"\",'入力シート（確認・工事届）'!K378)","v":""}]
["【９.高さ】"]
[null,"【イ.最高の高さ】",null,null,null,null,null,null,null,{"$f":"IF('入力シート（確認・工事届）'!K381=\"\",\"\",ROUNDUP('入力シート（確認・工事届）'!K381,3))","v":""},null,null,"ｍ"]
[null,"【ロ.最高の軒の高さ】",null,null,null,null,null,null,null,{"$f":"IF('入力シート（確認・工事届）'!K382=\"\",\"\",ROUNDUP('入力シート（確認・工事届）'!K382,3))","v":""},null,null,"ｍ"]
["【１０.建築設備の種類】",null,null,null,null,null,null,0]
[null,{"$f":"IF('入力シート（確認・工事届）'!AI390=\"\",\"\",LEFT('入力シート（確認・工事届）'!AI390,LEN('入力シート（確認・工事届）'!AI390)-1))","v":""}]
[]
[null,{"$f":"IF('入力シート（確認・工事届）'!J389=\"\",\"\",'入力シート（確認・工事届）'!J389)","v":""}]
["【１１.確認の特例】"]
[null,"【イ.建築基準法第６条の３第１項ただし書又は法第１８条第４項ただし書の規定による審査の特例"]
[null,null,"の適用の有無】",null,null,null,null,null,null,null,null,null,null,null,null,null,null,null,null,null,null,null,null,{"$f":"IF('入力シート（確認・工事届）'!AD393=TRUE,\"■\",IF('入力シート（確認・工事届）'!AD393=FALSE,\"□\"))","v":"□"},"有",null,{"$f":"IF('入力シート（確認・工事届）'!AE393=TRUE,\"■\",IF('入力シート（確認・工事届）'!AE393=FALSE,\"□\"))","v":"□"},"無"]
[null,"【ロ.建築基準法第６条の４第１項の規定による確認の特例の適用の有無】",null,null,null,null,null,null,null,null,null,null,null,null,null,null,null,null,null,null,null,null,null,{"$f":"IF('入力シート（確認・工事届）'!AD394=TRUE,\"■\",IF('入力シート（確認・工事届）'!AD394=FALSE,\"□\"))","v":"□"},"有",null,{"$f":"IF('入力シート（確認・工事届）'!AE394=TRUE,\"■\",IF('入力シート（確認・工事届）'!AE394=FALSE,\"□\"))","v":"□"},"無"]
[null,"【ハ.建築基準法施行令第１０条各号に掲げる建築物の区分】",null,null,null,null,null,null,null,null,null,null,null,null,null,null,null,null,null,null,null,null,null,"第",{"$f":"IF('入力シート（確認・工事届）'!Y396=\"\",\"\",'入力シート（確認・工事届）'!Y396)","v":""},null,null,"号"]
[null,"【ニ.認定型式の認定番号】",null,null,null,null,null,null,null,null,null,null,null,null,null,null,null,"第",{"$f":"IF('入力シート（確認・工事届）'!T397=\"\",\"\",'入力シート（確認・工事届）'!T397)","v":""},null,null,null,null,null,null,null,null,"号"]
[null,"【ホ.適合する一連の規定の区分】",null,null,null,null,null,null,null,null,null,null,null,null,null,{"$f":"IF('入力シート（確認・工事届）'!AD398=TRUE,\"■\",IF('入力シート（確認・工事届）'!AD398=FALSE,\"□\"))","v":"□"},"建築基準法施行令第１３６条の２の１１第１号イ"]
[null,null,null,null,null,null,null,null,null,null,null,null,null,null,null,{"$f":"IF('入力シート（確認・工事届）'!AD399=TRUE,\"■\",IF('入力シート（確認・工事届）'!AD399=FALSE,\"□\"))","v":"□"},"建築基準法施行令第１３６条の２の１１第１号ロ"]
[null,"【へ.認証型式部材等の認証番号】",null,null,null,null,null,null,null,null,null,null,null,null,null,null,null,null,{"$f":"IF('入力シート（確認・工事届）'!T400=\"\",\"\",'入力シート（確認・工事届）'!T400)","v":""}]
["【１２.床面積】",null,null,null,null,null,null,null,null,"（","申請部分",null,null,null,")","（","申請以外の部分",null,null,null,")","（","合計",null,null,null,")"]
[null,"【イ.階別】",null,null,null,"（",{"$f":"IF('入力シート（確認・工事届）'!K403=\"\",\"\",'入力シート（確認・工事届）'!F403&'入力シート（確認・工事届）'!G403)","v":""},null,"階）","（",{"$f":"IF('入力シート（確認・工事届）'!K403=\"\",\"\",'入力シート（確認・工事届）'!K403)","v":""},null,null,null,")","（",{"$f":"IF('入力シート（確認・工事届）'!Q403=\"\",\"\",'入力シート（確認・工事届）'!Q403)","v":""},null,null,null,")","（",{"$f":"IF('入力シート（確認・工事届）'!W403=\"\",\"\",'入力シート（確認・工事届）'!W403)","v":""},null,null,null,")"]
[null,null,null,null,null,"（",{"$f":"IF('入力シート（確認・工事届）'!K404=\"\",\"\",'入力シート（確認・工事届）'!F404&'入力シート（確認・工事届）'!G404)","v":""},null,"階）","（",{"$f":"IF('入力シート（確認・工事届）'!K404=\"\",\"\",'入力シート（確認・工事届）'!K404)","v":""},null,null,null,")","（",{"$f":"IF('入力シート（確認・工事届）'!Q404=\"\",\"\",'入力シート（確認・工事届）'!Q404)","v":""},null,null,null,")","（",{"$f":"IF('入力シート（確認・工事届）'!W404=\"\",\"\",'入力シート（確認・工事届）'!W404)","v":""},null,null,null,")"]
[null,null,null,null,null,"（",{"$f":"IF('入力シート（確認・工事届）'!K405=\"\",\"\",'入力シート（確認・工事届）'!F405&'入力シート（確認・工事届）'!G405)","v":""},null,"階）","（",{"$f":"IF('入力シート（確認・工事届）'!K405=\"\",\"\",'入力シート（確認・工事届）'!K405)","v":""},null,null,null,")","（",{"$f":"IF('入力シート（確認・工事届）'!Q405=\"\",\"\",'入力シート（確認・工事届）'!Q405)","v":""},null,null,null,")","（",{"$f":"IF('入力シート（確認・工事届）'!W405=\"\",\"\",'入力シート（確認・工事届）'!W405)","v":""},null,null,null,")"]
[null,null,null,null,null,"（",{"$f":"IF('入力シート（確認・工事届）'!K406=\"\",\"\",'入力シート（確認・工事届）'!F406&'入力シート（確認・工事届）'!G406)","v":""},null,"階）","（",{"$f":"IF('入力シート（確認・工事届）'!K406=\"\",\"\",'入力シート（確認・工事届）'!K406)","v":""},null,null,null,")","（",{"$f":"IF('入力シート（確認・工事届）'!Q406=\"\",\"\",'入力シート（確認・工事届）'!Q406)","v":""},null,null,null,")","（",{"$f":"IF('入力シート（確認・工事届）'!W406=\"\",\"\",'入力シート（確認・工事届）'!W406)","v":""},null,null,null,")"]
[null,null,null,null,null,"（",{"$f":"IF('入力シート（確認・工事届）'!K407=\"\",\"\",'入力シート（確認・工事届）'!F407&'入力シート（確認・工事届）'!G407)","v":""},null,"階）","（",{"$f":"IF('入力シート（確認・工事届）'!K407=\"\",\"\",'入力シート（確認・工事届）'!K407)","v":""},null,null,null,")","（",{"$f":"IF('入力シート（確認・工事届）'!Q407=\"\",\"\",'入力シート（確認・工事届）'!Q407)","v":""},null,null,null,")","（",{"$f":"IF('入力シート（確認・工事届）'!W407=\"\",\"\",'入力シート（確認・工事届）'!W407)","v":""},null,null,null,")"]
[null,null,null,null,null,"（",{"$f":"IF('入力シート（確認・工事届）'!K408=\"\",\"\",'入力シート（確認・工事届）'!F408&'入力シート（確認・工事届）'!G408)","v":""},null,"階）","（",{"$f":"IF('入力シート（確認・工事届）'!K408=\"\",\"\",'入力シート（確認・工事届）'!K408)","v":""},null,null,null,")","（",{"$f":"IF('入力シート（確認・工事届）'!Q408=\"\",\"\",'入力シート（確認・工事届）'!Q408)","v":""},null,null,null,")","（",{"$f":"IF('入力シート（確認・工事届）'!W408=\"\",\"\",'入力シート（確認・工事届）'!W408)","v":""},null,null,null,")"]
[null,"【ロ.合計】",null,null,null,null,null,null,null,"（",{"$f":"IF('入力シート（確認・工事届）'!K409=\"\",\"\",'入力シート（確認・工事届）'!K409)","v":0},null,null,null,")","（",{"$f":"IF('入力シート（確認・工事届）'!Q409=\"\",\"\",'入力シート（確認・工事届）'!Q409)","v":0},null,null,null,")","（",{"$f":"IF('入力シート（確認・工事届）'!W409=\"\",\"\",'入力シート（確認・工事届）'!W409)","v":0},null,null,null,")"]
["【１３.屋根】",null,null,null,{"$f":"'入力シート（確認・工事届）'!B412","v":0}]
["【１４.外壁】",null,null,null,{"$f":"'入力シート（確認・工事届）'!B415","v":0}]
["【１５.軒裏】",null,null,null,{"$f":"'入力シート（確認・工事届）'!B418","v":0}]
["【１６.居室の床の高さ】",null,null,null,null,null,null,null,{"$f":"IF('入力シート（確認・工事届）'!B421=\"\",\"\",ROUNDDOWN('入力シート（確認・工事届）'!B421,0))","v":""},null,null,"mm"]
["【１７.便所の種類】",null,null,null,null,null,{"$f":"'入力シート（確認・工事届）'!B424","v":0}]
["【１８.その他必要な事項】"]
[null,{"$f":"'入力シート（確認・工事届）'!B427","v":0}]
[]
["【１９.備考】"]
[null,{"$f":"'入力シート（確認・工事届）'!B431","v":0}]
[]
[]
["（第五面）"]
["建築物の階別概要"]
["【１.番号】",null,null,null,null,null,null,{"$f":"IF('入力シート（確認・工事届）'!B438=\"\",\"\",'入力シート（確認・工事届）'!B438)","v":""}]
["【２.階】",null,null,null,null,null,null,{"$f":"IF('入力シート（確認・工事届）'!C441=\"\",\"\",'入力シート（確認・工事届）'!B441&'入力シート（確認・工事届）'!C441)","v":""}]
["【３.柱の小径】",null,null,null,null,null,null,"",{"$f":"IF('入力シート（確認・工事届）'!B444=\"\",\"\",ROUNDDOWN('入力シート（確認・工事届）'!B444,0))","v":""},null,null,"mm "]
["【４.横架材間の垂直距離】",null,null,null,null,null,null,null,{"$f":"IF('入力シート（確認・工事届）'!B447=\"\",\"\",'入力シート（確認・工事届）'!B447)","v":""},null,null,"mm "]
["【５.階の高さ】",null,null,null,null,null,null,null,{"$f":"IF('入力シート（確認・工事届）'!B450=\"\",\"\",'入力シート（確認・工事届）'!B450)","v":""},null,null,"mm "]
["【６.天井】"]
[null,"【イ.居室の天井の高さ】",null,null,null,null,null,null,null,null,{"$f":"IF('入力シート（確認・工事届）'!K453=\"\",\"\",ROUNDDOWN('入力シート（確認・工事届）'!K453,0))","v":""},null,null,"ｍｍ"]
[null,"【ロ.建築基準法施行令第39条第3項に規定する特定天井】",null,null,null,null,null,null,null,null,null,null,null,null,null,null,null,null,{"$f":"IF('入力シート（確認・工事届）'!AD454=TRUE,\"■\",IF('入力シート（確認・工事届）'!AD454=FALSE,\"□\"))","v":"□"},"有",null,{"$f":"IF('入力シート（確認・工事届）'!AE454=TRUE,\"■\",IF('入力シート（確認・工事届）'!AE454=FALSE,\"□\"))","v":"□"},"無"]
["【７.用途別床面積】"]
[null,null,null,null,"(","用途の区分",null,null,null,")","(","具体的な用途の名称",null,null,null,null,null,null,null,null,null,")","(","床面積",null,null,null,")"]
[null,"【イ.】",null,null,"(",{"$f":"IF('入力シート（確認・工事届）'!E457=\"\",\"\",'入力シート（確認・工事届）'!E457)","v":""},null,null,null,")","(",{"$f":"IF('入力シート（確認・工事届）'!K457=\"\",\"\",'入力シート（確認・工事届）'!K457)","v":""},null,null,null,null,null,null,null,null,null,")","(",{"$f":"IF('入力シート（確認・工事届）'!T457=\"\",\"\",'入力シート（確認・工事届）'!T457)","v":""},null,null,null,")"]
[null,"【ロ.】",null,null,"(",{"$f":"IF('入力シート（確認・工事届）'!E458=\"\",\"\",'入力シート（確認・工事届）'!E458)","v":""},null,null,null,")","(",{"$f":"IF('入力シート（確認・工事届）'!K458=\"\",\"\",'入力シート（確認・工事届）'!K458)","v":""},null,null,null,null,null,null,null,null,null,")","(",{"$f":"IF('入力シート（確認・工事届）'!T458=\"\",\"\",'入力シート（確認・工事届）'!T458)","v":""},null,null,null,")"]
[null,"【ハ.】",null,null,"(",{"$f":"IF('入力シート（確認・工事届）'!E459=\"\",\"\",'入力シート（確認・工事届）'!E459)","v":""},null,null,null,")","(",{"$f":"IF('入力シート（確認・工事届）'!K459=\"\",\"\",'入力シート（確認・工事届）'!K459)","v":""},null,null,null,null,null,null,null,null,null,")","(",{"$f":"IF('入力シート（確認・工事届）'!T459=\"\",\"\",'入力シート（確認・工事届）'!T459)","v":""},null,null,null,")"]
[null,"【ニ.】",null,null,"(",{"$f":"IF('入力シート（確認・工事届）'!E460=\"\",\"\",'入力シート（確認・工事届）'!E460)","v":""},null,null,null,")","(",{"$f":"IF('入力シート（確認・工事届）'!K460=\"\",\"\",'入力シート（確認・工事届）'!K460)","v":""},null,null,null,null,null,null,null,null,null,")","(",{"$f":"IF('入力シート（確認・工事届）'!T460=\"\",\"\",'入力シート（確認・工事届）'!T460)","v":""},null,null,null,")"]
[null,"【ホ.】",null,null,"(",{"$f":"IF('入力シート（確認・工事届）'!E461=\"\",\"\",'入力シート（確認・工事届）'!E461)","v":""},null,null,null,")","(",{"$f":"IF('入力シート（確認・工事届）'!K461=\"\",\"\",'入力シート（確認・工事届）'!K461)","v":""},null,null,null,null,null,null,null,null,null,")","(",{"$f":"IF('入力シート（確認・工事届）'!T461=\"\",\"\",'入力シート（確認・工事届）'!T461)","v":""},null,null,null,")"]
[null,"【ヘ.】",null,null,"(",{"$f":"IF('入力シート（確認・工事届）'!E462=\"\",\"\",'入力シート（確認・工事届）'!E462)","v":""},null,null,null,")","(",{"$f":"IF('入力シート（確認・工事届）'!K462=\"\",\"\",'入力シート（確認・工事届）'!K462)","v":""},null,null,null,null,null,null,null,null,null,")","(",{"$f":"IF('入力シート（確認・工事届）'!T462=\"\",\"\",'入力シート（確認・工事届）'!T462)","v":""},null,null,null,")"]
["【８.その他必要な事項】"]
[null,{"$f":"'入力シート（確認・工事届）'!B465","v":0}]
[]
["【９.備考】"]
[null,{"$f":"'入力シート（確認・工事届）'!B469","v":0}]
[]
[]
[]
[]
[]
[]
[]
[]
["建築物の階別概要"]
["【１.番号】",null,null,null,null,null,null,{"$f":"IF('入力シート（確認・工事届）'!B475=\"\",\"\",'入力シート（確認・工事届）'!B475)","v":""}]
["【２.階】",null,null,null,null,null,null,{"$f":"IF('入力シート（確認・工事届）'!C478=\"\",\"\",'入力シート（確認・工事届）'!B478&'入力シート（確認・工事届）'!C478)","v":""}]
["【３.柱の小径】",null,null,null,null,null,null,"",{"$f":"IF('入力シート（確認・工事届）'!B481=\"\",\"\",ROUNDDOWN('入力シート（確認・工事届）'!B481,0))","v":""},null,null,"mm "]
["【４.横架材間の垂直距離】",null,null,null,null,null,null,null,{"$f":"IF('入力シート（確認・工事届）'!B484=\"\",\"\",'入力シート（確認・工事届）'!B484)","v":""},null,null,"mm "]
["【５.階の高さ】",null,null,null,null,null,null,null,{"$f":"IF('入力シート（確認・工事届）'!B487=\"\",\"\",'入力シート（確認・工事届）'!B487)","v":""},null,null,"mm "]
["【６.天井】"]
[null,"【イ.居室の天井の高さ】",null,null,null,null,null,null,null,null,{"$f":"IF('入力シート（確認・工事届）'!K490=\"\",\"\",ROUNDDOWN('入力シート（確認・工事届）'!K490,0))","v":""},null,null,"ｍｍ"]
[null,"【ロ.建築基準法施行令第39条第3項に規定する特定天井】",null,null,null,null,null,null,null,null,null,null,null,null,null,null,null,null,{"$f":"IF('入力シート（確認・工事届）'!AD491=TRUE,\"■\",IF('入力シート（確認・工事届）'!AD491=FALSE,\"□\"))","v":"□"},"有",null,{"$f":"IF('入力シート（確認・工事届）'!AE491=TRUE,\"■\",IF('入力シート（確認・工事届）'!AE491=FALSE,\"□\"))","v":"□"},"無"]
["【７.用途別床面積】"]
[null,null,null,null,"(","用途の区分",null,null,null,")","(","具体的な用途の名称",null,null,null,null,null,null,null,null,null,")","(","床面積",null,null,null,")"]
[null,"【イ.】",null,null,"(",{"$f":"IF('入力シート（確認・工事届）'!E495=\"\",\"\",'入力シート（確認・工事届）'!E495)","v":""},null,null,null,")","(",{"$f":"IF('入力シート（確認・工事届）'!K495=\"\",\"\",'入力シート（確認・工事届）'!K495)","v":""},null,null,null,null,null,null,null,null,null,")","(",{"$f":"IF('入力シート（確認・工事届）'!T495=\"\",\"\",'入力シート（確認・工事届）'!T495)","v":""},null,null,null,")"]
[null,"【ロ.】",null,null,"(",{"$f":"IF('入力シート（確認・工事届）'!E496=\"\",\"\",'入力シート（確認・工事届）'!E496)","v":""},null,null,null,")","(",{"$f":"IF('入力シート（確認・工事届）'!K496=\"\",\"\",'入力シート（確認・工事届）'!K496)","v":""},null,null,null,null,null,null,null,null,null,")","(",{"$f":"IF('入力シート（確認・工事届）'!T496=\"\",\"\",'入力シート（確認・工事届）'!T496)","v":""},null,null,null,")"]
[null,"【ハ.】",null,null,"(",{"$f":"IF('入力シート（確認・工事届）'!E497=\"\",\"\",'入力シート（確認・工事届）'!E497)","v":""},null,null,null,")","(",{"$f":"IF('入力シート（確認・工事届）'!K497=\"\",\"\",'入力シート（確認・工事届）'!K497)","v":""},null,null,null,null,null,null,null,null,null,")","(",{"$f":"IF('入力シート（確認・工事届）'!T497=\"\",\"\",'入力シート（確認・工事届）'!T497)","v":""},null,null,null,")"]
[null,"【ニ.】",null,null,"(",{"$f":"IF('入力シート（確認・工事届）'!E498=\"\",\"\",'入力シート（確認・工事届）'!E498)","v":""},null,null,null,")","(",{"$f":"IF('入力シート（確認・工事届）'!K498=\"\",\"\",'入力シート（確認・工事届）'!K498)","v":""},null,null,null,null,null,null,null,null,null,")","(",{"$f":"IF('入力シート（確認・工事届）'!T498=\"\",\"\",'入力シート（確認・工事届）'!T498)","v":""},null,null,null,")"]
[null,"【ホ.】",null,null,"(",{"$f":"IF('入力シート（確認・工事届）'!E499=\"\",\"\",'入力シート（確認・工事届）'!E499)","v":""},null,null,null,")","(",{"$f":"IF('入力シート（確認・工事届）'!K499=\"\",\"\",'入力シート（確認・工事届）'!K499)","v":""},null,null,null,null,null,null,null,null,null,")","(",{"$f":"IF('入力シート（確認・工事届）'!T499=\"\",\"\",'入力シート（確認・工事届）'!T499)","v":""},null,null,null,")"]
[null,"【ヘ.】",null,null,"(",{"$f":"IF('入力シート（確認・工事届）'!E500=\"\",\"\",'入力シート（確認・工事届）'!E500)","v":""},null,null,null,")","(",{"$f":"IF('入力シート（確認・工事届）'!K500=\"\",\"\",'入力シート（確認・工事届）'!K500)","v":""},null,null,null,null,null,null,null,null,null,")","(",{"$f":"IF('入力シート（確認・工事届）'!T500=\"\",\"\",'入力シート（確認・工事届）'!T500)","v":""},null,null,null,")"]
["【８.その他必要な事項】"]
[null,{"$f":"'入力シート（確認・工事届）'!B503","v":0}]
[]
["【９.備考】"]
[null,{"$f":"'入力シート（確認・工事届）'!B507","v":0}]
[]
[]
["（第五面）"]
["建築物の階別概要"]
["【１.番号】",null,null,null,null,null,null,{"$f":"IF('入力シート（確認・工事届）'!B513=\"\",\"\",'入力シート（確認・工事届）'!B513)","v":""}]
["【２.階】",null,null,null,null,null,null,{"$f":"IF('入力シート（確認・工事届）'!C516=\"\",\"\",'入力シート（確認・工事届）'!B516&'入力シート（確認・工事届）'!C516)","v":""}]
["【３.柱の小径】",null,null,null,null,null,null,"",{"$f":"IF('入力シート（確認・工事届）'!B519=\"\",\"\",ROUNDDOWN('入力シート（確認・工事届）'!B519,0))","v":""},null,null,"mm "]
["【４.横架材間の垂直距離】",null,null,null,null,null,null,null,{"$f":"IF('入力シート（確認・工事届）'!B522=\"\",\"\",'入力シート（確認・工事届）'!B522)","v":""},null,null,"mm "]
["【５.階の高さ】",null,null,null,null,null,null,null,{"$f":"IF('入力シート（確認・工事届）'!B525=\"\",\"\",'入力シート（確認・工事届）'!B525)","v":""},null,null,"mm "]
["【６.天井】"]
[null,"【イ.居室の天井の高さ】",null,null,null,null,null,null,null,null,{"$f":"IF('入力シート（確認・工事届）'!K528=\"\",\"\",ROUNDDOWN('入力シート（確認・工事届）'!K528,0))","v":""},null,null,"ｍｍ"]
[null,"【ロ.建築基準法施行令第39条第3項に規定する特定天井】",null,null,null,null,null,null,null,null,null,null,null,null,null,null,null,null,{"$f":"IF('入力シート（確認・工事届）'!AD529=TRUE,\"■\",IF('入力シート（確認・工事届）'!AD529=FALSE,\"□\"))","v":"□"},"有",null,{"$f":"IF('入力シート（確認・工事届）'!AE529=TRUE,\"■\",IF('入力シート（確認・工事届）'!AE529=FALSE,\"□\"))","v":"□"},"無"]
["【７.用途別床面積】"]
[null,null,null,null,"(","用途の区分",null,null,null,")","(","具体的な用途の名称",null,null,null,null,null,null,null,null,null,")","(","床面積",null,null,null,")"]
[null,"【イ.】",null,null,"(",{"$f":"IF('入力シート（確認・工事届）'!E533=\"\",\"\",'入力シート（確認・工事届）'!E533)","v":""},null,null,null,")","(",{"$f":"IF('入力シート（確認・工事届）'!K533=\"\",\"\",'入力シート（確認・工事届）'!K533)","v":""},null,null,null,null,null,null,null,null,null,")","(",{"$f":"IF('入力シート（確認・工事届）'!T533=\"\",\"\",'入力シート（確認・工事届）'!T533)","v":""},null,null,null,")"]
[null,"【ロ.】",null,null,"(",{"$f":"IF('入力シート（確認・工事届）'!E534=\"\",\"\",'入力シート（確認・工事届）'!E534)","v":""},null,null,null,")","(",{"$f":"IF('入力シート（確認・工事届）'!K534=\"\",\"\",'入力シート（確認・工事届）'!K534)","v":""},null,null,null,null,null,null,null,null,null,")","(",{"$f":"IF('入力シート（確認・工事届）'!T534=\"\",\"\",'入力シート（確認・工事届）'!T534)","v":""},null,null,null,")"]
[null,"【ハ.】",null,null,"(",{"$f":"IF('入力シート（確認・工事届）'!E535=\"\",\"\",'入力シート（確認・工事届）'!E535)","v":""},null,null,null,")","(",{"$f":"IF('入力シート（確認・工事届）'!K535=\"\",\"\",'入力シート（確認・工事届）'!K535)","v":""},null,null,null,null,null,null,null,null,null,")","(",{"$f":"IF('入力シート（確認・工事届）'!T535=\"\",\"\",'入力シート（確認・工事届）'!T535)","v":""},null,null,null,")"]
[null,"【ニ.】",null,null,"(",{"$f":"IF('入力シート（確認・工事届）'!E536=\"\",\"\",'入力シート（確認・工事届）'!E536)","v":""},null,null,null,")","(",{"$f":"IF('入力シート（確認・工事届）'!K536=\"\",\"\",'入力シート（確認・工事届）'!K536)","v":""},null,null,null,null,null,null,null,null,null,")","(",{"$f":"IF('入力シート（確認・工事届）'!T536=\"\",\"\",'入力シート（確認・工事届）'!T536)","v":""},null,null,null,")"]
[null,"【ホ.】",null,null,"(",{"$f":"IF('入力シート（確認・工事届）'!E537=\"\",\"\",'入力シート（確認・工事届）'!E537)","v":""},null,null,null,")","(",{"$f":"IF('入力シート（確認・工事届）'!K537=\"\",\"\",'入力シート（確認・工事届）'!K537)","v":""},null,null,null,null,null,null,null,null,null,")","(",{"$f":"IF('入力シート（確認・工事届）'!T537=\"\",\"\",'入力シート（確認・工事届）'!T537)","v":""},null,null,null,")"]
[null,"【ヘ.】",null,null,"(",{"$f":"IF('入力シート（確認・工事届）'!E538=\"\",\"\",'入力シート（確認・工事届）'!E538)","v":""},null,null,null,")","(",{"$f":"IF('入力シート（確認・工事届）'!K538=\"\",\"\",'入力シート（確認・工事届）'!K538)","v":""},null,null,null,null,null,null,null,null,null,")","(",{"$f":"IF('入力シート（確認・工事届）'!T538=\"\",\"\",'入力シート（確認・工事届）'!T538)","v":""},null,null,null,")"]
["【８.その他必要な事項】"]
[null,{"$f":"'入力シート（確認・工事届）'!B541","v":0}]
[]
["【９.備考】"]
[null,{"$f":"'入力シート（確認・工事届）'!B545","v":0}]
[]
[]
[]
[]
[]
[]
[]
[]
["建築物の階別概要"]
["【１.番号】",null,null,null,null,null,null,{"$f":"IF('入力シート（確認・工事届）'!B550=\"\",\"\",'入力シート（確認・工事届）'!B550)","v":""}]
["【２.階】",null,null,null,null,null,null,{"$f":"IF('入力シート（確認・工事届）'!C553=\"\",\"\",'入力シート（確認・工事届）'!B553&'入力シート（確認・工事届）'!C553)","v":""}]
["【３.柱の小径】",null,null,null,null,null,null,"",{"$f":"IF('入力シート（確認・工事届）'!B556=\"\",\"\",ROUNDDOWN('入力シート（確認・工事届）'!B556,0))","v":""},null,null,"mm "]
["【４.横架材間の垂直距離】",null,null,null,null,null,null,null,{"$f":"IF('入力シート（確認・工事届）'!B559=\"\",\"\",'入力シート（確認・工事届）'!B559)","v":""},null,null,"mm "]
["【５.階の高さ】",null,null,null,null,null,null,null,{"$f":"IF('入力シート（確認・工事届）'!B562=\"\",\"\",'入力シート（確認・工事届）'!B562)","v":""},null,null,"mm "]
["【６.天井】"]
[null,"【イ.居室の天井の高さ】",null,null,null,null,null,null,null,null,{"$f":"IF('入力シート（確認・工事届）'!K565=\"\",\"\",ROUNDDOWN('入力シート（確認・工事届）'!K565,0))","v":""},null,null,"ｍｍ"]
[null,"【ロ.建築基準法施行令第39条第3項に規定する特定天井】",null,null,null,null,null,null,null,null,null,null,null,null,null,null,null,null,{"$f":"IF('入力シート（確認・工事届）'!AD566=TRUE,\"■\",IF('入力シート（確認・工事届）'!AD566=FALSE,\"□\"))","v":"□"},"有",null,{"$f":"IF('入力シート（確認・工事届）'!AE566=TRUE,\"■\",IF('入力シート（確認・工事届）'!AE566=FALSE,\"□\"))","v":"□"},"無"]
["【７.用途別床面積】"]
[null,null,null,null,"(","用途の区分",null,null,null,")","(","具体的な用途の名称",null,null,null,null,null,null,null,null,null,")","(","床面積",null,null,null,")"]
[null,"【イ.】",null,null,"(",{"$f":"IF('入力シート（確認・工事届）'!E570=\"\",\"\",'入力シート（確認・工事届）'!E570)","v":""},null,null,null,")","(",{"$f":"IF('入力シート（確認・工事届）'!K570=\"\",\"\",'入力シート（確認・工事届）'!K570)","v":""},null,null,null,null,null,null,null,null,null,")","(",{"$f":"IF('入力シート（確認・工事届）'!T570=\"\",\"\",'入力シート（確認・工事届）'!T570)","v":""},null,null,null,")"]
[null,"【ロ.】",null,null,"(",{"$f":"IF('入力シート（確認・工事届）'!E571=\"\",\"\",'入力シート（確認・工事届）'!E571)","v":""},null,null,null,")","(",{"$f":"IF('入力シート（確認・工事届）'!K571=\"\",\"\",'入力シート（確認・工事届）'!K571)","v":""},null,null,null,null,null,null,null,null,null,")","(",{"$f":"IF('入力シート（確認・工事届）'!T571=\"\",\"\",'入力シート（確認・工事届）'!T571)","v":""},null,null,null,")"]
[null,"【ハ.】",null,null,"(",{"$f":"IF('入力シート（確認・工事届）'!E572=\"\",\"\",'入力シート（確認・工事届）'!E572)","v":""},null,null,null,")","(",{"$f":"IF('入力シート（確認・工事届）'!K572=\"\",\"\",'入力シート（確認・工事届）'!K572)","v":""},null,null,null,null,null,null,null,null,null,")","(",{"$f":"IF('入力シート（確認・工事届）'!T572=\"\",\"\",'入力シート（確認・工事届）'!T572)","v":""},null,null,null,")"]
[null,"【ニ.】",null,null,"(",{"$f":"IF('入力シート（確認・工事届）'!E573=\"\",\"\",'入力シート（確認・工事届）'!E573)","v":""},null,null,null,")","(",{"$f":"IF('入力シート（確認・工事届）'!K573=\"\",\"\",'入力シート（確認・工事届）'!K573)","v":""},null,null,null,null,null,null,null,null,null,")","(",{"$f":"IF('入力シート（確認・工事届）'!T573=\"\",\"\",'入力シート（確認・工事届）'!T573)","v":""},null,null,null,")"]
[null,"【ホ.】",null,null,"(",{"$f":"IF('入力シート（確認・工事届）'!E574=\"\",\"\",'入力シート（確認・工事届）'!E574)","v":""},null,null,null,")","(",{"$f":"IF('入力シート（確認・工事届）'!K574=\"\",\"\",'入力シート（確認・工事届）'!K574)","v":""},null,null,null,null,null,null,null,null,null,")","(",{"$f":"IF('入力シート（確認・工事届）'!T574=\"\",\"\",'入力シート（確認・工事届）'!T574)","v":""},null,null,null,")"]
[null,"【ヘ.】",null,null,"(",{"$f":"IF('入力シート（確認・工事届）'!E575=\"\",\"\",'入力シート（確認・工事届）'!E575)","v":""},null,null,null,")","(",{"$f":"IF('入力シート（確認・工事届）'!K575=\"\",\"\",'入力シート（確認・工事届）'!K575)","v":""},null,null,null,null,null,null,null,null,null,")","(",{"$f":"IF('入力シート（確認・工事届）'!T575=\"\",\"\",'入力シート（確認・工事届）'!T575)","v":""},null,null,null,")"]
["【８.その他必要な事項】"]
[null,{"$f":"'入力シート（確認・工事届）'!B578","v":0}]
[]
["【９.備考】"]
[null,{"$f":"'入力シート（確認・工事届）'!B582","v":0}]
[]
[]
["（第六面）"]
["建築物独立部分別概要"]
["【１.番号】",null,null,null,null,null,null,{"$f":"IF('入力シート（確認・工事届）'!B588=\"\",\"\",'入力シート（確認・工事届）'!B588)","v":""}]
["【２.延べ面積】",null,null,null,null,null,null,null,null,null,{"$f":"IF('入力シート（確認・工事届）'!B591=\"\",\"\",'入力シート（確認・工事届）'!B591)","v":""}]
["【３.建築物の高さ等】"]
[null,"【イ.最高の高さ】",null,null,null,null,null,null,null,null,{"$f":"IF('入力シート（確認・工事届）'!I594=\"\",\"\",ROUNDUP('入力シート（確認・工事届）'!I594,3))","v":""}]
[null,"【ロ.最高の軒の高さ】",null,null,null,null,null,null,null,null,{"$f":"IF('入力シート（確認・工事届）'!I595=\"\",\"\",ROUNDUP('入力シート（確認・工事届）'!I595,3))","v":""}]
[null,"【ハ.階数】",null,null,null,null,null,null,null,"地上（",{"$f":"IF('入力シート（確認・工事届）'!K596=\"\",\"\",'入力シート（確認・工事届）'!K596)","v":""},null,null,"）",null,"地下（",{"$f":"IF('入力シート（確認・工事届）'!P596=\"\",\"\",'入力シート（確認・工事届）'!P596)","v":""},null,null,"）"]
[null,"【ニ.構造】",null,null,null,null,null,null,{"$f":"IF('入力シート（確認・工事届）'!I597=\"\",\"\",'入力シート（確認・工事届）'!I597)","v":""},null,null,null,null,null,null,"一部",null,{"$f":"IF('入力シート（確認・工事届）'!R597=\"\",\"\",'入力シート（確認・工事届）'!R597)","v":""}]
["【４.特定構造計算基準又は特定増改築構造計算基準の別】"]
[null,{"$f":"IF('入力シート（確認・工事届）'!AD600=TRUE,\"■\",IF('入力シート（確認・工事届）'!AD600=FALSE,\"□\"))","v":"□"},"特定構造計算基準"]
[null,{"$f":"IF('入力シート（確認・工事届）'!AD601=TRUE,\"■\",IF('入力シート（確認・工事届）'!AD601=FALSE,\"□\"))","v":"□"},"特定増改築構造計算基準"]
["【５.構造計算の区分】"]
[null,{"$f":"IF('入力シート（確認・工事届）'!AD604=TRUE,\"■\",IF('入力シート（確認・工事届）'!AD604=FALSE,\"□\"))","v":"□"},"建築基準法施行令第８１条第１項各号に掲げる基準に従つた構造計算"]
[null,{"$f":"IF('入力シート（確認・工事届）'!AD605=TRUE,\"■\",IF('入力シート（確認・工事届）'!AD605=FALSE,\"□\"))","v":"□"},"建築基準法施行令第８１条第２項第１号イに掲げる構造計算"]
[null,{"$f":"IF('入力シート（確認・工事届）'!AD606=TRUE,\"■\",IF('入力シート（確認・工事届）'!AD606=FALSE,\"□\"))","v":"□"},"建築基準法施行令第８１条第２項第１号ロに掲げる構造計算"]
[null,{"$f":"IF('入力シート（確認・工事届）'!AD607=TRUE,\"■\",IF('入力シート（確認・工事届）'!AD607=FALSE,\"□\"))","v":"□"},"建築基準法施行令第８１条第２項第２号イに掲げる構造計算"]
[null,{"$f":"IF('入力シート（確認・工事届）'!AD608=TRUE,\"■\",IF('入力シート（確認・工事届）'!AD608=FALSE,\"□\"))","v":"□"},"建築基準法施行令第８１条第３項に掲げる構造計算"]
["【６.構造計算に用いたプログラム】"]
[null,"【イ.名称】",null,null,null,{"$f":"'入力シート（確認・工事届）'!G611","v":0}]
[null,"【ロ.区分】"]
[null,null,{"$f":"IF('入力シート（確認・工事届）'!AD613=TRUE,\"■\",IF('入力シート（確認・工事届）'!AD613=FALSE,\"□\"))","v":"□"},"建築基準法第２０条第１項第２号イ又は第３号イの認定を受けたプログラム"]
[null,null,null,"(","大臣認定番号",null,null,null,{"$f":"IF('入力シート（確認・工事届）'!I614=\"\",\"\",'入力シート（確認・工事届）'!I614)","v":""},null,null,null,null,null,null,")"]
[null,null,{"$f":"IF('入力シート（確認・工事届）'!AD615=TRUE,\"■\",IF('入力シート（確認・工事届）'!AD615=FALSE,\"□\"))","v":"□"},"その他のプログラム"]
["【７.建築基準法施行令第１３７条の２各号に定める基準の区分】"]
[null,null,"(",{"$f":"'入力シート（確認・工事届）'!D618","v":0},null,null,null,null,null,null,")"]
["【８.備考】"]
[null,{"$f":"'入力シート（確認・工事届）'!B621","v":0}]

{"sheet":"☆第四面追加","index":4,"n_rows":220,"n_cols":31,"rows_kept":220,"cut":false,"hidden":false,"merged":[[213,4,213,26],[214,8,214,10],[215,6,215,11],[220,1,221,26],[138,4,138,26],[139,4,139,26],[140,4,140,26],[141,8,141,10],[142,6,142,11],[144,1,145,26],[147,1,148,26],[183,9,183,10],[217,1,218,26],[206,10,206,13],[206,16,206,19],[206,22,206,25],[207,10,207,13],[207,16,207,19],[207,22,207,25],[208,10,208,13],[208,16,208,19],[208,22,208,25],[209,10,209,13],[209,16,209,19],[135,10,135,13],[135,16,135,19],[135,22,135,25],[136,10,136,13],[136,16,136,19],[136,22,136,25],[137,10,137,13],[137,16,137,19],[137,22,137,25],[132,10,132,13],[132,16,132,19],[132,22,132,25],[133,10,133,13],[133,16,133,19],[133,22,133,25],[134,10,134,13],[134,16,134,19],[134,22,134,25],[117,1,119,26],[124,24,124,26],[125,21,125,26],[128,21,128,26],[130,10,130,13],[130,16,130,19],[130,22,130,25],[131,10,131,13],[131,16,131,19],[131,22,131,25],[87,5,87,11],[87,14,87,20],[109,9,109,10],[110,9,110,10],[111,9,111,10],[112,9,112,10],[114,9,114,11],[115,9,115,11],[80,6,80,8],[80,10,80,26],[81,6,81,8],[81,10,81,26],[82,6,82,8],[82,10,82,26],[83,6,83,8],[83,10,83,26],[84,6,84,8],[84,10,84,26],[209,22,209,25],[210,10,210,13],[210,16,210,19],[210,22,210,25],[211,4,211,26],[212,4,212,26],[203,10,203,13],[203,16,203,19],[203,22,203,25],[204,10,204,13],[204,16,204,19],[204,22,204,25],[205,10,205,13],[205,16,205,19],[205,22,205,25],[201,21,201,26],[182,9,182,10],[198,21,198,26],[184,9,184,10],[185,9,185,10],[187,9,187,11],[188,9,188,11],[190,1,192,26],[197,24,197,26],[4,0,4,27],[14,14,14,20],[36,9,36,10],[37,9,37,10],[59,10,59,13],[59,16,59,19],[7,6,7,8],[7,10,7,26],[8,6,8,8],[8,10,8,26],[9,6,9,8],[9,10,9,26],[14,5,14,11],[74,1,75,26],[65,4,65,26],[66,4,66,26],[67,4,67,26],[68,8,68,10],[69,6,69,11],[71,1,72,26],[63,10,63,13],[63,16,63,19],[63,22,63,25],[64,10,64,13],[64,16,64,19],[62,16,62,19],[62,22,62,25],[6,4,6,5],[38,9,38,10],[39,9,39,10],[41,9,41,11],[42,9,42,11],[51,24,51,26],[59,22,59,25],[60,10,60,13],[60,16,60,19],[60,22,60,25],[52,21,52,26],[55,21,55,26],[0,11,0,16],[0,18,0,27],[155,10,155,26],[11,6,11,8],[11,10,11,26],[10,6,10,8],[10,10,10,26],[57,10,57,13],[57,16,57,19],[57,22,57,25],[58,10,58,13],[58,16,58,19],[58,22,58,25],[44,1,46,26],[77,0,77,27],[154,6,154,8],[154,10,154,26],[155,6,155,8],[64,22,64,25],[61,10,61,13],[61,16,61,19],[61,22,61,25],[79,4,79,5],[62,10,62,13],[157,10,157,26],[150,0,150,27],[152,4,152,5],[153,6,153,8],[153,10,153,26],[160,5,160,11],[160,14,160,20],[156,6,156,8],[156,10,156,26],[157,6,157,8]]}
["印刷用シート　「☆第四面追加」",null,null,null,null,null,null,null,null,null,null,"シート構成に戻る",null,null,null,null,null,null,"入力シート（確認・工事届）に戻る"]
[]
["同一敷地内に10㎡を超える建築物が2棟以上ある場合、第四面の2棟目以降はこちらに直接入力して作成してください。\n\n"]
["印刷は、ページ設定で必要なページだけ印刷してください。"]
["（第四面）"]
["建築物別概要"]
["【１.番号】",null,null,null,2]
["【２.用途】",null,null,"（","区分",null,null,null,null,"）"]
[null,null,null,"（","区分",null,null,null,null,"）"]
[null,null,null,"（","区分",null,null,null,null,"）"]
[null,null,null,"（","区分",null,null,null,null,"）"]
[null,null,null,"（","区分",null,null,null,null,"）"]
["【３.工事種別】"]
[null,"□","新築",null,"□","増築",null,"□","改築",null,"□","移転",null,"□","用途変更",null,null,"□","大規模の修繕",null,null,null,"□","大規模の模様替"]
["【４.構造】",null,null,null,null,null,null,null,null,null,null,null,"一部"]
["【５.主要構造部】"]
[null,"□","耐火構造"]
[null,"□","建築基準法施行令第108条の３第１項第１号イ及びロに掲げる基準に適合する構造"]
[null,"□","準耐火構造"]
[null,"□","準耐火構造と同等の準耐火性能を有する構造（ロ-１）"]
[null,"□","準耐火構造と同等の準耐火性能を有する構造（ロ-２）"]
[null,"□","その他"]
["【６.建築基準法第21条及び第27条の規定の適用】"]
[null,"□","建築基準法施行令第109条の５第１号に掲げる基準に適合する構造"]
[null,"□","建築基準法第21条第１項ただし書きに該当する建築物"]
[null,"□","建築基準法施行令第110条第１号に掲げる基準に適合する構造"]
[null,"□","その他"]
[null,"□","建築基準法第21条又は第27条の規定の適用を受けない"]
["【７.建築基準法第61条の規定の適用】"]
[null,"□","耐火建築物"]
[null,"□","延焼防止建築物"]
[null,"□","準耐火建築物"]
[null,"□","準延焼防止建築物"]
[null,"□","その他"]
[null,"□","建築基準法第61条の規定の適用を受けない"]
["【８.階数】"]
[null,"【イ.地階を除く階数】"]
[null,"【ロ.地階の階数】"]
[null,"【ハ.昇降機塔等の階の数】"]
[null,"【ニ.地階の倉庫等の階の数】"]
["【９.高さ】"]
[null,"【イ.最高の高さ】",null,null,null,null,null,null,null,null,null,null,"ｍ"]
[null,"【ロ.最高の軒の高さ】",null,null,null,null,null,null,null,null,null,null,"ｍ"]
["【１０.建築設備の種類】",null,null,null,null,null,null,0]
[]
[]
[]
["【１１.確認の特例】"]
[null,"【イ.建築基準法第６条の３第１項ただし書又は法第１８条第４項ただし書の規定による審査の特例"]
[null,null,"の適用の有無】",null,null,null,null,null,null,null,null,null,null,null,null,null,null,null,null,null,null,null,null,"□","有",null,"□","無"]
[null,"【ロ.建築基準法第６条の４第１項の規定による確認の特例の適用の有無】",null,null,null,null,null,null,null,null,null,null,null,null,null,null,null,null,null,null,null,null,null,"□","有",null,"□","無"]
[null,"【ハ.建築基準法施行令第１０条各号に掲げる建築物の区分】",null,null,null,null,null,null,null,null,null,null,null,null,null,null,null,null,null,null,null,null,null,"第",null,null,null,"号"]
[null,"【ニ.認定型式の認定番号】",null,null,null,null,null,null,null,null,null,null,null,null,null,null,null,null,null,null,"第",null,null,null,null,null,null,"号"]
[null,"【ホ.適合する一連の規定の区分】",null,null,null,null,null,null,null,null,null,null,null,null,null,"□","建築基準法施行令第１３６条の２の１１第１号イ"]
[null,null,null,null,null,null,null,null,null,null,null,null,null,null,null,"□","建築基準法施行令第１３６条の２の１１第１号ロ"]
[null,"【へ.認証型式部材等の認証番号】"]
[]
["【１２.床面積】",null,null,null,null,null,null,null,null,"（","申請部分",null,null,null,")","（","申請以外の部分",null,null,null,")","（","合計",null,null,null,")"]
[null,"【イ.階別】",null,null,null,"（",null,null,"階）","（",null,null,null,null,")","（",null,null,null,null,")","（",{"$f":"IF(AND(K59=\"\",Q59=\"\"),\"\",ROUND(K59,2)+ROUND(Q59,2))","v":""},null,null,null,")",null,null,"←","階数の左の記号は、Fが地上、Bが地下、Pが昇降機塔（PH）です。"]
[null,null,null,null,null,"（",null,null,"階）","（",null,null,null,null,")","（",null,null,null,null,")","（","",null,null,null,")"]
[null,null,null,null,null,"（",null,null,"階）","（",null,null,null,null,")","（",null,null,null,null,")","（","",null,null,null,")"]
[null,null,null,null,null,"（",null,null,"階）","（",null,null,null,null,")","（",null,null,null,null,")","（","",null,null,null,")"]
[null,null,null,null,null,"（",null,null,"階）","（",null,null,null,null,")","（",null,null,null,null,")","（","",null,null,null,")"]
[null,null,null,null,null,"（",null,null,"階）","（",null,null,null,null,")","（",null,null,null,null,")","（","",null,null,null,")"]
[null,"【ロ.合計】",null,null,null,null,null,null,null,"（",{"$f":"IF(K59=\"\",\"\",ROUND(K59,2)+ROUND(K60,2)+ROUND(K61,2)+ROUND(K62,2)+ROUND(K63,2)+ROUND(K64,2))","v":""},null,null,null,")","（",{"$f":"IF(Q59=\"\",\"\",ROUND(Q59,2)+ROUND(Q60,2)+ROUND(Q61,2)+ROUND(Q62,2)+ROUND(Q63,2)+ROUND(Q64,2))","v":""},null,null,null,")","（",{"$f":"IF(W59=\"\",\"\",SUM(W59:Z64))","v":""},null,null,null,")"]
["【１３.屋根】"]
["【１４.外壁】"]
["【１５.軒裏】"]
["【１６.居室の床の高さ】",null,null,null,null,null,null,null,null,null,null,"mm"]
["【１７.便所の種類】"]
["【１８.その他必要な事項】"]
[]
[]
["【１９.備考】"]
[]
[]
[]
["（第四面）"]
["建築物別概要"]
["【１.番号】",null,null,null,3]
["【２.用途】",null,null,"（","区分",null,null,null,null,"）"]
[null,null,null,"（","区分",null,null,null,null,"）"]
[null,null,null,"（","区分",null,null,null,null,"）"]
[null,null,null,"（","区分",null,null,null,null,"）"]
[null,null,null,"（","区分",null,null,null,null,"）"]
["【３.工事種別】"]
[null,"□","新築",null,"□","増築",null,"□","改築",null,"□","移転",null,"□","用途変更",null,null,"□","大規模の修繕",null,null,null,"□","大規模の模様替"]
["【４.構造】",null,null,null,null,null,null,null,null,null,null,null,"一部"]
["【５.主要構造部】"]
[null,"□","耐火構造"]
[null,"□","建築基準法施行令第108条の３第１項第１号イ及びロに掲げる基準に適合する構造"]
[null,"□","準耐火構造"]
[null,"□","準耐火構造と同等の準耐火性能を有する構造（ロ-１）"]
[null,"□","準耐火構造と同等の準耐火性能を有する構造（ロ-２）"]
[null,"□","その他"]
["【６.建築基準法第21条及び第27条の規定の適用】"]
[null,"□","建築基準法施行令第109条の５第１号に掲げる基準に適合する構造"]
[null,"□","建築基準法第21条第１項ただし書きに該当する建築物"]
[null,"□","建築基準法施行令第110条第１号に掲げる基準に適合する構造"]
[null,"□","その他"]
[null,"□","建築基準法第21条又は第27条の規定の適用を受けない"]
["【７.建築基準法第61条の規定の適用】"]
[null,"□","耐火建築物"]
[null,"□","延焼防止建築物"]
[null,"□","準耐火建築物"]
[null,"□","準延焼防止建築物"]
[null,"□","その他"]
[null,"□","建築基準法第61条の規定の適用を受けない"]
["【８.階数】"]
[null,"【イ.地階を除く階数】"]
[null,"【ロ.地階の階数】"]
[null,"【ハ.昇降機塔等の階の数】"]
[null,"【ニ.地階の倉庫等の階の数】"]
["【９.高さ】"]
[null,"【イ.最高の高さ】",null,null,null,null,null,null,null,null,null,null,"ｍ"]
[null,"【ロ.最高の軒の高さ】",null,null,null,null,null,null,null,null,null,null,"ｍ"]
["【１０.建築設備の種類】",null,null,null,null,null,null,0]
[]
[]
[]
["【１１.確認の特例】"]
[null,"【イ.建築基準法第６条の３第１項ただし書又は法第１８条第４項ただし書の規定による審査の特例"]
[null,null,"の適用の有無】",null,null,null,null,null,null,null,null,null,null,null,null,null,null,null,null,null,null,null,null,"□","有",null,"□","無"]
[null,"【ロ.建築基準法第６条の４第１項の規定による確認の特例の適用の有無】",null,null,null,null,null,null,null,null,null,null,null,null,null,null,null,null,null,null,null,null,null,"□","有",null,"□","無"]
[null,"【ハ.建築基準法施行令第１０条各号に掲げる建築物の区分】",null,null,null,null,null,null,null,null,null,null,null,null,null,null,null,null,null,null,null,null,null,"第",null,null,null,"号"]
[null,"【ニ.認定型式の認定番号】",null,null,null,null,null,null,null,null,null,null,null,null,null,null,null,null,null,null,"第",null,null,null,null,null,null,"号"]
[null,"【ホ.適合する一連の規定の区分】",null,null,null,null,null,null,null,null,null,null,null,null,null,"□","建築基準法施行令第１３６条の２の１１第１号イ"]
[null,null,null,null,null,null,null,null,null,null,null,null,null,null,null,"□","建築基準法施行令第１３６条の２の１１第１号ロ"]
[null,"【へ.認証型式部材等の認証番号】"]
[]
["【１２.床面積】",null,null,null,null,null,null,null,null,"（","申請部分",null,null,null,")","（","申請以外の部分",null,null,null,")","（","合計",null,null,null,")"]
[null,"【イ.階別】",null,null,null,"（",null,null,"階）","（",null,null,null,null,")","（",null,null,null,null,")","（",{"$f":"IF(AND(K132=\"\",Q132=\"\"),\"\",ROUND(K132,2)+ROUND(Q132,2))","v":""},null,null,null,")",null,null,"←","階数の左の記号は、Fが地上、Bが地下、Pが昇降機塔（PH）です。"]
[null,null,null,null,null,"（",null,null,"階）","（",null,null,null,null,")","（",null,null,null,null,")","（","",null,null,null,")"]
[null,null,null,null,null,"（",null,null,"階）","（",null,null,null,null,")","（",null,null,null,null,")","（","",null,null,null,")"]
[null,null,null,null,null,"（",null,null,"階）","（",null,null,null,null,")","（",null,null,null,null,")","（","",null,null,null,")"]
[null,null,null,null,null,"（",null,null,"階）","（",null,null,null,null,")","（",null,null,null,null,")","（","",null,null,null,")"]
[null,null,null,null,null,"（",null,null,"階）","（",null,null,null,null,")","（",null,null,null,null,")","（","",null,null,null,")"]
[null,"【ロ.合計】",null,null,null,null,null,null,null,"（",{"$f":"IF(K132=\"\",\"\",ROUND(K132,2)+ROUND(K133,2)+ROUND(K134,2)+ROUND(K135,2)+ROUND(K136,2)+ROUND(K137,2))","v":""},null,null,null,")","（",{"$f":"IF(Q132=\"\",\"\",ROUND(Q132,2)+ROUND(Q133,2)+ROUND(Q134,2)+ROUND(Q135,2)+ROUND(Q136,2)+ROUND(Q137,2))","v":""},null,null,null,")","（",{"$f":"IF(W132=\"\",\"\",SUM(W132:Z137))","v":""},null,null,null,")"]
["【１３.屋根】"]
["【１４.外壁】"]
["【１５.軒裏】"]
["【１６.居室の床の高さ】",null,null,null,null,null,null,null,null,null,null,"mm"]
["【１７.便所の種類】"]
["【１８.その他必要な事項】"]
[]
[]
["【１９.備考】"]
[]
[]
[]
["（第四面）"]
["建築物別概要"]
["【１.番号】",null,null,null,4]
["【２.用途】",null,null,"（","区分",null,null,null,null,"）"]
[null,null,null,"（","区分",null,null,null,null,"）"]
[null,null,null,"（","区分",null,null,null,null,"）"]
[null,null,null,"（","区分",null,null,null,null,"）"]
[null,null,null,"（","区分",null,null,null,null,"）"]
["【３.工事種別】"]
[null,"□","新築",null,"□","増築",null,"□","改築",null,"□","移転",null,"□","用途変更",null,null,"□","大規模の修繕",null,null,null,"□","大規模の模様替"]
["【４.構造】",null,null,null,null,null,null,null,null,null,null,null,"一部"]
["【５.主要構造部】"]
[null,"□","耐火構造"]
[null,"□","建築基準法施行令第108条の３第１項第１号イ及びロに掲げる基準に適合する構造"]
[null,"□","準耐火構造"]
[null,"□","準耐火構造と同等の準耐火性能を有する構造（ロ-１）"]
[null,"□","準耐火構造と同等の準耐火性能を有する構造（ロ-２）"]
[null,"□","その他"]
["【６.建築基準法第21条及び第27条の規定の適用】"]
[null,"□","建築基準法施行令第109条の５第１号に掲げる基準に適合する構造"]
[null,"□","建築基準法第21条第１項ただし書きに該当する建築物"]
[null,"□","建築基準法施行令第110条第１号に掲げる基準に適合する構造"]
[null,"□","その他"]
[null,"□","建築基準法第21条又は第27条の規定の適用を受けない"]
["【７.建築基準法第61条の規定の適用】"]
[null,"□","耐火建築物"]
[null,"□","延焼防止建築物"]
[null,"□","準耐火建築物"]
[null,"□","準延焼防止建築物"]
[null,"□","その他"]
[null,"□","建築基準法第61条の規定の適用を受けない"]
["【８.階数】"]
[null,"【イ.地階を除く階数】"]
[null,"【ロ.地階の階数】"]
[null,"【ハ.昇降機塔等の階の数】"]
[null,"【ニ.地階の倉庫等の階の数】"]
["【９.高さ】"]
[null,"【イ.最高の高さ】",null,null,null,null,null,null,null,null,null,null,"ｍ"]
[null,"【ロ.最高の軒の高さ】",null,null,null,null,null,null,null,null,null,null,"ｍ"]
["【１０.建築設備の種類】",null,null,null,null,null,null,0]
[]
[]
[]
["【１１.確認の特例】"]
[null,"【イ.建築基準法第６条の３第１項ただし書又は法第１８条第４項ただし書の規定による審査の特例"]
[null,null,"の適用の有無】",null,null,null,null,null,null,null,null,null,null,null,null,null,null,null,null,null,null,null,null,"□","有",null,"□","無"]
[null,"【ロ.建築基準法第６条の４第１項の規定による確認の特例の適用の有無】",null,null,null,null,null,null,null,null,null,null,null,null,null,null,null,null,null,null,null,null,null,"□","有",null,"□","無"]
[null,"【ハ.建築基準法施行令第１０条各号に掲げる建築物の区分】",null,null,null,null,null,null,null,null,null,null,null,null,null,null,null,null,null,null,null,null,null,"第",null,null,null,"号"]
[null,"【ニ.認定型式の認定番号】",null,null,null,null,null,null,null,null,null,null,null,null,null,null,null,null,null,null,"第",null,null,null,null,null,null,"号"]
[null,"【ホ.適合する一連の規定の区分】",null,null,null,null,null,null,null,null,null,null,null,null,null,"□","建築基準法施行令第１３６条の２の１１第１号イ"]
[null,null,null,null,null,null,null,null,null,null,null,null,null,null,null,"□","建築基準法施行令第１３６条の２の１１第１号ロ"]
[null,"【へ.認証型式部材等の認証番号】"]
[]
["【１２.床面積】",null,null,null,null,null,null,null,null,"（","申請部分",null,null,null,")","（","申請以外の部分",null,null,null,")","（","合計",null,null,null,")"]
[null,"【イ.階別】",null,null,null,"（",null,null,"階）","（",null,null,null,null,")","（",null,null,null,null,")","（",{"$f":"IF(AND(K205=\"\",Q205=\"\"),\"\",ROUND(K205,2)+ROUND(Q205,2))","v":""},null,null,null,")",null,null,"←","階数の左の記号は、Fが地上、Bが地下、Pが昇降機塔（PH）です。"]
[null,null,null,null,null,"（",null,null,"階）","（",null,null,null,null,")","（",null,null,null,null,")","（","",null,null,null,")"]
[null,null,null,null,null,"（",null,null,"階）","（",null,null,null,null,")","（",null,null,null,null,")","（","",null,null,null,")"]
[null,null,null,null,null,"（",null,null,"階）","（",null,null,null,null,")","（",null,null,null,null,")","（","",null,null,null,")"]
[null,null,null,null,null,"（",null,null,"階）","（",null,null,null,null,")","（",null,null,null,null,")","（","",null,null,null,")"]
[null,null,null,null,null,"（",null,null,"階）","（",null,null,null,null,")","（",null,null,null,null,")","（","",null,null,null,")"]
[null,"【ロ.合計】",null,null,null,null,null,null,null,"（",{"$f":"IF(K205=\"\",\"\",ROUND(K205,2)+ROUND(K206,2)+ROUND(K207,2)+ROUND(K208,2)+ROUND(K209,2)+ROUND(K210,2))","v":""},null,null,null,")","（",{"$f":"IF(Q205=\"\",\"\",ROUND(Q205,2)+ROUND(Q206,2)+ROUND(Q207,2)+ROUND(Q208,2)+ROUND(Q209,2)+ROUND(Q210,2))","v":""},null,null,null,")","（",{"$f":"IF(W205=\"\",\"\",SUM(W205:Z210))","v":""},null,null,null,")"]
["【１３.屋根】"]
["【１４.外壁】"]
["【１５.軒裏】"]
["【１６.居室の床の高さ】",null,null,null,null,null,null,null,null,null,null,"mm"]
["【１７.便所の種類】"]
["【１８.その他必要な事項】"]
[]
[]
["【１９.備考】"]

{"sheet":"☆第五面追加","index":5,"n_rows":166,"n_cols":31,"rows_kept":166,"cut":false,"hidden":false,"merged":[[161,1,161,2],[161,5,161,8],[163,1,164,26],[166,1,167,26],[159,1,159,2],[159,5,159,8],[160,1,160,2],[160,5,160,8],[157,1,157,2],[157,5,157,8],[158,1,158,2],[158,5,158,8],[158,23,158,26],[159,11,159,20],[159,23,159,26],[160,11,160,20],[160,23,160,26],[161,11,161,20],[161,23,161,26],[157,23,157,26],[150,8,150,10],[152,10,152,12],[155,5,155,8],[156,1,156,2],[156,5,156,8],[155,11,155,20],[156,11,156,20],[157,11,157,20],[158,11,158,20],[131,1,131,2],[131,5,131,8],[133,1,134,26],[136,1,137,26],[129,1,129,2],[129,5,129,8],[130,1,130,2],[130,5,130,8],[126,1,126,2],[126,5,126,8],[130,11,130,20],[130,23,130,26],[131,11,131,20],[131,23,131,26],[106,5,106,8],[103,1,103,2],[103,5,103,8],[104,1,104,2],[104,5,104,8],[105,11,105,20],[105,23,105,26],[106,11,106,20],[106,23,106,26],[75,1,75,2],[75,5,75,8],[76,1,76,2],[76,5,76,8],[75,11,75,20],[75,23,75,26],[73,1,73,2],[73,5,73,8],[74,1,74,2],[74,5,74,8],[73,11,73,20],[73,23,73,26],[76,23,76,26],[71,1,71,2],[71,5,71,8],[72,1,72,2],[72,5,72,8],[51,1,51,2],[51,5,51,8],[51,23,51,26],[53,1,54,26],[56,1,57,26],[51,11,51,20],[70,5,70,8],[63,8,63,10],[64,8,64,10],[65,8,65,10],[71,11,71,20],[71,23,71,26],[72,11,72,20],[72,23,72,26],[70,11,70,20],[70,23,70,26],[61,7,61,8],[49,1,49,2],[49,5,49,8],[49,23,49,26],[50,1,50,2],[50,5,50,8],[50,23,50,26],[50,11,50,20],[49,11,49,20],[47,1,47,2],[47,5,47,8],[47,23,47,26],[48,1,48,2],[48,5,48,8],[48,23,48,26],[48,11,48,20],[47,11,47,20],[15,23,15,26],[16,11,16,20],[16,23,16,26],[17,11,17,20],[17,23,17,26],[18,11,18,20],[18,23,18,26],[19,11,19,20],[45,5,45,8],[45,23,45,26],[45,11,45,20],[36,7,36,8],[38,8,38,10],[39,8,39,10],[40,8,40,10],[42,10,42,12],[10,8,10,10],[12,10,12,12],[15,5,15,8],[16,1,16,2],[16,5,16,8],[15,11,15,20],[146,7,146,8],[108,1,109,26],[95,8,95,10],[97,10,97,12],[100,5,100,8],[91,7,91,8],[93,8,93,10],[94,8,94,10],[101,1,101,2],[101,5,101,8],[102,1,102,2],[102,5,102,8],[105,1,105,2],[105,5,105,8],[106,1,106,2],[21,1,21,2],[21,5,21,8],[81,1,82,26],[78,1,79,26],[74,11,74,20],[74,23,74,26],[76,11,76,20],[67,10,67,12],[17,1,17,2],[17,5,17,8],[18,1,18,2],[18,5,18,8],[23,1,24,26],[26,1,27,26],[21,11,21,20],[21,23,21,26],[19,1,19,2],[19,5,19,8],[20,1,20,2],[20,5,20,8],[19,23,19,26],[20,11,20,20],[20,23,20,26],[46,1,46,2],[46,5,46,8],[46,23,46,26],[46,11,46,20],[0,11,0,16],[0,18,0,27],[148,8,148,10],[149,8,149,10],[119,8,119,10],[120,8,120,10],[116,7,116,8],[118,8,118,10],[111,1,112,26],[114,0,114,27],[127,1,127,2],[127,5,127,8],[128,1,128,2],[128,5,128,8],[122,10,122,12],[125,5,125,8],[6,7,6,8],[8,8,8,10],[9,8,9,10],[4,0,4,27],[59,0,59,27],[100,11,100,20],[100,23,100,26],[101,11,101,20],[101,23,101,26],[102,11,102,20],[102,23,102,26],[103,11,103,20],[103,23,103,26],[104,11,104,20],[104,23,104,26],[155,23,155,26],[156,23,156,26],[125,11,125,20],[125,23,125,26],[126,11,126,20],[126,23,126,26],[127,11,127,20],[127,23,127,26],[128,11,128,20],[128,23,128,26],[129,11,129,20],[129,23,129,26]]}
["印刷用シート　「☆第五面追加」",null,null,null,null,null,null,null,null,null,null,"シート構成に戻る",null,null,null,null,null,null,"入力シート（確認・工事届）に戻る"]
[]
["階数が5以上、又は第4面「建築物別概要」が複数棟ある場合等で入力シートに入力できない場合は、こちらに直接入力して作成してください。"]
["印刷は、ページ設定で必要なページだけ印刷してください。"]
["（第五面）"]
["建築物の階別概要"]
["【１.番号】"]
["【２.階】",null,null,null,null,null,null,null,null,null,null,null,null,null,null,null,null,null,null,null,null,null,null,null,null,null,null,null,null,"←","階数の左の記号は、Fが地上、Bが地下、Pが昇降機塔（PH）です。"]
["【３.柱の小径】",null,null,null,null,null,null,"",null,null,null,"mm "]
["【４.横架材間の垂直距離】",null,null,null,null,null,null,null,null,null,null,"mm "]
["【５.階の高さ】",null,null,null,null,null,null,null,null,null,null,"mm "]
["【６.天井】"]
[null,"【イ.居室の天井の高さ】",null,null,null,null,null,null,null,null,null,null,null,"ｍｍ"]
[null,"【ロ.建築基準法施行令第39条第3項に規定する特定天井】",null,null,null,null,null,null,null,null,null,null,null,null,null,null,null,null,"□","有",null,"□","無"]
["【７.用途別床面積】"]
[null,null,null,null,"(","用途の区分",null,null,null,")","(","具体的な用途の名称",null,null,null,null,null,null,null,null,null,")","(","床面積",null,null,null,")"]
[null,"【イ.】",null,null,"(",null,null,null,null,")","(",null,null,null,null,null,null,null,null,null,null,")","(",null,null,null,null,")"]
[null,"【ロ.】",null,null,"(",null,null,null,null,")","(",null,null,null,null,null,null,null,null,null,null,")","(",null,null,null,null,")"]
[null,"【ハ.】",null,null,"(",null,null,null,null,")","(",null,null,null,null,null,null,null,null,null,null,")","(",null,null,null,null,")"]
[null,"【ニ.】",null,null,"(",null,null,null,null,")","(",null,null,null,null,null,null,null,null,null,null,")","(",null,null,null,null,")"]
[null,"【ホ.】",null,null,"(",null,null,null,null,")","(",null,null,null,null,null,null,null,null,null,null,")","(",null,null,null,null,")"]
[null,"【ヘ.】",null,null,"(",null,null,null,null,")","(",null,null,null,null,null,null,null,null,null,null,")","(",null,null,null,null,")"]
["【８.その他必要な事項】"]
[]
[]
["【９.備考】"]
[]
[]
[]
[]
[]
[]
[]
[]
[]
["建築物の階別概要"]
["【１.番号】"]
["【２.階】",null,null,null,null,null,null,null,null,null,null,null,null,null,null,null,null,null,null,null,null,null,null,null,null,null,null,null,null,"←","階数の左の記号は、Fが地上、Bが地下、Pが昇降機塔（PH）です。"]
["【３.柱の小径】",null,null,null,null,null,null,"",null,null,null,"mm "]
["【４.横架材間の垂直距離】",null,null,null,null,null,null,null,null,null,null,"mm "]
["【５.階の高さ】",null,null,null,null,null,null,null,null,null,null,"mm "]
["【６.天井】"]
[null,"【イ.居室の天井の高さ】",null,null,null,null,null,null,null,null,null,null,null,"ｍｍ"]
[null,"【ロ.建築基準法施行令第39条第3項に規定する特定天井】",null,null,null,null,null,null,null,null,null,null,null,null,null,null,null,null,"□","有",null,"□","無"]
["【７.用途別床面積】"]
[null,null,null,null,"(","用途の区分",null,null,null,")","(","具体的な用途の名称",null,null,null,null,null,null,null,null,null,")","(","床面積",null,null,null,")"]
[null,"【イ.】",null,null,"(",null,null,null,null,")","(",null,null,null,null,null,null,null,null,null,null,")","(",null,null,null,null,")"]
[null,"【ロ.】",null,null,"(",null,null,null,null,")","(",null,null,null,null,null,null,null,null,null,null,")","(",null,null,null,null,")"]
[null,"【ハ.】",null,null,"(",null,null,null,null,")","(",null,null,null,null,null,null,null,null,null,null,")","(",null,null,null,null,")"]
[null,"【ニ.】",null,null,"(",null,null,null,null,")","(",null,null,null,null,null,null,null,null,null,null,")","(",null,null,null,null,")"]
[null,"【ホ.】",null,null,"(",null,null,null,null,")","(",null,null,null,null,null,null,null,null,null,null,")","(",null,null,null,null,")"]
[null,"【ヘ.】",null,null,"(",null,null,null,null,")","(",null,null,null,null,null,null,null,null,null,null,")","(",null,null,null,null,")"]
["【８.その他必要な事項】"]
[]
[]
["【９.備考】"]
[]
[]
[]
["（第五面）"]
["建築物の階別概要"]
["【１.番号】"]
["【２.階】",null,null,null,null,null,null,null,null,null,null,null,null,null,null,null,null,null,null,null,null,null,null,null,null,null,null,null,null,"←","階数の左の記号は、Fが地上、Bが地下、Pが昇降機塔（PH）です。"]
["【３.柱の小径】",null,null,null,null,null,null,"",null,null,null,"mm "]
["【４.横架材間の垂直距離】",null,null,null,null,null,null,null,null,null,null,"mm "]
["【５.階の高さ】",null,null,null,null,null,null,null,null,null,null,"mm "]
["【６.天井】"]
[null,"【イ.居室の天井の高さ】",null,null,null,null,null,null,null,null,null,null,null,"ｍｍ"]
[null,"【ロ.建築基準法施行令第39条第3項に規定する特定天井】",null,null,null,null,null,null,null,null,null,null,null,null,null,null,null,null,"□","有",null,"□","無"]
["【７.用途別床面積】"]
[null,null,null,null,"(","用途の区分",null,null,null,")","(","具体的な用途の名称",null,null,null,null,null,null,null,null,null,")","(","床面積",null,null,null,")"]
[null,"【イ.】",null,null,"(",null,null,null,null,")","(",null,null,null,null,null,null,null,null,null,null,")","(",null,null,null,null,")"]
[null,"【ロ.】",null,null,"(",null,null,null,null,")","(",null,null,null,null,null,null,null,null,null,null,")","(",null,null,null,null,")"]
[null,"【ハ.】",null,null,"(",null,null,null,null,")","(",null,null,null,null,null,null,null,null,null,null,")","(",null,null,null,null,")"]
[null,"【ニ.】",null,null,"(",null,null,null,null,")","(",null,null,null,null,null,null,null,null,null,null,")","(",null,null,null,null,")"]
[null,"【ホ.】",null,null,"(",null,null,null,null,")","(",null,null,null,null,null,null,null,null,null,null,")","(",null,null,null,null,")"]
[null,"【ヘ.】",null,null,"(",null,null,null,null,")","(",null,null,null,null,null,null,null,null,null,null,")","(",null,null,null,null,")"]
["【８.その他必要な事項】"]
[]
[]
["【９.備考】"]
[]
[]
[]
[]
[]
[]
[]
[]
[]
["建築物の階別概要"]
["【１.番号】"]
["【２.階】",null,null,null,null,null,null,null,null,null,null,null,null,null,null,null,null,null,null,null,null,null,null,null,null,null,null,null,null,"←","階数の左の記号は、Fが地上、Bが地下、Pが昇降機塔（PH）です。"]
["【３.柱の小径】",null,null,null,null,null,null,"",null,null,null,"mm "]
["【４.横架材間の垂直距離】",null,null,null,null,null,null,null,null,null,null,"mm "]
["【５.階の高さ】",null,null,null,null,null,null,null,null,null,null,"mm "]
["【６.天井】"]
[null,"【イ.居室の天井の高さ】",null,null,null,null,null,null,null,null,null,null,null,"ｍｍ"]
[null,"【ロ.建築基準法施行令第39条第3項に規定する特定天井】",null,null,null,null,null,null,null,null,null,null,null,null,null,null,null,null,"□","有",null,"□","無"]
["【７.用途別床面積】"]
[null,null,null,null,"(","用途の区分",null,null,null,")","(","具体的な用途の名称",null,null,null,null,null,null,null,null,null,")","(","床面積",null,null,null,")"]
[null,"【イ.】",null,null,"(",null,null,null,null,")","(",null,null,null,null,null,null,null,null,null,null,")","(",null,null,null,null,")"]
[null,"【ロ.】",null,null,"(",null,null,null,null,")","(",null,null,null,null,null,null,null,null,null,null,")","(",null,null,null,null,")"]
[null,"【ハ.】",null,null,"(",null,null,null,null,")","(",null,null,null,null,null,null,null,null,null,null,")","(",null,null,null,null,")"]
[null,"【ニ.】",null,null,"(",null,null,null,null,")","(",null,null,null,null,null,null,null,null,null,null,")","(",null,null,null,null,")"]
[null,"【ホ.】",null,null,"(",null,null,null,null,")","(",null,null,null,null,null,null,null,null,null,null,")","(",null,null,null,null,")"]
[null,"【ヘ.】",null,null,"(",null,null,null,null,")","(",null,null,null,null,null,null,null,null,null,null,")","(",null,null,null,null,")"]
["【８.その他必要な事項】"]
[]
[]
["【９.備考】"]
[]
[]
[]
["（第五面）"]
["建築物の階別概要"]
["【１.番号】"]
["【２.階】",null,null,null,null,null,null,null,null,null,null,null,null,null,null,null,null,null,null,null,null,null,null,null,null,null,null,null,null,"←","階数の左の記号は、Fが地上、Bが地下、Pが昇降機塔（PH）です。"]
["【３.柱の小径】",null,null,null,null,null,null,"",null,null,null,"mm "]
["【４.横架材間の垂直距離】",null,null,null,null,null,null,null,null,null,null,"mm "]
["【５.階の高さ】",null,null,null,null,null,null,null,null,null,null,"mm "]
["【６.天井】"]
[null,"【イ.居室の天井の高さ】",null,null,null,null,null,null,null,null,null,null,null,"ｍｍ"]
[null,"【ロ.建築基準法施行令第39条第3項に規定する特定天井】",null,null,null,null,null,null,null,null,null,null,null,null,null,null,null,null,"□","有",null,"□","無"]
["【７.用途別床面積】"]
[null,null,null,null,"(","用途の区分",null,null,null,")","(","具体的な用途の名称",null,null,null,null,null,null,null,null,null,")","(","床面積",null,null,null,")"]
[null,"【イ.】",null,null,"(",null,null,null,null,")","(",null,null,null,null,null,null,null,null,null,null,")","(",null,null,null,null,")"]
[null,"【ロ.】",null,null,"(",null,null,null,null,")","(",null,null,null,null,null,null,null,null,null,null,")","(",null,null,null,null,")"]
[null,"【ハ.】",null,null,"(",null,null,null,null,")","(",null,null,null,null,null,null,null,null,null,null,")","(",null,null,null,null,")"]
[null,"【ニ.】",null,null,"(",null,null,null,null,")","(",null,null,null,null,null,null,null,null,null,null,")","(",null,null,null,null,")"]
[null,"【ホ.】",null,null,"(",null,null,null,null,")","(",null,null,null,null,null,null,null,null,null,null,")","(",null,null,null,null,")"]
[null,"【ヘ.】",null,null,"(",null,null,null,null,")","(",null,null,null,null,null,null,null,null,null,null,")","(",null,null,null,null,")"]
["【８.その他必要な事項】"]
[]
[]
["【９.備考】"]
[]
[]
[]
[]
[]
[]
[]
[]
[]
["建築物の階別概要"]
["【１.番号】"]
["【２.階】",null,null,null,null,null,null,null,null,null,null,null,null,null,null,null,null,null,null,null,null,null,null,null,null,null,null,null,null,"←","階数の左の記号は、Fが地上、Bが地下、Pが昇降機塔（PH）です。"]
["【３.柱の小径】",null,null,null,null,null,null,"",null,null,null,"mm "]
["【４.横架材間の垂直距離】",null,null,null,null,null,null,null,null,null,null,"mm "]
["【５.階の高さ】",null,null,null,null,null,null,null,null,null,null,"mm "]
["【６.天井】"]
[null,"【イ.居室の天井の高さ】",null,null,null,null,null,null,null,null,null,null,null,"ｍｍ"]
[null,"【ロ.建築基準法施行令第39条第3項に規定する特定天井】",null,null,null,null,null,null,null,null,null,null,null,null,null,null,null,null,"□","有",null,{"$f":"IF('入力シート（確認・工事届）'!AG594=TRUE,\"■\",IF('入力シート（確認・工事届）'!AG594=FALSE,\"□\"))","v":"□"},"無"]
["【７.用途別床面積】"]
[null,null,null,null,"(","用途の区分",null,null,null,")","(","具体的な用途の名称",null,null,null,null,null,null,null,null,null,")","(","床面積",null,null,null,")"]
[null,"【イ.】",null,null,"(",null,null,null,null,")","(",null,null,null,null,null,null,null,null,null,null,")","(",null,null,null,null,")"]
[null,"【ロ.】",null,null,"(",null,null,null,null,")","(",null,null,null,null,null,null,null,null,null,null,")","(",null,null,null,null,")"]
[null,"【ハ.】",null,null,"(",null,null,null,null,")","(",null,null,null,null,null,null,null,null,null,null,")","(",null,null,null,null,")"]
[null,"【ニ.】",null,null,"(",null,null,null,null,")","(",null,null,null,null,null,null,null,null,null,null,")","(",null,null,null,null,")"]
[null,"【ホ.】",null,null,"(",null,null,null,null,")","(",null,null,null,null,null,null,null,null,null,null,")","(",null,null,null,null,")"]
[null,"【ヘ.】",null,null,"(",null,null,null,null,")","(",null,null,null,null,null,null,null,null,null,null,")","(",null,null,null,null,")"]
["【８.その他必要な事項】"]
[null,{"$f":"'入力シート（確認・工事届）'!B613","v":0}]
[]
["【９.備考】"]

{"sheet":"☆第六面追加","index":6,"n_rows":85,"n_cols":20,"rows_kept":85,"cut":false,"hidden":false,"merged":[[65,10,65,12],[65,16,65,18],[58,0,58,27],[0,11,0,16],[0,18,0,27],[11,16,11,18],[4,0,4,27],[6,7,6,8],[7,10,7,13],[9,10,9,14],[10,10,10,14],[11,10,11,12],[85,1,86,26],[12,8,12,14],[12,17,12,23],[23,5,23,19],[26,8,26,14],[29,3,29,9],[31,1,32,26],[66,8,66,14],[66,17,66,23],[77,5,77,19],[80,8,80,14],[83,3,83,9],[63,10,63,14],[60,7,60,8],[61,10,61,13],[64,10,64,14]]}
["印刷用シート　「☆第六面追加」",null,null,null,null,null,null,null,null,null,null,"シート構成に戻る",null,null,null,null,null,null,"入力シート（確認・工事届）に戻る"]
["申請に係る建築物が2以上ある場合、2以降については、こちらに直接入力して作成してください。"]
["建築物の二以上の部分がExp.jその他の相互に応力を伝えない構造方法のみで接している場合は、それぞれに作成してください。"]
["※必要に応じて印刷設定をしてください。"]
["（第六面）"]
["建築物独立部分別概要"]
["【１.番号】"]
["【２.延べ面積】"]
["【３.建築物の高さ等】"]
[null,"【イ.最高の高さ】"]
[null,"【ロ.最高の軒の高さ】"]
[null,"【ハ.階数】",null,null,null,null,null,null,null,"地上（",null,null,null,"）",null,"地下（",null,null,null,"）"]
[null,"【ニ.構造】",null,null,null,null,null,null,null,null,null,null,null,null,null,"一部"]
["【４.特定構造計算基準又は特定増改築構造計算基準の別】"]
[null,"□","特定構造計算基準"]
[null,"□","特定増改築構造計算基準"]
["【５.構造計算の区分】"]
[null,"□","建築基準法施行令第８１条第１項各号に掲げる基準に従つた構造計算"]
[null,"□","建築基準法施行令第８１条第２項第１号イに掲げる構造計算"]
[null,"□","建築基準法施行令第８１条第２項第１号ロに掲げる構造計算"]
[null,"□","建築基準法施行令第８１条第２項第２号イに掲げる構造計算"]
[null,"□","建築基準法施行令第８１条第３項に掲げる構造計算"]
["【６.構造計算に用いたプログラム】"]
[null,"【イ.名称】"]
[null,"【ロ.区分】"]
[null,null,"□","建築基準法第２０条第１項第２号イ又は第３号イの認定を受けたプログラム"]
[null,null,null,"(","大臣認定番号",null,null,null,null,null,null,null,null,null,null,")"]
[null,null,"□","その他のプログラム"]
["【７.建築基準法施行令第１３７条の２各号に定める基準の区分】"]
[null,null,"(",null,null,null,null,null,null,null,")"]
["【８.備考】"]
[]
[]
[]
[]
[]
[]
[]
[]
[]
[]
[]
[]
[]
[]
[]
[]
[]
[]
[]
[]
[]
[]
[]
[]
[]
[]
[]
["（第六面）"]
["建築物独立部分別概要"]
["【１.番号】"]
["【２.延べ面積】"]
["【３.建築物の高さ等】"]
[null,"【イ.最高の高さ】"]
[null,"【ロ.最高の軒の高さ】"]
[null,"【ハ.階数】",null,null,null,null,null,null,null,"地上（",null,null,null,"）",null,"地下（",null,null,null,"）"]
[null,"【ニ.構造】",null,null,null,null,null,null,null,null,null,null,null,null,null,"一部"]
["【４.特定構造計算基準又は特定増改築構造計算基準の別】"]
[null,"□","特定構造計算基準"]
[null,"□","特定増改築構造計算基準"]
["【５.構造計算の区分】"]
[null,"□","建築基準法施行令第８１条第１項各号に掲げる基準に従つた構造計算"]
[null,"□","建築基準法施行令第８１条第２項第１号イに掲げる構造計算"]
[null,"□","建築基準法施行令第８１条第２項第１号ロに掲げる構造計算"]
[null,"□","建築基準法施行令第８１条第２項第２号イに掲げる構造計算"]
[null,"□","建築基準法施行令第８１条第３項に掲げる構造計算"]
["【６.構造計算に用いたプログラム】"]
[null,"【イ.名称】"]
[null,"【ロ.区分】"]
[null,null,"□","建築基準法第２０条第１項第２号イ又は第３号イの認定を受けたプログラム"]
[null,null,null,"(","大臣認定番号",null,null,null,null,null,null,null,null,null,null,")"]
[null,null,"□","その他のプログラム"]
["【７.建築基準法施行令第１３７条の２各号に定める基準の区分】"]
[null,null,"(",null,null,null,null,null,null,null,")"]
["【８.備考】"]

{"sheet":"★概要書","index":7,"n_rows":337,"n_cols":28,"rows_kept":337,"cut":false,"hidden":false,"merged":[[330,2,331,27],[332,2,333,27],[335,2,335,27],[336,2,337,27],[234,8,234,14],[234,17,234,23],[239,1,245,26],[249,13,251,26],[281,0,281,26],[252,13,254,26],[255,13,257,26],[265,1,267,26],[231,10,231,14],[231,17,231,21],[232,10,232,14],[232,17,232,21],[233,10,233,14],[233,17,233,21],[225,10,225,13],[226,10,226,13],[228,11,228,13],[229,11,229,13],[230,10,230,14],[230,17,230,21],[222,10,222,13],[222,16,222,19],[222,22,222,25],[224,10,224,13],[224,16,224,19],[224,22,224,25],[218,10,218,13],[218,16,218,19],[218,22,218,25],[219,10,219,13],[219,16,219,19],[219,22,219,25],[221,22,221,25],[220,22,220,25],[221,16,221,19],[220,16,220,19],[221,10,221,13],[220,10,220,13],[223,10,223,13],[223,16,223,19],[223,22,223,25],[216,10,216,13],[216,16,216,19],[216,22,216,25],[217,10,217,13],[217,16,217,19],[217,22,217,25],[212,10,212,13],[212,16,212,19],[212,22,212,25],[214,10,214,13],[214,16,214,19],[214,22,214,25],[208,10,208,13],[209,10,209,13],[209,16,209,19],[209,22,209,25],[210,10,210,13],[210,16,210,19],[210,22,210,25],[206,10,206,13],[206,16,206,19],[206,22,206,25],[207,10,207,13],[207,16,207,19],[207,22,207,25],[202,6,202,8],[190,8,190,11],[190,13,190,16],[190,18,190,21],[190,23,190,26],[191,8,191,11],[191,13,191,16],[191,18,191,21],[191,23,191,26],[196,10,196,13],[197,10,197,13],[198,17,198,20],[199,17,199,20],[200,5,201,26],[193,8,193,11],[193,13,193,16],[193,18,193,21],[193,23,193,26],[195,8,195,11],[195,13,195,16],[195,18,195,21],[195,23,195,26],[202,10,203,26],[183,13,183,26],[184,1,184,26],[186,12,186,14],[187,12,187,14],[189,8,189,11],[189,13,189,16],[189,18,189,21],[189,23,189,26],[163,1,165,26],[171,0,171,26],[174,1,177,26],[178,5,178,26],[156,8,156,26],[157,8,157,26],[158,8,158,26],[159,8,159,14],[160,8,160,26],[161,8,161,16],[148,8,148,26],[149,8,149,26],[150,8,150,14],[151,8,151,26],[152,8,152,16],[153,10,153,26],[141,8,141,14],[142,8,142,26],[143,8,143,16],[144,10,144,26],[146,8,146,26],[147,8,147,26],[134,8,134,16],[135,10,135,26],[137,8,137,26],[138,8,138,26],[139,8,139,26],[140,8,140,26],[128,8,128,26],[129,8,129,26],[130,8,130,26],[131,8,131,26],[132,8,132,14],[133,8,133,26],[120,8,120,26],[121,8,121,26],[122,8,122,14],[123,8,123,26],[124,8,124,16],[125,10,125,26],[112,8,112,26],[113,8,113,17],[114,8,114,17],[115,10,115,26],[118,8,118,26],[119,8,119,26],[105,8,105,17],[106,8,106,17],[107,10,107,26],[109,8,109,26],[110,8,110,26],[111,8,111,14],[98,8,98,17],[99,10,99,26],[101,8,101,26],[102,8,102,26],[103,8,103,14],[104,8,104,26],[90,10,90,26],[93,8,93,26],[94,8,94,26],[95,8,95,14],[96,8,96,26],[97,8,97,17],[84,8,84,26],[85,8,85,26],[86,8,86,14],[87,8,87,26],[88,8,88,17],[89,8,89,17],[79,6,79,26],[80,6,80,26],[81,6,81,26],[76,6,76,26],[77,6,77,26],[78,6,78,26],[72,6,72,26],[73,6,73,26],[74,6,74,26],[69,6,69,26],[70,6,70,26],[71,6,71,26],[64,6,64,26],[66,6,66,26],[67,6,67,26],[56,8,56,14],[57,8,57,26],[58,8,58,17],[59,11,59,26],[63,6,63,26],[48,8,48,26],[49,8,49,17],[50,11,50,26],[52,8,52,26],[53,8,53,26],[54,8,54,26],[46,8,46,26],[47,8,47,14],[35,8,35,26],[36,8,36,26],[37,8,37,26],[38,8,38,14],[39,8,39,26],[40,8,40,17],[55,8,55,26],[41,11,41,26],[43,8,43,26],[44,8,44,26],[45,8,45,26],[9,8,9,26],[10,8,10,26],[11,8,11,26],[12,8,12,14],[13,8,13,26],[27,8,27,26],[28,8,28,14],[29,8,29,26],[0,11,0,16],[0,18,0,27],[2,0,2,27],[4,0,4,27],[6,0,6,27],[15,8,15,26],[16,8,16,26],[17,8,17,26],[18,8,18,26],[30,8,30,17],[31,11,31,26],[34,8,34,26],[20,8,20,26],[21,8,21,17],[24,8,24,26],[25,8,25,26],[26,8,26,26],[19,8,19,13]]}
["印刷用シート　「★概要書」",null,null,null,null,null,null,null,null,null,null,"シート構成に戻る",null,null,null,null,null,null,"入力シート（確認・工事届）に戻る"]
[]
["Ｃ-６号様式（第一条の三、第三条、第三条の三、第三条の四、第三条の七、第三条の十、第六条の三、第十一条の四関係）"]
[]
["建築計画概要書"]
[]
["（第一面）"]
["建築主等の概要"]
["【１.建築主】"]
[null,"【イ.氏名のフリガナ】",null,null,null,null,null,null,{"$f":"'入力シート（確認・工事届）'!I22","v":0}]
[null,"【ロ.氏名】",null,null,null,null,null,null,{"$f":"'入力シート（確認・工事届）'!I23","v":0}]
[null,null,null,null,null,null,null,null,{"$f":"'入力シート（確認・工事届）'!I24","v":0}]
[null,"【ハ.郵便番号】",null,null,null,null,null,null,{"$f":"'入力シート（確認・工事届）'!I25","v":0}]
[null,"【ニ.住所】",null,null,null,null,null,null,{"$f":"'入力シート（確認・工事届）'!I26","v":0}]
["【２.代理者】"]
[null,"【イ.資格】",null,null,null,null,null,null,{"$f":"IF('入力シート（確認・工事届）'!$J$30=\"\",\"（　　　　）建築士　　（　　　　）登録第　　　　　　　号\",CONCATENATE(\"(　\",'入力シート（確認・工事届）'!$J$30,\"　)\",\"建築士　　\", \"（\",'入力シート（確認・工事届）'!$P$30,\"　）\",\"登録　第　\",'入力シート（確認・工事届）'!$W$30,\"　号\"))","v":"（　　　　）建築士　　（　　　　）登録第　　　　　　　号"}]
[null,"【ロ.氏名】",null,null,null,null,null,null,{"$f":"'入力シート（確認・工事届）'!I31","v":0}]
[null,"【ハ.建築士事務所名】",null,null,null,null,null,null,{"$f":"IF('入力シート（確認・工事届）'!$J$32=\"\",\"（　　　　）建築士事務所　　（　　　　）知事登録　第　　　　　号\",CONCATENATE(\"(　\",'入力シート（確認・工事届）'!$J$32,\"　)\",\"建築士事務所　　\",\"（　\",'入力シート（確認・工事届）'!$Q$32,\"　）\",\"知事登録第　\",'入力シート（確認・工事届）'!$X$32,\"　号\"))","v":"（　　　　）建築士事務所　　（　　　　）知事登録　第　　　　　号"}]
[null,null,null,null,null,null,null,null,{"$f":"'入力シート（確認・工事届）'!I33","v":0}]
[null,"【ニ.郵便番号】",null,null,null,null,null,null,{"$f":"'入力シート（確認・工事届）'!I34","v":0}]
[null,"【ホ.所在地】",null,null,null,null,null,null,{"$f":"'入力シート（確認・工事届）'!I35","v":0}]
[null,"【ヘ.電話番号】",null,null,null,null,null,null,{"$f":"'入力シート（確認・工事届）'!I36","v":0}]
["【３.設計者】"]
[null,"（代表となる設計者）"]
[null,"【イ.資格】",null,null,null,null,null,null,{"$f":"IF('入力シート（確認・工事届）'!$J$41=\"\",\"（　　　　）建築士　　（　　　　）登録第　　　　　　　号\",CONCATENATE(\"(　\",'入力シート（確認・工事届）'!$J$41,\"　)\",\"建築士　　\", \"（\",'入力シート（確認・工事届）'!$P$41,\"　）\",\"登録　第　\",'入力シート（確認・工事届）'!$W$41,\"　号\"))","v":"（　　　　）建築士　　（　　　　）登録第　　　　　　　号"}]
[null,"【ロ.氏名】",null,null,null,null,null,null,{"$f":"'入力シート（確認・工事届）'!I42","v":0}]
[null,"【ハ.建築士事務所名】",null,null,null,null,null,null,{"$f":"IF('入力シート（確認・工事届）'!$J$43=\"\",\"（　　　　）建築士事務所　　（　　　　）知事登録　第　　　　　号\",CONCATENATE(\"(　\",'入力シート（確認・工事届）'!$J$43,\"　)\",\"建築士事務所　　\",\"（　\",'入力シート（確認・工事届）'!$Q$43,\"　）\",\"知事登録第　\",'入力シート（確認・工事届）'!$X$43,\"　号\"))","v":"（　　　　）建築士事務所　　（　　　　）知事登録　第　　　　　号"}]
[null,null,null,null,null,null,null,null,{"$f":"'入力シート（確認・工事届）'!I44","v":0}]
[null,"【ニ.郵便番号】",null,null,null,null,null,null,{"$f":"'入力シート（確認・工事届）'!I45","v":0}]
[null,"【ホ.所在地】",null,null,null,null,null,null,{"$f":"'入力シート（確認・工事届）'!I46","v":0}]
[null,"【ヘ.電話番号】",null,null,null,null,null,null,{"$f":"'入力シート（確認・工事届）'!I47","v":0}]
[null,"【ト.作成又は確認した設計図書】",null,null,null,null,null,null,null,null,null,{"$f":"'入力シート（確認・工事届）'!I49","v":0}]
[]
[null,"（その他の設計者）"]
[null,"【イ.資格】",null,null,null,null,null,null,{"$f":"IF('入力シート（確認・工事届）'!$J$52=\"\",\"（　　　　）建築士　　（　　　　）登録第　　　　　　　号\",CONCATENATE(\"(　\",'入力シート（確認・工事届）'!$J$52,\"　)\",\"建築士　　\", \"（\",'入力シート（確認・工事届）'!$P$52,\"　）\",\"登録　第　\",'入力シート（確認・工事届）'!$W$52,\"　号\"))","v":"（　　　　）建築士　　（　　　　）登録第　　　　　　　号"}]
[null,"【ロ.氏名】",null,null,null,null,null,null,{"$f":"'入力シート（確認・工事届）'!I53","v":0}]
[null,"【ハ.建築士事務所名】",null,null,null,null,null,null,{"$f":"IF('入力シート（確認・工事届）'!$J$54=\"\",\"（　　　　）建築士事務所　　（　　　　）知事登録　第　　　　　号\",CONCATENATE(\"(　\",'入力シート（確認・工事届）'!$J$54,\"　)\",\"建築士事務所　　\",\"（　\",'入力シート（確認・工事届）'!$Q$54,\"　）\",\"知事登録第　\",'入力シート（確認・工事届）'!$X$54,\"　号\"))","v":"（　　　　）建築士事務所　　（　　　　）知事登録　第　　　　　号"}]
[null,null,null,null,null,null,null,null,{"$f":"'入力シート（確認・工事届）'!I55","v":0}]
[null,"【ニ.郵便番号】",null,null,null,null,null,null,{"$f":"'入力シート（確認・工事届）'!I56","v":0}]
[null,"【ホ.所在地】",null,null,null,null,null,null,{"$f":"'入力シート（確認・工事届）'!I57","v":0}]
[null,"【ヘ.電話番号】",null,null,null,null,null,null,{"$f":"'入力シート（確認・工事届）'!I58","v":0}]
[null,"【ト.作成又は確認した設計図書】",null,null,null,null,null,null,null,null,null,{"$f":"'入力シート（確認・工事届）'!I60","v":0}]
[]
[null,"【イ.資格】",null,null,null,null,null,null,{"$f":"IF('入力シート（確認・工事届）'!$J$62=\"\",\"（　　　　）建築士　　（　　　　）登録第　　　　　　　号\",CONCATENATE(\"(　\",'入力シート（確認・工事届）'!$J$62,\"　)\",\"建築士　　\", \"（\",'入力シート（確認・工事届）'!$P$62,\"　）\",\"登録　第　\",'入力シート（確認・工事届）'!$W$62,\"　号\"))","v":"（　　　　）建築士　　（　　　　）登録第　　　　　　　号"}]
[null,"【ロ.氏名】",null,null,null,null,null,null,{"$f":"'入力シート（確認・工事届）'!I63","v":0}]
[null,"【ハ.建築士事務所名】",null,null,null,null,null,null,{"$f":"IF('入力シート（確認・工事届）'!$J$64=\"\",\"（　　　　）建築士事務所　　（　　　　）知事登録　第　　　　　号\",CONCATENATE(\"(　\",'入力シート（確認・工事届）'!$J$64,\"　)\",\"建築士事務所　　\",\"（　\",'入力シート（確認・工事届）'!$Q$64,\"　）\",\"知事登録第　\",'入力シート（確認・工事届）'!$X$64,\"　号\"))","v":"（　　　　）建築士事務所　　（　　　　）知事登録　第　　　　　号"}]
[null,null,null,null,null,null,null,null,{"$f":"'入力シート（確認・工事届）'!I65","v":0}]
[null,"【ニ.郵便番号】",null,null,null,null,null,null,{"$f":"'入力シート（確認・工事届）'!I66","v":0}]
[null,"【ホ.所在地】",null,null,null,null,null,null,{"$f":"'入力シート（確認・工事届）'!I67","v":0}]
[null,"【ヘ.電話番号】",null,null,null,null,null,null,{"$f":"'入力シート（確認・工事届）'!I68","v":0}]
[null,"【ト.作成又は確認した設計図書】",null,null,null,null,null,null,null,null,null,{"$f":"'入力シート（確認・工事届）'!I70","v":0}]
[]
[null,"【イ.資格】",null,null,null,null,null,null,{"$f":"IF('入力シート（確認・工事届）'!$J$72=\"\",\"（　　　　）建築士　　（　　　　）登録第　　　　　　　号\",CONCATENATE(\"(　\",'入力シート（確認・工事届）'!$J$72,\"　)\",\"建築士　　\", \"（\",'入力シート（確認・工事届）'!$P$72,\"　）\",\"登録　第　\",'入力シート（確認・工事届）'!$W$72,\"　号\"))","v":"（　　　　）建築士　　（　　　　）登録第　　　　　　　号"}]
[null,"【ロ.氏名】",null,null,null,null,null,null,{"$f":"'入力シート（確認・工事届）'!I73","v":0}]
[null,"【ハ.建築士事務所名】",null,null,null,null,null,null,{"$f":"IF('入力シート（確認・工事届）'!$J$74=\"\",\"（　　　　）建築士事務所　　（　　　　）知事登録　第　　　　　号\",CONCATENATE(\"(　\",'入力シート（確認・工事届）'!$J$74,\"　)\",\"建築士事務所　　\",\"（　\",'入力シート（確認・工事届）'!$Q$74,\"　）\",\"知事登録第　\",'入力シート（確認・工事届）'!$X$74,\"　号\"))","v":"（　　　　）建築士事務所　　（　　　　）知事登録　第　　　　　号"}]
[null,null,null,null,null,null,null,null,{"$f":"'入力シート（確認・工事届）'!I75","v":0}]
[null,"【ニ.郵便番号】",null,null,null,null,null,null,{"$f":"'入力シート（確認・工事届）'!I76","v":0}]
[null,"【ホ.所在地】",null,null,null,null,null,null,{"$f":"'入力シート（確認・工事届）'!I77","v":0}]
[null,"【ヘ.電話番号】",null,null,null,null,null,null,{"$f":"'入力シート（確認・工事届）'!I78","v":0}]
[null,"【ト.作成又は確認した設計図書】",null,null,null,null,null,null,null,null,null,{"$f":"'入力シート（確認・工事届）'!I80","v":0}]
[null,"（構造設計一級建築士又は設備設計一級建築士である旨の表示をした者）"]
[null," 上記の設計者のうち、"]
[null,{"$f":"'入力シート（確認・工事届）'!B84","v":"□"},"建築士法第２０条の２第１項の表示をした者"]
[null,null,"【イ.氏名】",null,null,null,{"$f":"'入力シート（確認・工事届）'!G85","v":0}]
[null,null,"【ロ.資格】",null,null,null,{"$f":"IF('入力シート（確認・工事届）'!$N$86=\"\",\"構造設計一級建築士交付第　　　　　　　　号\",CONCATENATE(\"構造設計一級建築士交付第　\",'入力シート（確認・工事届）'!$N$86,\"　号\"))","v":"構造設計一級建築士交付第　　　　　　　　号"}]
[null,{"$f":"'入力シート（確認・工事届）'!B87","v":"□"},"建築士法第２０条の２第３項の表示をした者"]
[null,null,"【イ.氏名】",null,null,null,{"$f":"'入力シート（確認・工事届）'!G88","v":0}]
[null,null,"【ロ.資格】",null,null,null,{"$f":"IF('入力シート（確認・工事届）'!$N$89=\"\",\"構造設計一級建築士交付第　　　　　　　　号\",CONCATENATE(\"構造設計一級建築士交付第　\",'入力シート（確認・工事届）'!$N$89,\"　号\"))","v":"構造設計一級建築士交付第　　　　　　　　号"}]
[null,{"$f":"'入力シート（確認・工事届）'!B90","v":"□"},"建築士法第２０条の３第１項の表示をした者"]
[null,null,"【イ.氏名】",null,null,null,{"$f":"'入力シート（確認・工事届）'!G91","v":0}]
[null,null,"【ロ.資格】",null,null,null,{"$f":"IF('入力シート（確認・工事届）'!$N$92=\"\",\"設備設計一級建築士交付第　　　　　　　　号\",CONCATENATE(\"設備設計一級建築士交付第　\",'入力シート（確認・工事届）'!$N$92,\"　号\"))","v":"設備設計一級建築士交付第　　　　　　　　号"}]
[null,null,"【イ.氏名】",null,null,null,{"$f":"'入力シート（確認・工事届）'!G93","v":0}]
[null,null,"【ロ.資格】",null,null,null,{"$f":"IF('入力シート（確認・工事届）'!$N$94=\"\",\"設備設計一級建築士交付第　　　　　　　　号\",CONCATENATE(\"設備設計一級建築士交付第　\",'入力シート（確認・工事届）'!$N$94,\"　号\"))","v":"設備設計一級建築士交付第　　　　　　　　号"}]
[null,null,"【イ.氏名】",null,null,null,{"$f":"'入力シート（確認・工事届）'!G95","v":0}]
[null,null,"【ロ.資格】",null,null,null,{"$f":"IF('入力シート（確認・工事届）'!$N$96=\"\",\"設備設計一級建築士交付第　　　　　　　　号\",CONCATENATE(\"設備設計一級建築士交付第　\",'入力シート（確認・工事届）'!$N$96,\"　号\"))","v":"設備設計一級建築士交付第　　　　　　　　号"}]
[null,{"$f":"'入力シート（確認・工事届）'!B97","v":"□"},"建築士法第２０条の３第３項の表示をした者"]
[null,null,"【イ.氏名】",null,null,null,{"$f":"'入力シート（確認・工事届）'!G98","v":0}]
[null,null,"【ロ.資格】",null,null,null,{"$f":"IF('入力シート（確認・工事届）'!$N$99=\"\",\"設備設計一級建築士交付第　　　　　　　　号\",CONCATENATE(\"設備設計一級建築士交付第　\",'入力シート（確認・工事届）'!$N$99,\"　号\"))","v":"設備設計一級建築士交付第　　　　　　　　号"}]
[null,null,"【イ.氏名】",null,null,null,{"$f":"'入力シート（確認・工事届）'!G100","v":0}]
[null,null,"【ロ.資格】",null,null,null,{"$f":"IF('入力シート（確認・工事届）'!$N$101=\"\",\"設備設計一級建築士交付第　　　　　　　　号\",CONCATENATE(\"設備設計一級建築士交付第　\",'入力シート（確認・工事届）'!$N$101,\"　号\"))","v":"設備設計一級建築士交付第　　　　　　　　号"}]
[null,null,"【イ.氏名】",null,null,null,{"$f":"'入力シート（確認・工事届）'!G102","v":0}]
[null,null,"【ロ.資格】",null,null,null,{"$f":"IF('入力シート（確認・工事届）'!$N$103=\"\",\"設備設計一級建築士交付第　　　　　　　　号\",CONCATENATE(\"設備設計一級建築士交付第　\",'入力シート（確認・工事届）'!$N$103,\"　号\"))","v":"設備設計一級建築士交付第　　　　　　　　号"}]
["【４.建築設備の設計に関し意見を聴いた者】"]
[null,"（代表となる建築設備の設計に関し意見を聴いた者）"]
[null,"【イ.氏名】",null,null,null,null,null,null,{"$f":"'入力シート（確認・工事届）'!I107","v":0}]
[null,"【ロ.勤務先】",null,null,null,null,null,null,{"$f":"'入力シート（確認・工事届）'!I108","v":0}]
[null,"【ハ.郵便番号】",null,null,null,null,null,null,{"$f":"'入力シート（確認・工事届）'!I109","v":0}]
[null,"【ニ.所在地】",null,null,null,null,null,null,{"$f":"'入力シート（確認・工事届）'!I110","v":0}]
[null,"【ホ.電話番号】",null,null,null,null,null,null,{"$f":"'入力シート（確認・工事届）'!I111","v":0}]
[null,"【ヘ.登録番号】",null,null,null,null,null,null,{"$f":"'入力シート（確認・工事届）'!I112","v":0}]
[null,"【ト.意見を聴いた設計図書】",null,null,null,null,null,null,null,null,{"$f":"'入力シート（確認・工事届）'!I113","v":0}]
[]
[null,"（その他の建築設備の設計に関し意見を聴いた者）"]
[null,"【イ.氏名】",null,null,null,null,null,null,{"$f":"'入力シート（確認・工事届）'!I116","v":0}]
[null,"【ロ.勤務先】",null,null,null,null,null,null,{"$f":"'入力シート（確認・工事届）'!I117","v":0}]
[null,"【ハ.郵便番号】",null,null,null,null,null,null,{"$f":"'入力シート（確認・工事届）'!I118","v":0}]
[null,"【ニ.所在地】",null,null,null,null,null,null,{"$f":"'入力シート（確認・工事届）'!I119","v":0}]
[null,"【ホ.電話番号】",null,null,null,null,null,null,{"$f":"'入力シート（確認・工事届）'!I120","v":0}]
[null,"【ヘ.登録番号】",null,null,null,null,null,null,{"$f":"'入力シート（確認・工事届）'!I121","v":0}]
[null,"【ト.意見を聴いた設計図書】",null,null,null,null,null,null,null,null,{"$f":"'入力シート（確認・工事届）'!I122","v":0}]
[]
[null,"【イ.氏名】",null,null,null,null,null,null,{"$f":"'入力シート（確認・工事届）'!I124","v":0}]
[null,"【ロ.勤務先】",null,null,null,null,null,null,{"$f":"'入力シート（確認・工事届）'!I125","v":0}]
[null,"【ハ.郵便番号】",null,null,null,null,null,null,{"$f":"'入力シート（確認・工事届）'!I126","v":0}]
[null,"【ニ.所在地】",null,null,null,null,null,null,{"$f":"'入力シート（確認・工事届）'!I127","v":0}]
[null,"【ホ.電話番号】",null,null,null,null,null,null,{"$f":"'入力シート（確認・工事届）'!I128","v":0}]
[null,"【ヘ.登録番号】",null,null,null,null,null,null,{"$f":"'入力シート（確認・工事届）'!I129","v":0}]
[null,"【ト.意見を聴いた設計図書】",null,null,null,null,null,null,null,null,{"$f":"'入力シート（確認・工事届）'!I130","v":0}]
[]
[null,"【イ.氏名】",null,null,null,null,null,null,{"$f":"'入力シート（確認・工事届）'!I132","v":0}]
[null,"【ロ.勤務先】",null,null,null,null,null,null,{"$f":"'入力シート（確認・工事届）'!I133","v":0}]
[null,"【ハ.郵便番号】",null,null,null,null,null,null,{"$f":"'入力シート（確認・工事届）'!I134","v":0}]
[null,"【ニ.所在地】",null,null,null,null,null,null,{"$f":"'入力シート（確認・工事届）'!I135","v":0}]
[null,"【ホ.電話番号】",null,null,null,null,null,null,{"$f":"'入力シート（確認・工事届）'!I136","v":0}]
[null,"【ヘ.登録番号】",null,null,null,null,null,null,{"$f":"'入力シート（確認・工事届）'!I137","v":0}]
[null,"【ト.意見を聴いた設計図書】",null,null,null,null,null,null,null,null,{"$f":"'入力シート（確認・工事届）'!I138","v":0}]
["【５.工事監理者】"]
[null,"（代表となる工事監理者）"]
[null,"【イ.資格】",null,null,null,null,null,null,{"$f":"IF('入力シート（確認・工事届）'!$J$142=\"\",\"（　　　　）建築士　　（　　　　）登録第　　　　　　　号\",CONCATENATE(\"(　\",'入力シート（確認・工事届）'!$J$142,\"　)\",\"建築士　　\", \"（\",'入力シート（確認・工事届）'!$P$142,\"　）\",\"登録　第　\",'入力シート（確認・工事届）'!$W$142,\"　号\"))","v":"（　　　　）建築士　　（　　　　）登録第　　　　　　　号"}]
[null,"【ロ.氏名】",null,null,null,null,null,null,{"$f":"'入力シート（確認・工事届）'!I143","v":0}]
[null,"【ハ.建築士事務所名】",null,null,null,null,null,null,{"$f":"IF('入力シート（確認・工事届）'!$J$144=\"\",\"（　　　　）建築士事務所　　（　　　　）知事登録　第　　　　　号\",CONCATENATE(\"(　\",'入力シート（確認・工事届）'!$J$144,\"　)\",\"建築士事務所　　\",\"（　\",'入力シート（確認・工事届）'!$Q$144,\"　）\",\"知事登録第　\",'入力シート（確認・工事届）'!$X$144,\"　号\"))","v":"（　　　　）建築士事務所　　（　　　　）知事登録　第　　　　　号"}]
[null,null,null,null,null,null,null,null,{"$f":"'入力シート（確認・工事届）'!I145","v":0}]
[null,"【ニ.郵便番号】",null,null,null,null,null,null,{"$f":"'入力シート（確認・工事届）'!I146","v":0}]
[null,"【ホ.所在地】",null,null,null,null,null,null,{"$f":"'入力シート（確認・工事届）'!I147","v":0}]
[null,"【ヘ.電話番号】",null,null,null,null,null,null,{"$f":"'入力シート（確認・工事届）'!I148","v":0}]
[null,"【ト.工事と照合する設計図書】",null,null,null,null,null,null,null,null,{"$f":"'入力シート（確認・工事届）'!I149","v":0}]
[]
[null,"（その他の工事監理者）"]
[null,"【イ.資格】",null,null,null,null,null,null,{"$f":"IF('入力シート（確認・工事届）'!$J$152=\"\",\"（　　　　）建築士　　（　　　　）登録第　　　　　　　号\",CONCATENATE(\"(　\",'入力シート（確認・工事届）'!$J$152,\"　)\",\"建築士　　\", \"（\",'入力シート（確認・工事届）'!$P$152,\"　）\",\"登録　第　\",'入力シート（確認・工事届）'!$W$152,\"　号\"))","v":"（　　　　）建築士　　（　　　　）登録第　　　　　　　号"}]
[null,"【ロ.氏名】",null,null,null,null,null,null,{"$f":"'入力シート（確認・工事届）'!I153","v":0}]
[null,"【ハ.建築士事務所名】",null,null,null,null,null,null,{"$f":"IF('入力シート（確認・工事届）'!$J$154=\"\",\"（　　　　）建築士事務所　　（　　　　）知事登録　第　　　　　号\",CONCATENATE(\"(　\",'入力シート（確認・工事届）'!$J$154,\"　)\",\"建築士事務所　　\",\"（　\",'入力シート（確認・工事届）'!$Q$154,\"　）\",\"知事登録第　\",'入力シート（確認・工事届）'!$X$154,\"　号\"))","v":"（　　　　）建築士事務所　　（　　　　）知事登録　第　　　　　号"}]
[null,null,null,null,null,null,null,null,{"$f":"'入力シート（確認・工事届）'!I155","v":0}]
[null,"【ニ.郵便番号】",null,null,null,null,null,null,{"$f":"'入力シート（確認・工事届）'!I156","v":0}]
[null,"【ホ.所在地】",null,null,null,null,null,null,{"$f":"'入力シート（確認・工事届）'!I157","v":0}]
[null,"【ヘ.電話番号】",null,null,null,null,null,null,{"$f":"'入力シート（確認・工事届）'!I158","v":0}]
[null,"【ト.工事と照合する設計図書】",null,null,null,null,null,null,null,null,{"$f":"'入力シート（確認・工事届）'!I159","v":0}]
[]
[null,"【イ.資格】",null,null,null,null,null,null,{"$f":"IF('入力シート（確認・工事届）'!$J$161=\"\",\"（　　　　）建築士　　（　　　　）登録第　　　　　　　号\",CONCATENATE(\"(　\",'入力シート（確認・工事届）'!$J$161,\"　)\",\"建築士　　\", \"（\",'入力シート（確認・工事届）'!$P$161,\"　）\",\"登録　第　\",'入力シート（確認・工事届）'!$W$161,\"　号\"))","v":"（　　　　）建築士　　（　　　　）登録第　　　　　　　号"}]
[null,"【ロ.氏名】",null,null,null,null,null,null,{"$f":"'入力シート（確認・工事届）'!I162","v":0}]
[null,"【ハ.建築士事務所名】",null,null,null,null,null,null,{"$f":"IF('入力シート（確認・工事届）'!$J$163=\"\",\"（　　　　）建築士事務所　　（　　　　）知事登録　第　　　　　号\",CONCATENATE(\"(　\",'入力シート（確認・工事届）'!$J$163,\"　)\",\"建築士事務所　　\",\"（　\",'入力シート（確認・工事届）'!$Q$163,\"　）\",\"知事登録第　\",'入力シート（確認・工事届）'!$X$163,\"　号\"))","v":"（　　　　）建築士事務所　　（　　　　）知事登録　第　　　　　号"}]
[null,null,null,null,null,null,null,null,{"$f":"'入力シート（確認・工事届）'!I164","v":0}]
[null,"【ニ.郵便番号】",null,null,null,null,null,null,{"$f":"'入力シート（確認・工事届）'!I165","v":0}]
[null,"【ホ.所在地】",null,null,null,null,null,null,{"$f":"'入力シート（確認・工事届）'!I166","v":0}]
[null,"【ヘ.電話番号】",null,null,null,null,null,null,{"$f":"'入力シート（確認・工事届）'!I167","v":0}]
[null,"【ト.工事と照合する設計図書】",null,null,null,null,null,null,null,null,{"$f":"'入力シート（確認・工事届）'!I168","v":0}]
[]
[null,"【イ.資格】",null,null,null,null,null,null,{"$f":"IF('入力シート（確認・工事届）'!$J$170=\"\",\"（　　　　）建築士　　（　　　　）登録第　　　　　　　号\",CONCATENATE(\"(　\",'入力シート（確認・工事届）'!$J$170,\"　)\",\"建築士　　\", \"（\",'入力シート（確認・工事届）'!$P$170,\"　）\",\"登録　第　\",'入力シート（確認・工事届）'!$W$170,\"　号\"))","v":"（　　　　）建築士　　（　　　　）登録第　　　　　　　号"}]
[null,"【ロ.氏名】",null,null,null,null,null,null,{"$f":"'入力シート（確認・工事届）'!I171","v":0}]
[null,"【ハ.建築士事務所名】",null,null,null,null,null,null,{"$f":"IF('入力シート（確認・工事届）'!$J$172=\"\",\"（　　　　）建築士事務所　　（　　　　）知事登録　第　　　　　号\",CONCATENATE(\"(　\",'入力シート（確認・工事届）'!$J$172,\"　)\",\"建築士事務所　　\",\"（　\",'入力シート（確認・工事届）'!$Q$172,\"　）\",\"知事登録第　\",'入力シート（確認・工事届）'!$X$172,\"　号\"))","v":"（　　　　）建築士事務所　　（　　　　）知事登録　第　　　　　号"}]
[null,null,null,null,null,null,null,null,{"$f":"'入力シート（確認・工事届）'!I173","v":0}]
[null,"【ニ.郵便番号】",null,null,null,null,null,null,{"$f":"'入力シート（確認・工事届）'!I174","v":0}]
[null,"【ホ.所在地】",null,null,null,null,null,null,{"$f":"'入力シート（確認・工事届）'!I175","v":0}]
[null,"【ヘ.電話番号】",null,null,null,null,null,null,{"$f":"'入力シート（確認・工事届）'!I176","v":0}]
[null,"【ト.工事と照合する設計図書】",null,null,null,null,null,null,null,null,{"$f":"'入力シート（確認・工事届）'!I177","v":0}]
[]
["【６.工事施工者】"]
[null,"【イ.氏名】",null,null,null,null,null,null,{"$f":"'入力シート（確認・工事届）'!I180","v":0}]
[null,"【ロ.営業所名】",null,null,null,null,null,null,{"$f":"IF('入力シート（確認・工事届）'!$N$181=\"\",\"建設業の許可（　　　　　　　）　第　　　　　　　　　号\",CONCATENATE(\"建設業の許可（　\",'入力シート（確認・工事届）'!$N$181,\"　）　　第　\",'入力シート（確認・工事届）'!$T$181,\"　号\"))","v":"建設業の許可（　　　　　　　）　第　　　　　　　　　号"}]
[null,null,null,null,null,null,null,null,{"$f":"'入力シート（確認・工事届）'!I182","v":0}]
[null,"【ハ.郵便番号】",null,null,null,null,null,null,{"$f":"'入力シート（確認・工事届）'!I183","v":0}]
[null,"【ニ.所在地】",null,null,null,null,null,null,{"$f":"'入力シート（確認・工事届）'!I184","v":0}]
[null,"【ホ.電話番号】",null,null,null,null,null,null,{"$f":"'入力シート（確認・工事届）'!I185","v":0}]
["【７.備考】"]
[null,{"$f":"'入力シート（確認・工事届）'!B196","v":0}]
[]
[]
[]
[]
[]
[]
[]
["建築計画概要書（第二面）"]
["建築物及びその敷地に関する事項"]
["【１.地名地番】"]
[null,{"$f":"'入力シート（確認・工事届）'!B228","v":0}]
[]
[]
[]
["【２.住居表示】",null,null,null,null,{"$f":"'入力シート（確認・工事届）'!B234","v":0}]
["【３.都市計画区域及び準都市計画区域の内外の別等】"]
[null,{"$f":"IF('入力シート（確認・工事届）'!AD237=TRUE,\"■\",IF('入力シート（確認・工事届）'!AD237=FALSE,\"□\"))","v":"□"},"都市計画区域内",null,null,null,null,"（",{"$f":"IF('入力シート（確認・工事届）'!AE237=TRUE,\"■\",IF('入力シート（確認・工事届）'!AE237=FALSE,\"□\"))","v":"□"},"市街化区域",null,null,null,{"$f":"IF('入力シート（確認・工事届）'!AF237=TRUE,\"■\",IF('入力シート（確認・工事届）'!AF237=FALSE,\"□\"))","v":"□"},"市街化調整区域",null,null,null,null,{"$f":"IF('入力シート（確認・工事届）'!AG237=TRUE,\"■\",IF('入力シート（確認・工事届）'!AG237=FALSE,\"□\"))","v":"□"},"区域区分非設定）"]
[null,{"$f":"IF('入力シート（確認・工事届）'!AD238=TRUE,\"■\",IF('入力シート（確認・工事届）'!AD238=FALSE,\"□\"))","v":"□"},"準都市計画区域内",null,null,null,null,null,null,{"$f":"IF('入力シート（確認・工事届）'!AE238=TRUE,\"■\",IF('入力シート（確認・工事届）'!AE238=FALSE,\"□\"))","v":"□"},"都市計画区域及び準都市計画区域外"]
["【４.防火地域】",null,null,null,null,null,{"$f":"IF('入力シート（確認・工事届）'!AD241=TRUE,\"■\",IF('入力シート（確認・工事届）'!AD241=FALSE,\"□\"))","v":"□"},"防火地域",null,null,null,{"$f":"IF('入力シート（確認・工事届）'!AE241=TRUE,\"■\",IF('入力シート（確認・工事届）'!AE241=FALSE,\"□\"))","v":"□"},"準防火地域",null,null,null,null,{"$f":"IF('入力シート（確認・工事届）'!AF241=TRUE,\"■\",IF('入力シート（確認・工事届）'!AF241=FALSE,\"□\"))","v":"□"},"指定なし"]
["【５.その他の区域、地域、地区又は街区】",null,null,null,null,null,null,null,null,null,null,null,null,{"$f":"IF('入力シート（確認・工事届）'!B244=\"\",\"\",'入力シート（確認・工事届）'!B244)","v":""}]
[null,{"$f":"IF('入力シート（確認・工事届）'!B245=\"\",\"\",'入力シート（確認・工事届）'!B245)","v":""}]
["【６.道路】"]
[null,"【イ.幅員】",null,null,null,null,null,null,null,null,null,null,{"$f":"IF('入力シート（確認・工事届）'!L248=\"\",\"\",ROUNDDOWN('入力シート（確認・工事届）'!L248,2))","v":""},null,null,"ｍ"]
[null,"【ロ.敷地と接している部分の長さ】",null,null,null,null,null,null,null,null,null,null,{"$f":"IF('入力シート（確認・工事届）'!L249=\"\",\"\",ROUNDDOWN('入力シート（確認・工事届）'!L249,2))","v":""},null,null,"ｍ"]
["【７.敷地面積】"]
[null,"【イ.敷地面積】",null,null,null,null,null,"(１)(",{"$f":"IF('入力シート（確認・工事届）'!$I$252=\"\",\"\",ROUNDDOWN('入力シート（確認・工事届）'!$I$252,2))","v":""},null,null,null,")(",{"$f":"IF('入力シート（確認・工事届）'!$N$252=\"\",\"\",ROUNDDOWN('入力シート（確認・工事届）'!$N$252,2))","v":""},null,null,null,")(",{"$f":"IF('入力シート（確認・工事届）'!$S$252=\"\",\"\",ROUNDDOWN('入力シート（確認・工事届）'!$S$252,2))","v":""},null,null,null,")(",{"$f":"IF('入力シート（確認・工事届）'!$X$252=\"\",\"\",ROUNDDOWN('入力シート（確認・工事届）'!$X$252,2))","v":""},null,null,null,")"]
[null,null,null,null,null,null,null,"(２)(",{"$f":"IF('入力シート（確認・工事届）'!$I$253=\"\",\"\",ROUNDDOWN('入力シート（確認・工事届）'!$I$253,2))","v":""},null,null,null,")(",{"$f":"IF('入力シート（確認・工事届）'!$N$253=\"\",\"\",ROUNDDOWN('入力シート（確認・工事届）'!$N$253,2))","v":""},null,null,null,")(",{"$f":"IF('入力シート（確認・工事届）'!$S$253=\"\",\"\",ROUNDDOWN('入力シート（確認・工事届）'!$S$253,2))","v":""},null,null,null,")(",{"$f":"IF('入力シート（確認・工事届）'!$X$253=\"\",\"\",ROUNDDOWN('入力シート（確認・工事届）'!$X$253,2))","v":""},null,null,null,")"]
[null,"【ロ.用途地域等】",null,null,null,null,null,"(",{"$f":"IF('入力シート（確認・工事届）'!$I$254=\"\",\"\",'入力シート（確認・工事届）'!$I$254)","v":""},null,null,null,")(",{"$f":"IF('入力シート（確認・工事届）'!$N$254=\"\",\"\",'入力シート（確認・工事届）'!$N$254)","v":""},null,null,null,")(",{"$f":"IF('入力シート（確認・工事届）'!$S$254=\"\",\"\",'入力シート（確認・工事届）'!$S$254)","v":""},null,null,null,")(",{"$f":"IF('入力シート（確認・工事届）'!$X$254=\"\",\"\",'入力シート（確認・工事届）'!$X$254)","v":""},null,null,null,")"]
[null,"【ハ.建築基準法第５２条第１項及び第２項の規定による建築物の容積率】"]
[null,null,null,null,null,null,null,"(",{"$f":"IF('入力シート（確認・工事届）'!I256=\"\",\"\",'入力シート（確認・工事届）'!I256)","v":""},null,null,null,")(",{"$f":"IF('入力シート（確認・工事届）'!N256=\"\",\"\",'入力シート（確認・工事届）'!N256)","v":""},null,null,null,")(",{"$f":"IF('入力シート（確認・工事届）'!S256=\"\",\"\",'入力シート（確認・工事届）'!S256)","v":""},null,null,null,")(",{"$f":"IF('入力シート（確認・工事届）'!X256=\"\",\"\",'入力シート（確認・工事届）'!X256)","v":""},null,null,null,")"]
[null,"【ニ.建築基準法第５３条第１項の規定による建築物の建蔽率】"]
[null,null,null,null,null,null,null,"(",{"$f":"IF('入力シート（確認・工事届）'!I258=\"\",\"\",'入力シート（確認・工事届）'!I258)","v":""},null,null,null,")(",{"$f":"IF('入力シート（確認・工事届）'!N258=\"\",\"\",'入力シート（確認・工事届）'!N258)","v":""},null,null,null,")(",{"$f":"IF('入力シート（確認・工事届）'!S258=\"\",\"\",'入力シート（確認・工事届）'!S258)","v":""},null,null,null,")(",{"$f":"IF('入力シート（確認・工事届）'!X258=\"\",\"\",'入力シート（確認・工事届）'!X258)","v":""},null,null,null,")"]
[null,"【ホ.敷地面積の合計】",null,null,null,null,null,null,"(１)",null,{"$f":"IF('入力シート（確認・工事届）'!K259=\"\",\"\",'入力シート（確認・工事届）'!K259)","v":""},null,null,null,"㎡"]
[null,null,null,null,null,null,null,null,"(２)",null,{"$f":"IF('入力シート（確認・工事届）'!K260=\"\",\"\",'入力シート（確認・工事届）'!K260)","v":""},null,null,null,"㎡"]
[null,"【ヘ.敷地に建築可能な延べ面積を敷地面積で除した数値】",null,null,null,null,null,null,null,null,null,null,null,null,null,null,null,{"$f":"IF('入力シート（確認・工事届）'!R261=\"\",\"\",'入力シート（確認・工事届）'!R261)","v":""}]
[null,"【ト.敷地に建築可能な建築面積を敷地面積で除した数値】",null,null,null,null,null,null,null,null,null,null,null,null,null,null,null,{"$f":"IF('入力シート（確認・工事届）'!R262=\"\",\"\",'入力シート（確認・工事届）'!R262)","v":""}]
[null,"【チ.備考】",null,null,null,{"$f":"'入力シート（確認・工事届）'!F263","v":"　　"}]
[null,null,0]
["【８.主要用途】",null,null,null,null,"（区分",{"$f":"IF('入力シート（確認・工事届）'!D267=\"\",\"\",'入力シート（確認・工事届）'!D267)","v":""},null,null,"）",{"$f":"IF('入力シート（確認・工事届）'!I267=\"\",\"\",'入力シート（確認・工事届）'!I267)","v":""}]
[]
["【９.工事種別】"]
[null,{"$f":"IF('入力シート（確認・工事届）'!AD270=TRUE,\"■\",IF('入力シート（確認・工事届）'!AD270=FALSE,\"□\"))","v":"□"},"新築",null,{"$f":"IF('入力シート（確認・工事届）'!AE270=TRUE,\"■\",IF('入力シート（確認・工事届）'!AE270=FALSE,\"□\"))","v":"□"},"増築",null,{"$f":"IF('入力シート（確認・工事届）'!AF270=TRUE,\"■\",IF('入力シート（確認・工事届）'!AF270=FALSE,\"□\"))","v":"□"},"改築",null,{"$f":"IF('入力シート（確認・工事届）'!AG270=TRUE,\"■\",IF('入力シート（確認・工事届）'!AG270=FALSE,\"□\"))","v":"□"},"移転",null,{"$f":"IF('入力シート（確認・工事届）'!AH270=TRUE,\"■\",IF('入力シート（確認・工事届）'!AH270=FALSE,\"□\"))","v":"□"},"用途変更",null,null,{"$f":"IF('入力シート（確認・工事届）'!AI270=TRUE,\"■\",IF('入力シート（確認・工事届）'!AI270=FALSE,\"□\"))","v":"□"},"大規模の修繕",null,null,null,{"$f":"IF('入力シート（確認・工事届）'!AJ270=TRUE,\"■\",IF('入力シート（確認・工事届）'!AJ270=FALSE,\"□\"))","v":"□"},"大規模の模様替"]
["【１０.建築面積】",null,null,null,null,null,null,null,null,"（","申請部分",null,null,null,"）","（","申請以外の部分",null,null,null,"）","（","合計",null,null,null,"）"]
[null,"【イ.建築面積】",null,null,null,null,null,null,null,"（",{"$f":"IF('入力シート（確認・工事届）'!K273=\"\",\"\",ROUNDUP('入力シート（確認・工事届）'!K273,2))","v":""},null,null,null,"）","（",{"$f":"IF('入力シート（確認・工事届）'!Q273=\"\",\"\",ROUNDUP('入力シート（確認・工事届）'!Q273,2))","v":""},null,null,null,"）","（",{"$f":"IF('入力シート（確認・工事届）'!W273=\"\",\"\",'入力シート（確認・工事届）'!W273)","v":""},null,null,null,"）"]
[null,"【ロ.建蔽率】",null,null,null,null,null,null,null,null,{"$f":"IF('入力シート（確認・工事届）'!K274=\"\",\"\",'入力シート（確認・工事届）'!K274)","v":""},null,null,null,"％"]
["【１１.延べ面積】",null,null,null,null,null,null,null,null,"（","申請部分",null,null,null,"）","（","申請以外の部分",null,null,null,"）","（","合計",null,null,null,"）"]
[null,"【イ.建築物全体】",null,null,null,null,null,null,null,"（",{"$f":"IF('入力シート（確認・工事届）'!K277=\"\",\"\",'入力シート（確認・工事届）'!K277)","v":""},null,null,null,"）","（",{"$f":"IF('入力シート（確認・工事届）'!Q277=\"\",\"\",'入力シート（確認・工事届）'!Q277)","v":""},null,null,null,"）","（",{"$f":"IF('入力シート（確認・工事届）'!W277=\"\",\"\",'入力シート（確認・工事届）'!W277)","v":""},null,null,null,"）"]
[null,"【ロ.地階の住宅又は老人ホーム等の部分】"]
[null,null,null,null,null,null,null,null,null,"（",{"$f":"IF('入力シート（確認・工事届）'!K279=\"\",\"\",'入力シート（確認・工事届）'!K279)","v":""},null,null,null,"）","（",{"$f":"IF('入力シート（確認・工事届）'!Q279=\"\",\"\",'入力シート（確認・工事届）'!Q279)","v":""},null,null,null,"）","（",{"$f":"IF('入力シート（確認・工事届）'!W279=\"\",\"\",'入力シート（確認・工事届）'!W279)","v":""},null,null,null,"）"]
[null,"【ハ.エレベーターの昇降路の部分】"]
[null,null,null,null,null,null,null,null,null,"（",{"$f":"IF('入力シート（確認・工事届）'!K281=\"\",\"\",'入力シート（確認・工事届）'!K281)","v":""},null,null,null,"）","（",{"$f":"IF('入力シート（確認・工事届）'!Q281=\"\",\"\",'入力シート（確認・工事届）'!Q281)","v":""},null,null,null,"）","（",{"$f":"IF('入力シート（確認・工事届）'!W281=\"\",\"\",'入力シート（確認・工事届）'!W281)","v":""},null,null,null,"）"]
[null,"【ニ.共同住宅又は老人ホーム等の共用の廊下等の部分】"]
[null,null,null,null,null,null,null,null,null,"（",{"$f":"IF('入力シート（確認・工事届）'!K283=\"\",\"\",'入力シート（確認・工事届）'!K283)","v":""},null,null,null,"）","（",{"$f":"IF('入力シート（確認・工事届）'!Q283=\"\",\"\",'入力シート（確認・工事届）'!Q283)","v":""},null,null,null,"）","（",{"$f":"IF('入力シート（確認・工事届）'!W283=\"\",\"\",'入力シート（確認・工事届）'!W283)","v":""},null,null,null,"）"]
[null,"【ホ.自動車車庫等の部分】",null,null,null,null,null,null,null,"（",{"$f":"IF('入力シート（確認・工事届）'!K284=\"\",\"\",'入力シート（確認・工事届）'!K284)","v":""},null,null,null,"）","（",{"$f":"IF('入力シート（確認・工事届）'!Q284=\"\",\"\",'入力シート（確認・工事届）'!Q284)","v":""},null,null,null,"）","（",{"$f":"IF('入力シート（確認・工事届）'!W284=\"\",\"\",'入力シート（確認・工事届）'!W284)","v":""},null,null,null,"）"]
[null,"【へ.備蓄倉庫の部分】",null,null,null,null,null,null,null,"（",{"$f":"IF('入力シート（確認・工事届）'!K285=\"\",\"\",'入力シート（確認・工事届）'!K285)","v":""},null,null,null,"）","（",{"$f":"IF('入力シート（確認・工事届）'!Q285=\"\",\"\",'入力シート（確認・工事届）'!Q285)","v":""},null,null,null,"）","（",{"$f":"IF('入力シート（確認・工事届）'!W285=\"\",\"\",'入力シート（確認・工事届）'!W285)","v":""},null,null,null,"）"]
[null,"【ト.蓄電池の設置部分】",null,null,null,null,null,null,null,"（",{"$f":"IF('入力シート（確認・工事届）'!K286=\"\",\"\",'入力シート（確認・工事届）'!K286)","v":""},null,null,null,"）","（",{"$f":"IF('入力シート（確認・工事届）'!Q286=\"\",\"\",'入力シート（確認・工事届）'!Q286)","v":""},null,null,null,"）","（",{"$f":"IF('入力シート（確認・工事届）'!W286=\"\",\"\",'入力シート（確認・工事届）'!W286)","v":""},null,null,null,"）"]
[null,"【チ.自家発電設備の設置部分】",null,null,null,null,null,null,null,"（",{"$f":"IF('入力シート（確認・工事届）'!K287=\"\",\"\",'入力シート（確認・工事届）'!K287)","v":""},null,null,null,"）","（",{"$f":"IF('入力シート（確認・工事届）'!Q287=\"\",\"\",'入力シート（確認・工事届）'!Q287)","v":""},null,null,null,"）","（",{"$f":"IF('入力シート（確認・工事届）'!W287=\"\",\"\",'入力シート（確認・工事届）'!W287)","v":""},null,null,null,"）"]
[null,"【リ.貯水槽の設置部分】",null,null,null,null,null,null,null,"（",{"$f":"IF('入力シート（確認・工事届）'!K288=\"\",\"\",'入力シート（確認・工事届）'!K288)","v":""},null,null,null,"）","（",{"$f":"IF('入力シート（確認・工事届）'!Q288=\"\",\"\",'入力シート（確認・工事届）'!Q288)","v":""},null,null,null,"）","（",{"$f":"IF('入力シート（確認・工事届）'!W288=\"\",\"\",'入力シート（確認・工事届）'!W288)","v":""},null,null,null,"）"]
[null,"【ヌ.宅配ボックスの設置部分】",null,null,null,null,null,null,null,"（",{"$f":"IF('入力シート（確認・工事届）'!K289=\"\",\"\",'入力シート（確認・工事届）'!K289)","v":""},null,null,null,"）","（",{"$f":"IF('入力シート（確認・工事届）'!Q289=\"\",\"\",'入力シート（確認・工事届）'!Q289)","v":""},null,null,null,"）","（",{"$f":"IF('入力シート（確認・工事届）'!W289=\"\",\"\",'入力シート（確認・工事届）'!W289)","v":""},null,null,null,"）"]
[null,"【ル.住宅の部分】",null,null,null,null,null,null,null,"（",{"$f":"IF('入力シート（確認・工事届）'!K290=\"\",\"\",'入力シート（確認・工事届）'!K290)","v":""},null,null,null,"）","（",{"$f":"IF('入力シート（確認・工事届）'!Q290=\"\",\"\",'入力シート（確認・工事届）'!Q290)","v":""},null,null,null,"）","（",{"$f":"IF('入力シート（確認・工事届）'!W290=\"\",\"\",'入力シート（確認・工事届）'!W290)","v":""},null,null,null,"）"]
[null,"【ヲ.老人ホーム等の部分】",null,null,null,null,null,null,null,"（",{"$f":"IF('入力シート（確認・工事届）'!K291=\"\",\"\",'入力シート（確認・工事届）'!K291)","v":""},null,null,null,"）","（",{"$f":"IF('入力シート（確認・工事届）'!Q291=\"\",\"\",'入力シート（確認・工事届）'!Q291)","v":""},null,null,null,"）","（",{"$f":"IF('入力シート（確認・工事届）'!W291=\"\",\"\",'入力シート（確認・工事届）'!W291)","v":""},null,null,null,"）"]
[null,"【ワ.延べ面積】",null,null,null,null,null,null,null,null,{"$f":"IF('入力シート（確認・工事届）'!K292=\"\",\"\",'入力シート（確認・工事届）'!K292)","v":""}]
[null,"【カ.容積率】",null,null,null,null,null,null,null,null,{"$f":"IF('入力シート（確認・工事届）'!K293=\"\",\"\",'入力シート（確認・工事届）'!K293)","v":""},null,null,null,"％"]
["【１２.建築物の数】"]
[null,"【イ.申請に係る建築物の数】",null,null,null,null,null,null,null,null,null,{"$f":"IF('入力シート（確認・工事届）'!M296=\"\",\"\",'入力シート（確認・工事届）'!M296)","v":""}]
[null,"【ロ.同一敷地内の他の建築物の数】",null,null,null,null,null,null,null,null,null,{"$f":"IF('入力シート（確認・工事届）'!M297=\"\",\"\",'入力シート（確認・工事届）'!M297)","v":""}]
["【１３.建築物の高さ等】",null,null,null,null,null,null,null,null,"（","申請に係る建築物",null,null,null,null,"）","（","他の建築物",null,null,null,null,"）"]
[null,"【イ.最高の高さ】",null,null,null,null,null,null,null,"（",{"$f":"IF('入力シート（確認・工事届）'!K300=\"\",\"\",ROUNDUP('入力シート（確認・工事届）'!K300,3))","v":""},null,null,null,null,"）","（",{"$f":"IF('入力シート（確認・工事届）'!R300=\"\",\"\",ROUNDUP('入力シート（確認・工事届）'!R300,3))","v":""},null,null,null,null,"）"]
[null,"【ロ.階数】",null,null,null,null,null,null,null,"地上（",{"$f":"IF('入力シート（確認・工事届）'!K301=\"\",\"\",'入力シート（確認・工事届）'!K301)","v":""},null,null,null,null,"）","（",{"$f":"IF('入力シート（確認・工事届）'!R301=\"\",\"\",'入力シート（確認・工事届）'!R301)","v":""},null,null,null,null,"）"]
[null,null,null,null,null,null,null,null,null,"地下（",{"$f":"IF('入力シート（確認・工事届）'!K302=\"\",\"\",'入力シート（確認・工事届）'!K302)","v":""},null,null,null,null,"）","（",{"$f":"IF('入力シート（確認・工事届）'!R302=\"\",\"\",'入力シート（確認・工事届）'!R302)","v":""},null,null,null,null,"）"]
[null,"【ハ.構造】",null,null,null,null,null,null,{"$f":"IF('入力シート（確認・工事届）'!I303=\"\",\"\",'入力シート（確認・工事届）'!I303)","v":""},null,null,null,null,null,null,"一部",null,{"$f":"IF('入力シート（確認・工事届）'!R303=\"\",\"\",'入力シート（確認・工事届）'!R303)","v":""}]
[null,"【ニ.建築基準法第５６条第７項の規定による特例の適用の有無】",null,null,null,null,null,null,null,null,null,null,null,null,null,null,null,null,null,{"$f":"IF('入力シート（確認・工事届）'!AD304=TRUE,\"■\",IF('入力シート（確認・工事届）'!AD304=FALSE,\"□\"))","v":"□"},"有",null,{"$f":"IF('入力シート（確認・工事届）'!AE304=TRUE,\"■\",IF('入力シート（確認・工事届）'!AE304=FALSE,\"□\"))","v":"■"},"無"]
[null,"【ホ.適用があるときは、特例の区分】"]
[null,null,null,null,null,{"$f":"IF('入力シート（確認・工事届）'!AD306=TRUE,\"■\",IF('入力シート（確認・工事届）'!AD306=FALSE,\"□\"))","v":"□"},"道路高さ制限不適用",null,null,null,null,null,{"$f":"IF('入力シート（確認・工事届）'!AE306=TRUE,\"■\",IF('入力シート（確認・工事届）'!AE306=FALSE,\"□\"))","v":"□"},"隣地高さ制限不適用",null,null,null,null,null,{"$f":"IF('入力シート（確認・工事届）'!AF306=TRUE,\"■\",IF('入力シート（確認・工事届）'!AF306=FALSE,\"□\"))","v":"□"},"北側高さ制限不適用"]
["【１４.許可・認定等】"]
[null,{"$f":"IF('入力シート（確認・工事届）'!B309=\"\",\"\",'入力シート（確認・工事届）'!B309)","v":""}]
[]
[]
[]
[]
[]
[]
["【１５.工事着手予定年月日】",null,null,null,null,null,null,null,null,{"$f":"'入力シート（確認・工事届）'!I318","v":"令和"},{"$f":"'入力シート（確認・工事届）'!K318","v":0},"年",{"$f":"'入力シート（確認・工事届）'!M318","v":0},"月",{"$f":"'入力シート（確認・工事届）'!O318","v":0},"日"]
["【１６.工事完了予定年月日】",null,null,null,null,null,null,null,null,"令和",{"$f":"'入力シート（確認・工事届）'!K321","v":0},"年",{"$f":"'入力シート（確認・工事届）'!M321","v":0},"月",{"$f":"'入力シート（確認・工事届）'!O321","v":0},"日"]
["【１７.特定工程工事終了予定年月日】",null,null,null,null,null,null,null,null,null,null,null,null,null,"（特定工程）"]
[null,"（第",{"$f":"'入力シート（確認・工事届）'!C324","v":""},"回）",null,{"$f":"'入力シート（確認・工事届）'!E324","v":"令和"},{"$f":"'入力シート（確認・工事届）'!G324","v":0},"年",{"$f":"'入力シート（確認・工事届）'!I324","v":0},"月",{"$f":"'入力シート（確認・工事届）'!K324","v":0},"日",null,{"$f":"'入力シート（確認・工事届）'!F325","v":0}]
[]
[]
[null,"（第",{"$f":"'入力シート（確認・工事届）'!C326","v":""},"回）",null,{"$f":"'入力シート（確認・工事届）'!E326","v":"令和"},{"$f":"'入力シート（確認・工事届）'!G326","v":0},"年",{"$f":"'入力シート（確認・工事届）'!I326","v":0},"月",{"$f":"'入力シート（確認・工事届）'!K326","v":0},"日",null,{"$f":"'入力シート（確認・工事届）'!F327","v":0}]
[]
[]
[null,"（第",{"$f":"'入力シート（確認・工事届）'!C328","v":""},"回）",null,{"$f":"'入力シート（確認・工事届）'!E328","v":"令和"},{"$f":"'入力シート（確認・工事届）'!G328","v":0},"年",{"$f":"'入力シート（確認・工事届）'!I328","v":0},"月",{"$f":"'入力シート（確認・工事届）'!K328","v":0},"日",null,{"$f":"'入力シート（確認・工事届）'!F329","v":0}]
[]
[]
["【１８.建築基準法第12条第１項の規定による調査の要否】"]
[null,{"$f":"IF('入力シート（確認・工事届）'!AD331=TRUE,\"■\",IF('入力シート（確認・工事届）'!AD331=FALSE,\"□\"))","v":"□"},"要",null,{"$f":"IF('入力シート（確認・工事届）'!AE331=TRUE,\"■\",IF('入力シート（確認・工事届）'!AE331=FALSE,\"□\"))","v":"■"},"否"]
[]
["【１９.建築基準法第12条第3項の規定による検査を要する防火設備の有無】"]
[null,{"$f":"IF('入力シート（確認・工事届）'!AD332=TRUE,\"■\",IF('入力シート（確認・工事届）'!AD332=FALSE,\"□\"))","v":"□"},"有",null,{"$f":"IF('入力シート（確認・工事届）'!AE332=TRUE,\"■\",IF('入力シート（確認・工事届）'!AE332=FALSE,\"□\"))","v":"■"},"無"]
[]
["【２０.その他必要な事項】"]
[null,{"$f":"'入力シート（確認・工事届）'!B334","v":0}]
[]
[]
[]
[]
[]
[]
[]
[]
[]
[]
[]
[]
[]
[]
[]
["建築計画概要書（第三面）"]
["付近見取図"]
[]
[]
[]
[]
[]
[]
[]
[]
[]
[]
[]
[]
[]
[]
[]
[]
[]
[]
[]
[]
[]
[]
[]
["配置図"]
[]
[]
[]
[]
[]
[]
[]
[]
[]
[]
[]
[]
[]
[]
[]
[]
[]
[]
[]
[]
[]
["(注意)"]
["1.第一面及び第二面関係"]
[null,"①","　これらは第二号様式の第二面及び第三面の写しに代えることができます。この場合には、最上段に「建築計画概要書(第一面)」及び「建築計画概要書(第二面)」と明示してください。"]
[]
[null,"②","　第一面の５欄及び６欄は、それぞれ工事監理者又は工事施工者が未定のときは、後で定まつてから工事着手前に届け出てください。この場合には、特定行政庁が届出のあつた旨を明示した上で記入します。"]
[]
["2.第三面関係"]
[null,"①","　付近見取図には、方位、道路及び目標となる地物を明示してください。"]
[null,"②","　配置図には、縮尺、方位、敷地境界線、敷地内における建築物の位置、申請に係る建築物と他の建築物との別並びに敷地の接する道路の位置及び幅員を明示してください。"]

{"sheet":"★工事届","index":8,"n_rows":164,"n_cols":28,"rows_kept":164,"cut":false,"hidden":false,"merged":[[154,14,154,15],[155,14,155,15],[156,14,156,15],[98,15,98,19],[98,22,98,26],[99,13,99,17],[100,0,100,26],[102,6,102,8],[111,7,111,9],[111,12,111,14],[111,17,111,19],[111,22,111,24],[160,9,160,10],[162,8,162,10],[163,8,163,10],[13,4,13,24],[59,6,62,27],[112,7,112,10],[112,12,112,15],[112,17,112,20],[112,22,112,25],[153,0,153,26],[159,9,159,10],[110,8,110,10],[110,13,110,15],[110,18,110,20],[110,23,110,25],[98,8,98,12],[94,22,94,26],[96,8,96,12],[96,15,96,19],[96,22,96,26],[92,8,92,12],[92,15,92,19],[92,22,92,26],[94,8,94,12],[94,15,94,19],[67,14,67,15],[67,17,67,26],[68,14,68,15],[68,17,68,26],[69,14,69,15],[69,17,69,26],[71,8,71,12],[71,15,71,19],[71,22,71,26],[90,8,90,10],[90,11,90,12],[90,15,90,17],[90,18,90,19],[90,22,90,24],[90,25,90,26],[48,0,48,26],[23,4,23,11],[25,4,25,26],[27,4,27,26],[28,4,28,9],[29,4,29,26],[30,4,30,11],[36,4,36,23],[37,4,37,23],[38,4,38,9],[39,4,39,24],[40,4,40,11],[0,11,0,16],[0,18,0,27],[22,4,22,26],[4,0,4,26],[5,0,5,26],[6,0,6,26],[10,1,10,4],[12,4,12,24],[14,4,14,9],[15,4,15,26],[16,4,16,11],[18,4,18,26],[20,4,20,26],[21,4,21,9]]}
["印刷用シート　「★工事届」",null,null,null,null,null,null,null,null,null,null,"シート構成に戻る",null,null,null,null,null,null,"入力シート（確認・工事届）に戻る"]
[]
["C-7号様式（第八条関係）（Ａ４）"]
[]
["建築基準法第15条第1項の規定による"]
["建 築 工 事 届"]
["（第一面）"]
[]
[null,null,null,null,null,null,null,null,null,null,null,null,null,null,null,null,null,null,null,"令和",{"$f":"IF('入力シート（確認・工事届）'!K8=\"\",\"\",'入力シート（確認・工事届）'!K8)","v":""},"年",{"$f":"IF('入力シート（確認・工事届）'!M8=\"\",\"\",'入力シート（確認・工事届）'!M8)","v":""},"月",{"$f":"IF('入力シート（確認・工事届）'!O8=\"\",\"\",'入力シート（確認・工事届）'!O8)","v":""},"日"]
[]
[null,{"$f":"'入力シート（確認・工事届）'!B629","v":0},null,null,null,"　様"]
["建築主"]
[null,"氏名",null,null,{"$f":"'入力シート（確認・工事届）'!E635","v":0}]
[null,null,null,null,{"$f":"'入力シート（確認・工事届）'!E636","v":0}]
[null,"郵便番号",null,null,{"$f":"'入力シート（確認・工事届）'!E637","v":0}]
[null,"住所",null,null,{"$f":"'入力シート（確認・工事届）'!E638","v":0}]
[null,"電話番号",null,null,{"$f":"'入力シート（確認・工事届）'!E639","v":0}]
["工事施工者（設計者又は代理者）"]
[null,"氏名",null,null,{"$f":"'入力シート（確認・工事届）'!E643","v":0}]
[null,"営業所名（建築士事務所名）"]
[null,null,null,null,{"$f":"'入力シート（確認・工事届）'!E645","v":0}]
[null,"郵便番号",null,null,{"$f":"'入力シート（確認・工事届）'!E646","v":0}]
[null,"所在地",null,null,{"$f":"'入力シート（確認・工事届）'!E647","v":0}]
[null,"電話番号",null,null,{"$f":"'入力シート（確認・工事届）'!E648","v":0}]
["工事監理者"]
[null,"氏名",null,null,{"$f":"'入力シート（確認・工事届）'!E651","v":0}]
[null,"営業所名（建築士事務所名）"]
[null,null,null,null,{"$f":"'入力シート（確認・工事届）'!E653","v":0}]
[null,"郵便番号",null,null,{"$f":"'入力シート（確認・工事届）'!E654","v":0}]
[null,"所在地",null,null,{"$f":"'入力シート（確認・工事届）'!E655","v":0}]
[null,"電話番号",null,null,{"$f":"'入力シート（確認・工事届）'!E656","v":0}]
["建築確認"]
[null,"確認済証番号",null,null,null,null,null,null,"第  ",null,null,null,null,null,null,null,null,null,null,"号"]
[null,"確認済証交付年月日",null,null,null,null,null,null,"令和",null,"年",null,"月",null,"日"]
[null,"確認済証交付者"]
["除却工事施工者"]
[null,"氏名",null,null,{"$f":"'入力シート（確認・工事届）'!E664","v":0}]
[null,"営業所名",null,null,{"$f":"'入力シート（確認・工事届）'!E665","v":0}]
[null,"郵便番号",null,null,{"$f":"'入力シート（確認・工事届）'!E666","v":0}]
[null,"所在地",null,null,{"$f":"'入力シート（確認・工事届）'!E667","v":0}]
[null,"電話番号",null,null,{"$f":"'入力シート（確認・工事届）'!E668","v":0}]
["※受付経由機関記載欄"]
[]
[]
[]
[]
[]
[]
["（第二面）"]
["【1.着工及び工事完了の予定期日】"]
[null,"【イ.着工予定期日】",null,null,null,null,null,null,"令和",{"$f":"'入力シート（確認・工事届）'!H673","v":""},"年",{"$f":"'入力シート（確認・工事届）'!J673","v":""},"月",{"$f":"'入力シート（確認・工事届）'!L673","v":""},"日から"]
[null,"【ロ.工事完了予定期日】",null,null,null,null,null,null,"令和",{"$f":"'入力シート（確認・工事届）'!H674","v":""},"年",{"$f":"'入力シート（確認・工事届）'!J674","v":""},"月",{"$f":"'入力シート（確認・工事届）'!L674","v":""},"日まで"]
["【2.建築主】"]
[null,"【イ.建築主の種別】",null,null,null,null,null,{"$f":"IF('入力シート（確認・工事届）'!AD677=TRUE,\"■\",IF('入力シート（確認・工事届）'!AD677=FALSE,\"□\"))","v":"□"},"(1) 国",null,null,{"$f":"IF('入力シート（確認・工事届）'!AE677=TRUE,\"■\",IF('入力シート（確認・工事届）'!AE677=FALSE,\"□\"))","v":"□"},"(2) 都道府県",null,null,null,null,null,{"$f":"IF('入力シート（確認・工事届）'!AF677=TRUE,\"■\",IF('入力シート（確認・工事届）'!AF677=FALSE,\"□\"))","v":"□"},"(3) 市区町村"]
[null,null,null,null,null,null,null,{"$f":"IF('入力シート（確認・工事届）'!AG677=TRUE,\"■\",IF('入力シート（確認・工事届）'!AG677=FALSE,\"□\"))","v":"□"},"(4) 会社",null,null,{"$f":"IF('入力シート（確認・工事届）'!AD678=TRUE,\"■\",IF('入力シート（確認・工事届）'!AD678=FALSE,\"□\"))","v":"□"},"(5) 会社でない団体",null,null,null,null,null,{"$f":"IF('入力シート（確認・工事届）'!AE678=TRUE,\"■\",IF('入力シート（確認・工事届）'!AE678=FALSE,\"□\"))","v":"□"},"(6) 個人"]
[null,"【ロ.資本の額又は出資の総額】",null,null,null,null,null,null,null,null,{"$f":"IF('入力シート（確認・工事届）'!AD680=TRUE,\"■\",IF('入力シート（確認・工事届）'!AD680=FALSE,\"□\"))","v":"□"},"(1) 1,000万円以下",null,null,null,null,null,{"$f":"IF('入力シート（確認・工事届）'!AD681=TRUE,\"■\",IF('入力シート（確認・工事届）'!AD681=FALSE,\"□\"))","v":"□"},"(2) 1,000万円超～3,000万円以下"]
[null,null,null,null,null,null,null,null,null,null,{"$f":"IF('入力シート（確認・工事届）'!AD682=TRUE,\"■\",IF('入力シート（確認・工事届）'!AD682=FALSE,\"□\"))","v":"□"},"(3) 3,000万円超～1億円以下"]
[null,null,null,null,null,null,null,null,null,null,{"$f":"IF('入力シート（確認・工事届）'!AD683=TRUE,\"■\",IF('入力シート（確認・工事届）'!AD683=FALSE,\"□\"))","v":"□"},"(4) 1億円超～10億円以下",null,null,null,null,null,null,{"$f":"IF('入力シート（確認・工事届）'!AD684=TRUE,\"■\",IF('入力シート（確認・工事届）'!AD684=FALSE,\"□\"))","v":"□"},"(5) 10億円超"]
["【3.敷地の位置】"]
[null,"【イ.地名地番】",null,null,null,null,{"$f":"'入力シート（確認・工事届）'!G687","v":""}]
[]
[]
[]
[null,"【ロ.都市計画】",null,null,null,null,{"$f":"'入力シート（確認・工事届）'!G691","v":"□"},"(1) 市街化区域",null,null,null,null,null,{"$f":"'入力シート（確認・工事届）'!N691","v":"□"},"(2) 市街化調整区域"]
[null,null,null,null,null,null,{"$f":"'入力シート（確認・工事届）'!G692","v":"□"},"(3) 区域区分非設定都市計画区域",null,null,null,null,null,null,null,null,null,{"$f":"'入力シート（確認・工事届）'!R692","v":"□"},"(4) 準都市計画区域"]
[null,null,null,null,null,null,{"$f":"'入力シート（確認・工事届）'!G693","v":"□"},"(5) 都市計画区域及び準都市計画区域外"]
["【4.工事種別】",null,null,null,null,{"$f":"'入力シート（確認・工事届）'!F695","v":"□"},"(1) 新築",null,null,null,{"$f":"'入力シート（確認・工事届）'!K695","v":"□"},"(2) 増築",null,null,null,{"$f":"'入力シート（確認・工事届）'!P695","v":"□"},"(3) 改築",null,null,null,{"$f":"'入力シート（確認・工事届）'!U695","v":"□"},"(4) 移転"]
["【5.主要用途】",null,null,null,null,{"$f":"IF('入力シート（確認・工事届）'!AD698=TRUE,\"○\",IF('入力シート（確認・工事届）'!AD698=FALSE,\"\"))","v":""},"(1) 居住専用建築物",null,null,null,null,null,null,"（",{"$f":"IF('入力シート（確認・工事届）'!O698=\"\",\"\",'入力シート（確認・工事届）'!O698)","v":""},null,"）"]
[null,null,null,null,null,{"$f":"IF('入力シート（確認・工事届）'!AD699=TRUE,\"○\",IF('入力シート（確認・工事届）'!AD699=FALSE,\"\"))","v":""},"(2) 居住産業併用建築物",null,null,null,null,null,null,"（",{"$f":"IF('入力シート（確認・工事届）'!O699=\"\",\"\",'入力シート（確認・工事届）'!O699)","v":""},null,"）"]
[null,null,null,null,null,{"$f":"IF('入力シート（確認・工事届）'!AD700=TRUE,\"○\",IF('入力シート（確認・工事届）'!AD700=FALSE,\"\"))","v":""},"(3) 産業専用建築物",null,null,null,null,null,null,"（",{"$f":"IF('入力シート（確認・工事届）'!O700=\"\",\"\",'入力シート（確認・工事届）'!O700)","v":""},null,"）"]
["【6.一の建築物ごとの内容】"]
[null,"【イ.番号】",null,null,null,null,null,"（",{"$f":"IF('入力シート（確認・工事届）'!I703=\"\",\"\",'入力シート（確認・工事届）'!I703)","v":""},null,null,null,null,")","（",{"$f":"IF('入力シート（確認・工事届）'!P703=\"\",\"\",'入力シート（確認・工事届）'!P703)","v":""},null,null,null,null,")","（",{"$f":"IF('入力シート（確認・工事届）'!W703=\"\",\"\",'入力シート（確認・工事届）'!W703)","v":""},null,null,null,null,")"]
[null,"【ロ.用途】",null,null,null,null,null,{"$f":"IF('入力シート（確認・工事届）'!AD704=TRUE,\"■\",IF('入力シート（確認・工事届）'!AD704=FALSE,\"□\"))","v":"□"},"(1)","事務所等",null,null,null,null,{"$f":"IF('入力シート（確認・工事届）'!AE704=TRUE,\"■\",IF('入力シート（確認・工事届）'!AE704=FALSE,\"□\"))","v":"□"},"(1)","事務所等",null,null,null,null,{"$f":"IF('入力シート（確認・工事届）'!AF704=TRUE,\"■\",IF('入力シート（確認・工事届）'!AF704=FALSE,\"□\"))","v":"□"},"(1)","事務所等"]
[null,null,null,null,null,null,null,{"$f":"IF('入力シート（確認・工事届）'!AD705=TRUE,\"■\",IF('入力シート（確認・工事届）'!AD705=FALSE,\"□\"))","v":"□"},"(2)","物品販売業を営",null,null,null,null,{"$f":"IF('入力シート（確認・工事届）'!AE705=TRUE,\"■\",IF('入力シート（確認・工事届）'!AE705=FALSE,\"□\"))","v":"□"},"(2)","物品販売業を営",null,null,null,null,{"$f":"IF('入力シート（確認・工事届）'!AF705=TRUE,\"■\",IF('入力シート（確認・工事届）'!AF705=FALSE,\"□\"))","v":"□"},"(2)","物品販売業を営"]
[null,null,null,null,null,null,null,null,null,"む店舗等",null,null,null,null,null,null,"む店舗等",null,null,null,null,null,null,"む店舗等"]
[null,null,null,null,null,null,null,{"$f":"IF('入力シート（確認・工事届）'!AD707=TRUE,\"■\",IF('入力シート（確認・工事届）'!AD707=FALSE,\"□\"))","v":"□"},"(3)","工場、作業場",null,null,null,null,{"$f":"IF('入力シート（確認・工事届）'!AE707=TRUE,\"■\",IF('入力シート（確認・工事届）'!AE707=FALSE,\"□\"))","v":"□"},"(3)","工場、作業場",null,null,null,null,{"$f":"IF('入力シート（確認・工事届）'!AF707=TRUE,\"■\",IF('入力シート（確認・工事届）'!AF707=FALSE,\"□\"))","v":"□"},"(3)","工場、作業場"]
[null,null,null,null,null,null,null,{"$f":"IF('入力シート（確認・工事届）'!AD708=TRUE,\"■\",IF('入力シート（確認・工事届）'!AD708=FALSE,\"□\"))","v":"□"},"(4)","倉庫",null,null,null,null,{"$f":"IF('入力シート（確認・工事届）'!AE708=TRUE,\"■\",IF('入力シート（確認・工事届）'!AE708=FALSE,\"□\"))","v":"□"},"(4)","倉庫",null,null,null,null,{"$f":"IF('入力シート（確認・工事届）'!AF708=TRUE,\"■\",IF('入力シート（確認・工事届）'!AF708=FALSE,\"□\"))","v":"□"},"(4)","倉庫"]
[null,null,null,null,null,null,null,{"$f":"IF('入力シート（確認・工事届）'!AD709=TRUE,\"■\",IF('入力シート（確認・工事届）'!AD709=FALSE,\"□\"))","v":"□"},"(5)","学校",null,null,null,null,{"$f":"IF('入力シート（確認・工事届）'!AE709=TRUE,\"■\",IF('入力シート（確認・工事届）'!AE709=FALSE,\"□\"))","v":"□"},"(5)","学校",null,null,null,null,{"$f":"IF('入力シート（確認・工事届）'!AF709=TRUE,\"■\",IF('入力シート（確認・工事届）'!AF709=FALSE,\"□\"))","v":"□"},"(5)","学校"]
[null,null,null,null,null,null,null,{"$f":"IF('入力シート（確認・工事届）'!AD710=TRUE,\"■\",IF('入力シート（確認・工事届）'!AD710=FALSE,\"□\"))","v":"□"},"(6)","病院、診療所",null,null,null,null,{"$f":"IF('入力シート（確認・工事届）'!AE710=TRUE,\"■\",IF('入力シート（確認・工事届）'!AE710=FALSE,\"□\"))","v":"□"},"(6)","病院、診療所",null,null,null,null,{"$f":"IF('入力シート（確認・工事届）'!AF710=TRUE,\"■\",IF('入力シート（確認・工事届）'!AF710=FALSE,\"□\"))","v":"□"},"(6)","病院、診療所"]
[null,null,null,null,null,null,null,{"$f":"IF('入力シート（確認・工事届）'!AD711=TRUE,\"■\",IF('入力シート（確認・工事届）'!AD711=FALSE,\"□\"))","v":"□"},"(9)","その他",null,null,null,null,{"$f":"IF('入力シート（確認・工事届）'!AE711=TRUE,\"■\",IF('入力シート（確認・工事届）'!AE711=FALSE,\"□\"))","v":"□"},"(9)","その他",null,null,null,null,{"$f":"IF('入力シート（確認・工事届）'!AF711=TRUE,\"■\",IF('入力シート（確認・工事届）'!AF711=FALSE,\"□\"))","v":"□"},"(9)","その他"]
[null,null,null,null,null,null,null,{"$f":"IF('入力シート（確認・工事届）'!AD712=TRUE,\"■\",IF('入力シート（確認・工事届）'!AD712=FALSE,\"□\"))","v":"□"},"多用途",null,null,null,null,null,{"$f":"IF('入力シート（確認・工事届）'!AE712=TRUE,\"■\",IF('入力シート（確認・工事届）'!AE712=FALSE,\"□\"))","v":"□"},"多用途",null,null,null,null,null,{"$f":"IF('入力シート（確認・工事届）'!AF712=TRUE,\"■\",IF('入力シート（確認・工事届）'!AF712=FALSE,\"□\"))","v":"□"},"多用途"]
[null,"【ハ.工事部分の構造】",null,null,null,null,null,{"$f":"IF('入力シート（確認・工事届）'!AD713=TRUE,\"■\",IF('入力シート（確認・工事届）'!AD713=FALSE,\"□\"))","v":"□"},"(1)","木造",null,null,null,null,{"$f":"IF('入力シート（確認・工事届）'!AE713=TRUE,\"■\",IF('入力シート（確認・工事届）'!AE713=FALSE,\"□\"))","v":"□"},"(1)","木造",null,null,null,null,{"$f":"IF('入力シート（確認・工事届）'!AF713=TRUE,\"■\",IF('入力シート（確認・工事届）'!AF713=FALSE,\"□\"))","v":"□"},"(1)","木造"]
[null,null,null,null,null,null,null,{"$f":"IF('入力シート（確認・工事届）'!AD714=TRUE,\"■\",IF('入力シート（確認・工事届）'!AD714=FALSE,\"□\"))","v":"□"},"(2)","鉄骨鉄筋コンク",null,null,null,null,{"$f":"IF('入力シート（確認・工事届）'!AE714=TRUE,\"■\",IF('入力シート（確認・工事届）'!AE714=FALSE,\"□\"))","v":"□"},"(2)","鉄骨鉄筋コンク",null,null,null,null,{"$f":"IF('入力シート（確認・工事届）'!AF714=TRUE,\"■\",IF('入力シート（確認・工事届）'!AF714=FALSE,\"□\"))","v":"□"},"(2)","鉄骨鉄筋コンク"]
[null,null,null,null,null,null,null,null,null,"リート造",null,null,null,null,null,null,"リート造",null,null,null,null,null,null,"リート造"]
[null,null,null,null,null,null,null,{"$f":"IF('入力シート（確認・工事届）'!AD716=TRUE,\"■\",IF('入力シート（確認・工事届）'!AD716=FALSE,\"□\"))","v":"□"},"(3)","鉄筋コンクリー",null,null,null,null,{"$f":"IF('入力シート（確認・工事届）'!AE716=TRUE,\"■\",IF('入力シート（確認・工事届）'!AE716=FALSE,\"□\"))","v":"□"},"(3)","鉄筋コンクリー",null,null,null,null,{"$f":"IF('入力シート（確認・工事届）'!AF716=TRUE,\"■\",IF('入力シート（確認・工事届）'!AF716=FALSE,\"□\"))","v":"□"},"(3)","鉄筋コンクリー"]
[null,null,null,null,null,null,null,null,null,"ト造",null,null,null,null,null,null,"ト造",null,null,null,null,null,null,"ト造"]
[null,null,null,null,null,null,null,{"$f":"IF('入力シート（確認・工事届）'!AD718=TRUE,\"■\",IF('入力シート（確認・工事届）'!AD718=FALSE,\"□\"))","v":"□"},"(4)","鉄骨造",null,null,null,null,{"$f":"IF('入力シート（確認・工事届）'!AE718=TRUE,\"■\",IF('入力シート（確認・工事届）'!AE718=FALSE,\"□\"))","v":"□"},"(4)","鉄骨造",null,null,null,null,{"$f":"IF('入力シート（確認・工事届）'!AF718=TRUE,\"■\",IF('入力シート（確認・工事届）'!AF718=FALSE,\"□\"))","v":"□"},"(4)","鉄骨造"]
[null,null,null,null,null,null,null,{"$f":"IF('入力シート（確認・工事届）'!AD719=TRUE,\"■\",IF('入力シート（確認・工事届）'!AD719=FALSE,\"□\"))","v":"□"},"(5)","コンクリートブ",null,null,null,null,{"$f":"IF('入力シート（確認・工事届）'!AE719=TRUE,\"■\",IF('入力シート（確認・工事届）'!AE719=FALSE,\"□\"))","v":"□"},"(5)","コンクリートブ",null,null,null,null,{"$f":"IF('入力シート（確認・工事届）'!AF719=TRUE,\"■\",IF('入力シート（確認・工事届）'!AF719=FALSE,\"□\"))","v":"□"},"(5)","コンクリートブ"]
[null,null,null,null,null,null,null,null,null,"ロック造",null,null,null,null,null,null,"ロック造",null,null,null,null,null,null,"ロック造"]
[null,null,null,null,null,null,null,{"$f":"IF('入力シート（確認・工事届）'!AD721=TRUE,\"■\",IF('入力シート（確認・工事届）'!AD721=FALSE,\"□\"))","v":"□"},"(6)","その他",null,null,null,null,{"$f":"IF('入力シート（確認・工事届）'!AE721=TRUE,\"■\",IF('入力シート（確認・工事届）'!AE721=FALSE,\"□\"))","v":"□"},"(6)","その他",null,null,null,null,{"$f":"IF('入力シート（確認・工事届）'!AF721=TRUE,\"■\",IF('入力シート（確認・工事届）'!AF721=FALSE,\"□\"))","v":"□"},"(6)","その他"]
[null,"【二.工事の予定期間】",null,null,null,null,null,"（",{"$f":"IF('入力シート（確認・工事届）'!I722=\"\",\"\",'入力シート（確認・工事届）'!I722)","v":""},null,null,"月間",null,")","（",{"$f":"IF('入力シート（確認・工事届）'!P722=\"\",\"\",'入力シート（確認・工事届）'!P722)","v":""},null,null,"月間",null,")","（",{"$f":"IF('入力シート（確認・工事届）'!W722=\"\",\"\",'入力シート（確認・工事届）'!W722)","v":""},null,null,"月間",null,")"]
[null,"【ホ.工事部分の"]
[null,null,"　床面積の合計】",null,null,null,null,"（",{"$f":"IF('入力シート（確認・工事届）'!I724=\"\",\"\",'入力シート（確認・工事届）'!I724)","v":""},null,null,null,null,")","（",{"$f":"IF('入力シート（確認・工事届）'!P724=\"\",\"\",'入力シート（確認・工事届）'!P724)","v":""},null,null,null,null,")","（",{"$f":"IF('入力シート（確認・工事届）'!W724=\"\",\"\",'入力シート（確認・工事届）'!W724)","v":""},null,null,null,null,")"]
[null,"【へ.建築工事費予定額】"]
[null,null,null,null,null,null,null,"（",{"$f":"IF('入力シート（確認・工事届）'!I726=\"\",\"\",'入力シート（確認・工事届）'!I726)","v":""},null,null,null,null,")","（",{"$f":"IF('入力シート（確認・工事届）'!P726=\"\",\"\",'入力シート（確認・工事届）'!P726)","v":""},null,null,null,null,")","（",{"$f":"IF('入力シート（確認・工事届）'!W726=\"\",\"\",'入力シート（確認・工事届）'!W726)","v":""},null,null,null,null,")"]
[null,"【ト.新築工事の場合における地上の階数】"]
[null,null,null,null,null,null,null,"（",{"$f":"IF('入力シート（確認・工事届）'!I727=\"\",\"\",'入力シート（確認・工事届）'!I727)","v":""},null,null,null,null,")","（",{"$f":"IF('入力シート（確認・工事届）'!P727=\"\",\"\",'入力シート（確認・工事届）'!P727)","v":""},null,null,null,null,")","（",{"$f":"IF('入力シート（確認・工事届）'!W727=\"\",\"\",'入力シート（確認・工事届）'!W727)","v":""},null,null,null,null,")"]
[null,"【チ.新築工事の場合における地下の階数】"]
[null,null,null,null,null,null,null,"（",{"$f":"IF('入力シート（確認・工事届）'!I728=\"\",\"\",'入力シート（確認・工事届）'!I728)","v":""},null,null,null,null,")","（",{"$f":"IF('入力シート（確認・工事届）'!P728=\"\",\"\",'入力シート（確認・工事届）'!P728)","v":""},null,null,null,null,")","（",{"$f":"IF('入力シート（確認・工事届）'!W728=\"\",\"\",'入力シート（確認・工事届）'!W728)","v":""},null,null,null,null,")"]
["【７．新築工事の場合における敷地面積】",null,null,null,null,null,null,null,null,null,null,null,null,{"$f":"IF('入力シート（確認・工事届）'!K731=\"\",\"㎡\",'入力シート（確認・工事届）'!K731)","v":"㎡"}]
["（第三面）"]
["【1.住宅部分の概要】"]
[null,"【イ.番号】",null,null,null,null,{"$f":"IF('入力シート（確認・工事届）'!G736=\"\",\"\",'入力シート（確認・工事届）'!G736)","v":""}]
[null,"【ロ.新設又はその他の別】",null,null,null,null,null,null,null,"(1)新設",null,null,"（",{"$f":"IF('入力シート（確認・工事届）'!AD737=TRUE,\"■\",IF('入力シート（確認・工事届）'!AD737=FALSE,\"□\"))","v":"□"}," 新築",null,null,{"$f":"IF('入力シート（確認・工事届）'!AE737=TRUE,\"■\",IF('入力シート（確認・工事届）'!AE737=FALSE,\"□\"))","v":"□"},"増築",null,null,{"$f":"IF('入力シート（確認・工事届）'!AF737=TRUE,\"■\",IF('入力シート（確認・工事届）'!AF737=FALSE,\"□\"))","v":"□"},"改築",null,")"]
[null,null,null,null,null,null,null,null,null,"(2)その他",null,null,"（",null,null,null,null,{"$f":"IF('入力シート（確認・工事届）'!AD738=TRUE,\"■\",IF('入力シート（確認・工事届）'!AD738=FALSE,\"□\"))","v":"□"},"増築",null,null,{"$f":"IF('入力シート（確認・工事届）'!AE738=TRUE,\"■\",IF('入力シート（確認・工事届）'!AE738=FALSE,\"□\"))","v":"□"},"改築",null,")"]
[null,"【ハ.新設住宅の資金】",null,null,null,null,null,null,{"$f":"IF('入力シート（確認・工事届）'!AD739=TRUE,\"■\",IF('入力シート（確認・工事届）'!AD739=FALSE,\"□\"))","v":"□"},"(1) 民間資金住宅",null,null,null,null,{"$f":"IF('入力シート（確認・工事届）'!AE739=TRUE,\"■\",IF('入力シート（確認・工事届）'!AE739=FALSE,\"□\"))","v":"□"},"(2) 公営住宅",null,null,null,{"$f":"IF('入力シート（確認・工事届）'!AF739=TRUE,\"■\",IF('入力シート（確認・工事届）'!AF739=FALSE,\"□\"))","v":"□"},"(3) 住宅金融支援機構住宅"]
[null,null,null,null,null,null,null,null,{"$f":"IF('入力シート（確認・工事届）'!AD740=TRUE,\"■\",IF('入力シート（確認・工事届）'!AD740=FALSE,\"□\"))","v":"□"},"(4) 都市再生機構住宅",null,null,null,null,null,{"$f":"IF('入力シート（確認・工事届）'!AE740=TRUE,\"■\",IF('入力シート（確認・工事届）'!AE740=FALSE,\"□\"))","v":"□"},"(5) その他"]
[null,"【ニ.住宅の建築工法】",null,null,null,null,null,null,{"$f":"IF('入力シート（確認・工事届）'!AD741=TRUE,\"■\",IF('入力シート（確認・工事届）'!AD741=FALSE,\"□\"))","v":"□"},"(1) 在来工法",null,null,null,null,{"$f":"IF('入力シート（確認・工事届）'!AE741=TRUE,\"■\",IF('入力シート（確認・工事届）'!AE741=FALSE,\"□\"))","v":"□"},"(2) プレハブ工法",null,null,null,null,{"$f":"IF('入力シート（確認・工事届）'!AF741=TRUE,\"■\",IF('入力シート（確認・工事届）'!AF741=FALSE,\"□\"))","v":"□"},"(3) 枠組壁工法"]
[null,"【ホ.住宅の種類】",null,null,null,null,null,null,{"$f":"IF('入力シート（確認・工事届）'!AD742=TRUE,\"■\",IF('入力シート（確認・工事届）'!AD742=FALSE,\"□\"))","v":"□"},"(1) 専用住宅",null,null,null,null,{"$f":"IF('入力シート（確認・工事届）'!AE742=TRUE,\"■\",IF('入力シート（確認・工事届）'!AE742=FALSE,\"□\"))","v":"□"},"(2) 併用住宅",null,null,null,null,{"$f":"IF('入力シート（確認・工事届）'!AF742=TRUE,\"■\",IF('入力シート（確認・工事届）'!AF742=FALSE,\"□\"))","v":"□"},"(3) その他の住宅"]
[null,"【ヘ.住宅の建て方】",null,null,null,null,null,null,{"$f":"IF('入力シート（確認・工事届）'!AD743=TRUE,\"■\",IF('入力シート（確認・工事届）'!AD743=FALSE,\"□\"))","v":"□"},"(1)一戸建住宅",null,null,null,null,{"$f":"IF('入力シート（確認・工事届）'!AE743=TRUE,\"■\",IF('入力シート（確認・工事届）'!AE743=FALSE,\"□\"))","v":"□"},"(2) 長屋建住宅",null,null,null,null,{"$f":"IF('入力シート（確認・工事届）'!AF743=TRUE,\"■\",IF('入力シート（確認・工事届）'!AF743=FALSE,\"□\"))","v":"□"},"(3) 共同住宅"]
[null,"【ト.利用関係】",null,null,null,null,"（",{"$f":"IF('入力シート（確認・工事届）'!AD744=TRUE,\"■\",IF('入力シート（確認・工事届）'!AD744=FALSE,\"□\"))","v":"□"},"(1)持家",null,null,")( ",{"$f":"IF('入力シート（確認・工事届）'!AE744=TRUE,\"■\",IF('入力シート（確認・工事届）'!AE744=FALSE,\"□\"))","v":"□"},"(2)貸家",null,null,")( ",{"$f":"IF('入力シート（確認・工事届）'!AF744=TRUE,\"■\",IF('入力シート（確認・工事届）'!AF744=FALSE,\"□\"))","v":"□"},"(3)給与住宅",null,null,")( ",{"$f":"IF('入力シート（確認・工事届）'!AG744=TRUE,\"■\",IF('入力シート（確認・工事届）'!AG744=FALSE,\"□\"))","v":"□"},"(4)分譲住宅",null,null,")"]
[null,"【チ.住宅の戸数】",null,null,null,null,"（",{"$f":"IF('入力シート（確認・工事届）'!H745=\"\",\"\",'入力シート（確認・工事届）'!H745)","v":""},null,null,"戸",")( ",{"$f":"IF('入力シート（確認・工事届）'!M745=\"\",\"\",'入力シート（確認・工事届）'!M745)","v":""},null,null,"戸",")( ",{"$f":"IF('入力シート（確認・工事届）'!R745=\"\",\"\",'入力シート（確認・工事届）'!R745)","v":""},null,null,"戸",")( ",{"$f":"IF('入力シート（確認・工事届）'!W745=\"\",\"\",'入力シート（確認・工事届）'!W745)","v":""},null,null,"戸",")"]
[null,"【リ.工事部分の",null,null,null,null,"（",{"$f":"IF('入力シート（確認・工事届）'!H746=\"\",\"㎡\",'入力シート（確認・工事届）'!H746)","v":"㎡"},null,null,null,")( ",{"$f":"IF('入力シート（確認・工事届）'!M746=\"\",\"㎡\",'入力シート（確認・工事届）'!M746)","v":"㎡"},null,null,null,")( ",{"$f":"IF('入力シート（確認・工事届）'!R746=\"\",\"㎡\",'入力シート（確認・工事届）'!R746)","v":"㎡"},null,null,null,")( ",{"$f":"IF('入力シート（確認・工事届）'!W746=\"\",\"㎡\",'入力シート（確認・工事届）'!W746)","v":"㎡"},null,null,null,")"]
[null,null," 床面積の合計】"]
[]
[]
[]
[]
[]
[]
[]
[]
[]
[]
[]
[]
[]
[]
[]
[]
[]
[]
[]
[]
[]
[]
[]
[]
[]
[]
[]
[]
[]
[]
[]
[]
[]
[]
[]
[]
[]
[]
[]
["（第四面）"]
["【1.主要用途】",null,null,null,null,null,"(1) 居住専用建築物",null,null,null,null,null,null,"（",{"$f":"IF('入力シート（確認・工事届）'!O750=\"\",\"\",'入力シート（確認・工事届）'!O750)","v":""},null,"）"]
[null,null,null,null,null,null,"(2) 居住産業併用建築物",null,null,null,null,null,null,"（",{"$f":"IF('入力シート（確認・工事届）'!O751=\"\",\"\",'入力シート（確認・工事届）'!O751)","v":""},null,"）"]
[null,null,null,null,null,null,"(3) 産業専用建築物",null,null,null,null,null,null,"（",{"$f":"IF('入力シート（確認・工事届）'!O752=\"\",\"\",'入力シート（確認・工事届）'!O752)","v":""},null,"）"]
["【2.除却原因】",null,null,null,null,{"$f":"IF('入力シート（確認・工事届）'!AD753=TRUE,\"■\",IF('入力シート（確認・工事届）'!AD753=FALSE,\"□\"))","v":"□"},"(1) 老朽して危険があるため",null,null,null,null,null,null,null,null,null,{"$f":"IF('入力シート（確認・工事届）'!AE753=TRUE,\"■\",IF('入力シート（確認・工事届）'!AE753=FALSE,\"□\"))","v":"□"},"(2) その他"]
["【3.構造】",null,null,null,null,{"$f":"IF('入力シート（確認・工事届）'!AD754=TRUE,\"■\",IF('入力シート（確認・工事届）'!AD754=FALSE,\"□\"))","v":"□"},"(1) 木造",null,null,null,null,null,null,null,null,null,{"$f":"IF('入力シート（確認・工事届）'!AE754=TRUE,\"■\",IF('入力シート（確認・工事届）'!AE754=FALSE,\"□\"))","v":"□"},"(2) その他"]
["【4.建築物の数】",null,null,null,null,null,null,null,null,{"$f":"IF('入力シート（確認・工事届）'!J755=\"\",\"\",'入力シート（確認・工事届）'!J755)","v":""}]
["【5.住宅の戸数】",null,null,null,null,null,null,null,null,{"$f":"IF('入力シート（確認・工事届）'!J756=\"\",\"\",'入力シート（確認・工事届）'!J756)","v":""},null,"戸"]
["【6.住宅の利用関係】",null,null,null,null,null,null,{"$f":"IF('入力シート（確認・工事届）'!AD757=TRUE,\"■\",IF('入力シート（確認・工事届）'!AD757=FALSE,\"□\"))","v":"□"},"(1) 持家",null,null,{"$f":"IF('入力シート（確認・工事届）'!AE757=TRUE,\"■\",IF('入力シート（確認・工事届）'!AE757=FALSE,\"□\"))","v":"□"},"(2) 貸家",null,null,{"$f":"IF('入力シート（確認・工事届）'!AF757=TRUE,\"■\",IF('入力シート（確認・工事届）'!AF757=FALSE,\"□\"))","v":"□"},"(3) 給与住宅"]
["【7.建築物の床面積の合計】",null,null,null,null,null,null,null,{"$f":"IF('入力シート（確認・工事届）'!I758=\"\",\"\",'入力シート（確認・工事届）'!I758)","v":""},null,null,"㎡"]
["【8.建築物の評価額】",null,null,null,null,null,null,null,{"$f":"IF('入力シート（確認・工事届）'!I759=\"\",\"\",'入力シート（確認・工事届）'!I759)","v":""},null,null,"千円"]

{"sheet":"★計画変更","index":9,"n_rows":551,"n_cols":28,"rows_kept":551,"cut":false,"hidden":false,"merged":[[548,3,548,9],[483,23,483,26],[530,10,530,12],[530,16,530,18],[481,5,481,8],[481,11,481,20],[509,23,509,26],[482,11,482,20],[550,1,551,26],[513,1,513,2],[513,5,513,8],[513,11,513,20],[513,23,513,26],[514,1,514,2],[514,5,514,8],[514,11,514,20],[514,23,514,26],[515,1,515,2],[515,5,515,8],[515,11,515,20],[515,23,515,26],[517,1,518,26],[520,1,521,26],[523,0,523,26],[525,7,525,8],[526,10,526,13],[528,10,528,14],[531,8,531,14],[529,10,529,14],[531,17,531,23],[542,5,542,19],[545,8,545,14],[482,23,482,26],[510,23,510,26],[503,8,503,10],[483,1,483,2],[483,5,483,8],[483,11,483,20],[484,1,484,2],[484,5,484,8],[509,5,509,8],[509,11,509,20],[481,1,481,2],[482,1,482,2],[482,5,482,8],[462,1,463,26],[465,1,466,26],[468,0,468,26],[470,7,470,8],[471,7,471,8],[479,23,479,26],[480,23,480,26],[481,23,481,26],[472,8,472,10],[473,8,473,10],[474,8,474,10],[476,10,476,12],[479,5,479,8],[479,11,479,20],[480,1,480,2],[480,5,480,8],[480,11,480,20],[456,1,456,2],[456,5,456,8],[456,11,456,20],[460,1,460,2],[460,5,460,8],[460,11,460,20],[456,23,456,26],[454,5,454,8],[454,11,454,20],[454,23,454,26],[459,11,459,20],[459,23,459,26],[458,1,458,2],[458,5,458,8],[458,11,458,20],[458,23,458,26],[459,1,459,2],[459,5,459,8],[457,1,457,2],[457,5,457,8],[457,11,457,20],[457,23,457,26],[460,23,460,26],[428,1,428,2],[428,5,428,8],[428,11,428,20],[428,23,428,26],[425,1,425,2],[425,5,425,8],[425,11,425,20],[425,23,425,26],[426,1,426,2],[426,5,426,8],[426,11,426,20],[426,23,426,26],[399,22,399,25],[400,10,400,13],[400,16,400,19],[400,22,400,25],[399,10,399,13],[399,16,399,19],[421,10,421,12],[427,1,427,2],[427,5,427,8],[427,11,427,20],[427,23,427,26],[424,5,424,8],[512,1,512,2],[512,5,512,8],[512,11,512,20],[512,23,512,26],[484,11,484,20],[484,23,484,26],[485,1,485,2],[485,5,485,8],[485,11,485,20],[485,23,485,26],[487,1,488,26],[490,1,491,26],[500,7,500,8],[504,8,504,10],[506,10,506,12],[511,5,511,8],[511,11,511,20],[511,23,511,26],[511,1,511,2],[510,1,510,2],[510,5,510,8],[510,11,510,20],[501,7,501,8],[502,8,502,10],[429,1,429,2],[429,5,429,8],[429,11,429,20],[429,23,429,26],[430,1,430,2],[430,5,430,8],[430,11,430,20],[430,23,430,26],[432,1,433,26],[435,1,436,26],[445,7,445,8],[446,7,446,8],[447,8,447,10],[448,8,448,10],[449,8,449,10],[451,10,451,12],[455,1,455,2],[455,5,455,8],[455,11,455,20],[455,23,455,26],[397,6,397,7],[397,10,397,13],[397,16,397,19],[397,22,397,25],[398,6,398,7],[398,10,398,13],[398,16,398,19],[398,22,398,25],[424,11,424,20],[424,23,424,26],[401,4,401,26],[402,4,402,26],[403,4,403,26],[404,8,404,10],[405,6,405,11],[399,6,399,7],[407,1,408,26],[410,1,411,26],[413,0,413,26],[415,7,415,8],[416,7,416,8],[417,8,417,10],[418,8,418,10],[419,8,419,10],[396,6,396,7],[396,10,396,13],[396,16,396,19],[396,22,396,25],[378,9,378,11],[379,9,379,11],[381,1,382,26],[383,1,383,26],[388,24,388,26],[389,18,389,26],[392,18,392,26],[394,6,394,7],[395,6,395,7],[395,10,395,13],[395,16,395,19],[395,22,395,25],[393,10,393,13],[393,16,393,19],[393,22,393,25],[394,10,394,13],[394,16,394,19],[394,22,394,25],[346,6,346,8],[346,10,346,26],[347,6,347,8],[347,10,347,26],[348,6,348,8],[348,10,348,26],[351,5,351,11],[351,14,351,20],[290,17,290,21],[298,1,304,26],[308,13,310,26],[14,23,15,27],[25,17,25,26],[292,17,292,21],[243,1,243,26],[245,12,245,14],[246,12,246,14],[248,8,248,11],[248,13,248,16],[248,18,248,21],[248,23,248,26],[217,6,217,26],[32,9,33,26],[54,9,56,12],[277,10,277,13],[277,16,277,19],[277,22,277,25],[278,10,278,13],[278,16,278,19],[278,22,278,25],[280,22,280,25],[279,22,279,25],[280,16,280,19],[54,13,55,27],[56,18,56,27],[279,16,279,19],[280,10,280,13],[279,10,279,13],[292,10,292,14],[290,10,290,14],[288,11,288,13],[289,10,289,14],[289,17,289,21],[281,10,281,13],[281,16,281,19],[281,22,281,25],[283,10,283,13],[283,16,283,19],[283,22,283,25],[284,10,284,13],[285,10,285,13],[287,11,287,13],[282,16,282,19],[282,22,282,25],[282,10,282,13],[373,9,373,10],[374,9,374,10],[375,9,375,10],[376,9,376,10],[345,6,345,8],[345,10,345,26],[275,10,275,13],[275,16,275,19],[275,22,275,25],[276,10,276,13],[276,16,276,19],[276,22,276,25],[291,10,291,14],[291,17,291,21],[341,0,341,26],[343,4,343,5],[344,6,344,8],[344,10,344,26],[311,13,313,26],[314,13,316,26],[318,1,320,26],[322,1,324,26],[293,8,293,14],[293,17,293,23],[271,10,271,13],[271,16,271,19],[271,22,271,25],[273,10,273,13],[273,16,273,19],[273,22,273,25],[267,10,267,13],[268,10,268,13],[268,16,268,19],[268,22,268,25],[269,10,269,13],[269,16,269,19],[269,22,269,25],[265,10,265,13],[265,16,265,19],[265,22,265,25],[266,10,266,13],[266,16,266,19],[266,22,266,25],[255,10,255,13],[256,10,256,13],[257,17,257,20],[258,17,258,20],[259,5,260,26],[261,6,261,8],[261,10,262,26],[252,8,252,11],[252,13,252,16],[252,18,252,21],[252,23,252,26],[254,8,254,11],[254,13,254,16],[254,18,254,21],[254,23,254,26],[249,8,249,11],[249,13,249,16],[249,18,249,21],[249,23,249,26],[250,8,250,11],[250,13,250,16],[250,18,250,21],[250,23,250,26],[233,1,236,26],[237,5,237,26],[242,11,242,26],[222,6,222,26],[223,6,223,26],[224,6,224,26],[201,8,201,26],[202,8,202,26],[203,8,203,14],[204,8,204,26],[205,8,205,16],[206,10,206,26],[209,8,209,26],[210,8,210,26],[211,8,211,26],[212,8,212,14],[213,8,213,26],[214,8,214,16],[218,6,218,26],[227,1,228,26],[230,0,230,26],[194,8,194,14],[195,8,195,26],[196,8,196,16],[197,10,197,26],[199,8,199,26],[200,8,200,26],[187,8,187,16],[188,10,188,26],[190,8,190,26],[191,8,191,26],[192,8,192,26],[193,8,193,26],[181,8,181,26],[182,8,182,26],[183,8,183,26],[184,8,184,26],[185,8,185,14],[186,8,186,26],[173,8,173,26],[174,8,174,26],[175,8,175,14],[176,8,176,26],[177,8,177,16],[178,10,178,26],[165,8,165,26],[166,8,166,17],[167,8,167,17],[168,10,168,26],[171,8,171,26],[172,8,172,26],[158,8,158,17],[159,8,159,17],[160,10,160,26],[162,8,162,26],[163,8,163,26],[164,8,164,14],[151,8,151,17],[152,10,152,26],[154,8,154,26],[155,8,155,26],[156,8,156,14],[157,8,157,26],[143,10,143,26],[146,8,146,26],[147,8,147,26],[148,8,148,14],[149,8,149,26],[150,8,150,17],[137,8,137,26],[138,8,138,26],[139,8,139,14],[140,8,140,26],[141,8,141,17],[142,8,142,17],[132,6,132,26],[133,6,133,26],[134,6,134,26],[129,6,129,26],[130,6,130,26],[131,6,131,26],[125,6,125,26],[126,6,126,26],[127,6,127,26],[122,6,122,26],[123,6,123,26],[124,6,124,26],[117,6,117,26],[119,6,119,26],[120,6,120,26],[108,8,108,26],[109,8,109,14],[110,8,110,26],[111,8,111,17],[112,11,112,26],[116,6,116,26],[101,8,101,26],[102,8,102,17],[103,11,103,26],[105,8,105,26],[106,8,106,26],[107,8,107,26],[94,11,94,26],[96,8,96,26],[97,8,97,26],[98,8,98,26],[99,8,99,26],[100,8,100,14],[91,8,91,14],[92,8,92,26],[93,8,93,17],[80,8,80,26],[81,8,81,14],[82,8,82,26],[83,8,83,17],[84,11,84,26],[87,8,87,26],[57,0,57,26],[60,8,60,26],[61,8,61,26],[62,8,62,26],[63,8,63,14],[64,8,64,26],[88,8,88,26],[89,8,89,26],[90,8,90,26],[72,8,72,26],[73,8,73,17],[74,8,74,17],[77,8,77,26],[78,8,78,26],[79,8,79,26],[65,8,65,17],[67,8,67,26],[68,8,68,26],[69,8,69,26],[70,8,70,26],[71,8,71,13],[0,11,0,16],[0,18,0,27],[27,17,27,26],[22,19,22,20],[22,21,22,22],[24,17,24,26],[10,9,10,19],[16,0,18,27],[54,0,56,3],[54,4,56,5],[54,6,56,8],[3,20,5,23],[3,24,5,27],[6,9,7,19],[6,20,9,27],[29,9,29,20],[31,9,31,26],[10,20,11,22],[10,23,11,27],[12,20,13,22],[12,23,13,27],[14,20,15,20],[14,21,15,21],[14,22,15,22]]}
["印刷用シート　「★計画変更」",null,null,null,null,null,null,null,null,null,null,"シート構成に戻る",null,null,null,null,null,null,"入力シート（確認・工事届）に戻る"]
[]
["Ｃ－１７号様式（第一条の三、第三条、第三条の三関係）",null,null,null,null,null,null,null,null,null,null,null,null,null,null,null,null,null,null,null,null,"中間検査",null,null,"有","・","無"]
[null,null,null,null,null,null,null,null,null,null,null,null,null,null,null,null,null,null,null,null,"正",null,null,null,"副"]
[]
[]
[null,null,null,null,null,null,null,null,null,"計画変更確認申請書　（建築物）",null,null,null,null,null,null,null,null,null,null,"浄化槽\n適合証明\n構造計算\nルート２\n適合判定\n長期\n性能評価"]
[]
[]
[]
[null,null,null,null,null,null,null,null,null,"（第一面）",null,null,null,null,null,null,null,null,null,null,"消防",null,null,"通知 　・ 　同意"]
[]
[null,null,null,null,null,null,null,null,null,null,null,null,null,null,null,null,null,null,null,null,"特例",null,null,"1　　2　　3　　4"]
[]
[null,null,null,null,null,null,null,null,null,null,null,null,null,null,null,null,null,null,null,null,"有１","有３","有４","\n型式\n丸太\n枠組\n在来\n"]
[]
["　建築基準法第６条第１項又は第６条の２第１項の規定による計画の変更の確認を申請します。申請にあたっては、一般財団法人愛知県建築住宅センター確認検査業務約款を遵守します。又、この申請書及び添付図書に記載の事項は、事実に相違ありません。"]
[]
[]
[]
["一般財団法人愛知県建築住宅センター"]
["　　理事長　海田　肇　　様"]
[null,null,null,null,null,null,null,null,null,null,null,null,null,null,null,null,null,null,null,"令和",null,{"$f":"IF('入力シート（確認・工事届）'!K8=\"\",\"\",'入力シート（確認・工事届）'!K8)","v":""},null,"年",{"$f":"IF('入力シート（確認・工事届）'!M8=\"\",\"\",'入力シート（確認・工事届）'!M8)","v":""},"月",{"$f":"IF('入力シート（確認・工事届）'!O8=\"\",\"\",'入力シート（確認・工事届）'!O8)","v":""},"日"]
[]
[null,null,null,null,null,null,null,null,null,null,null,null,null,"申請者氏名",null,null,null,{"$f":"'入力シート（確認・工事届）'!I9","v":0}]
[null,null,null,null,null,null,null,null,null,null,null,null,null,null,null,null,null,{"$f":"'入力シート（確認・工事届）'!I10","v":0}]
[]
[null,null,null,null,null,null,null,null,null,null,null,null,null,"設計者氏名",null,null,null,{"$f":"'入力シート（確認・工事届）'!I42","v":0}]
["【計画を変更する建築物の直前の確認】"]
[null,"【確認済証番号】",null,null,null,null,null,null,null,{"$f":"IF('入力シート（確認・工事届）'!K13=\"\",\"\",'入力シート（確認・工事届）'!I13&'入力シート（確認・工事届）'!K13&'入力シート（確認・工事届）'!L13&'入力シート（確認・工事届）'!R13&'入力シート（確認・工事届）'!U13)","v":""}]
[null,"【確認済証交付年月日】",null,null,null,null,null,null,null,{"$f":"IF('入力シート（確認・工事届）'!I14=\"\",\"\",'入力シート（確認・工事届）'!I14)","v":""},{"$f":"IF('入力シート（確認・工事届）'!K14=\"\",\"\",'入力シート（確認・工事届）'!K14)","v":""},"年",{"$f":"IF('入力シート（確認・工事届）'!M14=\"\",\"\",'入力シート（確認・工事届）'!M14)","v":""},"月",{"$f":"IF('入力シート（確認・工事届）'!O14=\"\",\"\",'入力シート（確認・工事届）'!O14)","v":""},"日"]
[null,"【確認済証交付者】",null,null,null,null,null,null,null,{"$f":"IF('入力シート（確認・工事届）'!I15=\"\",\"\",'入力シート（確認・工事届）'!I15)","v":""}]
[null,"【計画変更の概要】",null,null,null,null,null,null,null,{"$f":"IF('入力シート（確認・工事届）'!I16=\"\",\"\",'入力シート（確認・工事届）'!I16)","v":""}]
[]
["※受付欄",null,null,null,null,null,"※消防関係同意欄",null,null,null,null,null,"※決裁欄",null,null,null,null,null,"※確認番号欄"]
[null,null,null,null,null,null,null,null,null,null,null,null,null,null,null,null,null,null,"令和",null,null,"年",null,null,"月",null,null,"日"]
[null,null,null,null,null,null,null,null,null,null,null,null,null,null,null,null,null,null,"第Ｒ"]
[null,null,null,null,null,null,null,null,null,null,null,null,null,null,null,null,null,null,null,"確変建築愛建住セ",null,null,null,null,null,null,null,"号"]
[null,null,null,null,null,null,null,null,null,null,null,null,null,null,null,null,null,null,"係員氏名"]
["係員氏名"]
[]
["※経過欄"]
[]
[]
[]
[]
[]
[]
[]
[]
[]
[]
[]
[]
["※確認済証\n交付欄",null,null,null,"受領\n月日",null,"／",null,null,"受領者氏名\n連絡先"]
[]
[null,null,null,null,null,null,null,null,null,null,null,null,null,null,null,null,null,"℡"]
["（第二面）"]
["建築主等の概要"]
["【１.建築主】"]
[null,"【イ.氏名のフリガナ】",null,null,null,null,null,null,{"$f":"'入力シート（確認・工事届）'!I22","v":0}]
[null,"【ロ.氏名】",null,null,null,null,null,null,{"$f":"'入力シート（確認・工事届）'!I23","v":0}]
[null,null,null,null,null,null,null,null,{"$f":"'入力シート（確認・工事届）'!I24","v":0}]
[null,"【ハ.郵便番号】",null,null,null,null,null,null,{"$f":"'入力シート（確認・工事届）'!I25","v":0}]
[null,"【ニ.住所】",null,null,null,null,null,null,{"$f":"'入力シート（確認・工事届）'!I26","v":0}]
[null,"【ホ.電話番号】",null,null,null,null,null,null,{"$f":"'入力シート（確認・工事届）'!I27","v":0}]
["【２.代理者】"]
[null,"【イ.資格】",null,null,null,null,null,null,{"$f":"IF('入力シート（確認・工事届）'!$J$30=\"\",\"（　　　　）建築士　　（　　　　）登録第　　　　　　　号\",CONCATENATE(\"(　\",'入力シート（確認・工事届）'!$J$30,\"　)\",\"建築士　　\", \"（\",'入力シート（確認・工事届）'!$P$30,\"　）\",\"登録　第　\",'入力シート（確認・工事届）'!$W$30,\"　号\"))","v":"（　　　　）建築士　　（　　　　）登録第　　　　　　　号"}]
[null,"【ロ.氏名】",null,null,null,null,null,null,{"$f":"'入力シート（確認・工事届）'!I31","v":0}]
[null,"【ハ.建築士事務所名】",null,null,null,null,null,null,{"$f":"IF('入力シート（確認・工事届）'!$J$32=\"\",\"（　　　　）建築士事務所　　（　　　　）知事登録　第　　　　　号\",CONCATENATE(\"(　\",'入力シート（確認・工事届）'!$J$32,\"　)\",\"建築士事務所　　\",\"（　\",'入力シート（確認・工事届）'!$Q$32,\"　）\",\"知事登録第　\",'入力シート（確認・工事届）'!$X$32,\"　号\"))","v":"（　　　　）建築士事務所　　（　　　　）知事登録　第　　　　　号"}]
[null,null,null,null,null,null,null,null,{"$f":"'入力シート（確認・工事届）'!I33","v":0}]
[null,"【ニ.郵便番号】",null,null,null,null,null,null,{"$f":"'入力シート（確認・工事届）'!I34","v":0}]
[null,"【ホ.所在地】",null,null,null,null,null,null,{"$f":"'入力シート（確認・工事届）'!I35","v":0}]
[null,"【ヘ.電話番号】",null,null,null,null,null,null,{"$f":"'入力シート（確認・工事届）'!I36","v":0}]
[null,"【ト.ファックス番号】",null,null,null,null,null,null,{"$f":"'入力シート（確認・工事届）'!I37","v":0}]
["【３.設計者】"]
[null,"（代表となる設計者）"]
[null,"【イ.資格】",null,null,null,null,null,null,{"$f":"IF('入力シート（確認・工事届）'!$J$41=\"\",\"（　　　　）建築士　　（　　　　）登録第　　　　　　　号\",CONCATENATE(\"(　\",'入力シート（確認・工事届）'!$J$41,\"　)\",\"建築士　　\", \"（\",'入力シート（確認・工事届）'!$P$41,\"　）\",\"登録　第　\",'入力シート（確認・工事届）'!$W$41,\"　号\"))","v":"（　　　　）建築士　　（　　　　）登録第　　　　　　　号"}]
[null,"【ロ.氏名】",null,null,null,null,null,null,{"$f":"'入力シート（確認・工事届）'!I42","v":0}]
[null,"【ハ.建築士事務所名】",null,null,null,null,null,null,{"$f":"IF('入力シート（確認・工事届）'!$J$43=\"\",\"（　　　　）建築士事務所　　（　　　　）知事登録　第　　　　　号\",CONCATENATE(\"(　\",'入力シート（確認・工事届）'!$J$43,\"　)\",\"建築士事務所　　\",\"（　\",'入力シート（確認・工事届）'!$Q$43,\"　）\",\"知事登録第　\",'入力シート（確認・工事届）'!$X$43,\"　号\"))","v":"（　　　　）建築士事務所　　（　　　　）知事登録　第　　　　　号"}]
[null,null,null,null,null,null,null,null,{"$f":"'入力シート（確認・工事届）'!I44","v":0}]
[null,"【ニ.郵便番号】",null,null,null,null,null,null,{"$f":"'入力シート（確認・工事届）'!I45","v":0}]
[null,"【ホ.所在地】",null,null,null,null,null,null,{"$f":"'入力シート（確認・工事届）'!I46","v":0}]
[null,"【ヘ.電話番号】",null,null,null,null,null,null,{"$f":"'入力シート（確認・工事届）'!I47","v":0}]
[null,"【ト.作成又は確認した設計図書】",null,null,null,null,null,null,null,null,null,{"$f":"'入力シート（確認・工事届）'!I49","v":0}]
[]
[null,"（その他の設計者）"]
[null,"【イ.資格】",null,null,null,null,null,null,{"$f":"IF('入力シート（確認・工事届）'!$J$52=\"\",\"（　　　　）建築士　　（　　　　）登録第　　　　　　　号\",CONCATENATE(\"(　\",'入力シート（確認・工事届）'!$J$52,\"　)\",\"建築士　　\", \"（\",'入力シート（確認・工事届）'!$P$52,\"　）\",\"登録　第　\",'入力シート（確認・工事届）'!$W$52,\"　号\"))","v":"（　　　　）建築士　　（　　　　）登録第　　　　　　　号"}]
[null,"【ロ.氏名】",null,null,null,null,null,null,{"$f":"'入力シート（確認・工事届）'!I53","v":0}]
[null,"【ハ.建築士事務所名】",null,null,null,null,null,null,{"$f":"IF('入力シート（確認・工事届）'!$J$54=\"\",\"（　　　　）建築士事務所　　（　　　　）知事登録　第　　　　　号\",CONCATENATE(\"(　\",'入力シート（確認・工事届）'!$J$54,\"　)\",\"建築士事務所　　\",\"（　\",'入力シート（確認・工事届）'!$Q$54,\"　）\",\"知事登録第　\",'入力シート（確認・工事届）'!$X$54,\"　号\"))","v":"（　　　　）建築士事務所　　（　　　　）知事登録　第　　　　　号"}]
[null,null,null,null,null,null,null,null,{"$f":"'入力シート（確認・工事届）'!I55","v":0}]
[null,"【ニ.郵便番号】",null,null,null,null,null,null,{"$f":"'入力シート（確認・工事届）'!I56","v":0}]
[null,"【ホ.所在地】",null,null,null,null,null,null,{"$f":"'入力シート（確認・工事届）'!I57","v":0}]
[null,"【ヘ.電話番号】",null,null,null,null,null,null,{"$f":"'入力シート（確認・工事届）'!I58","v":0}]
[null,"【ト.作成又は確認した設計図書】",null,null,null,null,null,null,null,null,null,{"$f":"'入力シート（確認・工事届）'!I60","v":0}]
[]
[null,"【イ.資格】",null,null,null,null,null,null,{"$f":"IF('入力シート（確認・工事届）'!$J$62=\"\",\"（　　　　）建築士　　（　　　　）登録第　　　　　　　号\",CONCATENATE(\"(　\",'入力シート（確認・工事届）'!$J$62,\"　)\",\"建築士　　\", \"（\",'入力シート（確認・工事届）'!$P$62,\"　）\",\"登録　第　\",'入力シート（確認・工事届）'!$W$62,\"　号\"))","v":"（　　　　）建築士　　（　　　　）登録第　　　　　　　号"}]
[null,"【ロ.氏名】",null,null,null,null,null,null,{"$f":"'入力シート（確認・工事届）'!I63","v":0}]
[null,"【ハ.建築士事務所名】",null,null,null,null,null,null,{"$f":"IF('入力シート（確認・工事届）'!$J$64=\"\",\"（　　　　）建築士事務所　　（　　　　）知事登録　第　　　　　号\",CONCATENATE(\"(　\",'入力シート（確認・工事届）'!$J$64,\"　)\",\"建築士事務所　　\",\"（　\",'入力シート（確認・工事届）'!$Q$64,\"　）\",\"知事登録第　\",'入力シート（確認・工事届）'!$X$64,\"　号\"))","v":"（　　　　）建築士事務所　　（　　　　）知事登録　第　　　　　号"}]
[null,null,null,null,null,null,null,null,{"$f":"'入力シート（確認・工事届）'!I65","v":0}]
[null,"【ニ.郵便番号】",null,null,null,null,null,null,{"$f":"'入力シート（確認・工事届）'!I66","v":0}]
[null,"【ホ.所在地】",null,null,null,null,null,null,{"$f":"'入力シート（確認・工事届）'!I67","v":0}]
[null,"【ヘ.電話番号】",null,null,null,null,null,null,{"$f":"'入力シート（確認・工事届）'!I68","v":0}]
[null,"【ト.作成又は確認した設計図書】",null,null,null,null,null,null,null,null,null,{"$f":"'入力シート（確認・工事届）'!I70","v":0}]
[]
[null,"【イ.資格】",null,null,null,null,null,null,{"$f":"IF('入力シート（確認・工事届）'!$J$72=\"\",\"（　　　　）建築士　　（　　　　）登録第　　　　　　　号\",CONCATENATE(\"(　\",'入力シート（確認・工事届）'!$J$72,\"　)\",\"建築士　　\", \"（\",'入力シート（確認・工事届）'!$P$72,\"　）\",\"登録　第　\",'入力シート（確認・工事届）'!$W$72,\"　号\"))","v":"（　　　　）建築士　　（　　　　）登録第　　　　　　　号"}]
[null,"【ロ.氏名】",null,null,null,null,null,null,{"$f":"'入力シート（確認・工事届）'!I73","v":0}]
[null,"【ハ.建築士事務所名】",null,null,null,null,null,null,{"$f":"IF('入力シート（確認・工事届）'!$J$74=\"\",\"（　　　　）建築士事務所　　（　　　　）知事登録　第　　　　　号\",CONCATENATE(\"(　\",'入力シート（確認・工事届）'!$J$74,\"　)\",\"建築士事務所　　\",\"（　\",'入力シート（確認・工事届）'!$Q$74,\"　）\",\"知事登録第　\",'入力シート（確認・工事届）'!$X$74,\"　号\"))","v":"（　　　　）建築士事務所　　（　　　　）知事登録　第　　　　　号"}]
[null,null,null,null,null,null,null,null,{"$f":"'入力シート（確認・工事届）'!I75","v":0}]
[null,"【ニ.郵便番号】",null,null,null,null,null,null,{"$f":"'入力シート（確認・工事届）'!I76","v":0}]
[null,"【ホ.所在地】",null,null,null,null,null,null,{"$f":"'入力シート（確認・工事届）'!I77","v":0}]
[null,"【ヘ.電話番号】",null,null,null,null,null,null,{"$f":"'入力シート（確認・工事届）'!I78","v":0}]
[null,"【ト.作成又は確認した設計図書】",null,null,null,null,null,null,null,null,null,{"$f":"'入力シート（確認・工事届）'!I80","v":0}]
[null,"（構造設計一級建築士又は設備設計一級建築士である旨の表示をした者）"]
[null," 上記の設計者のうち、"]
[null,{"$f":"'入力シート（確認・工事届）'!B84","v":"□"},"建築士法第２０条の２第１項の表示をした者"]
[null,null,"【イ.氏名】",null,null,null,{"$f":"'入力シート（確認・工事届）'!G85","v":0}]
[null,null,"【ロ.資格】",null,null,null,{"$f":"IF('入力シート（確認・工事届）'!$N$86=\"\",\"構造設計一級建築士交付第　　　　　　　　号\",CONCATENATE(\"構造設計一級建築士交付第　\",'入力シート（確認・工事届）'!$N$86,\"　号\"))","v":"構造設計一級建築士交付第　　　　　　　　号"}]
[null,{"$f":"'入力シート（確認・工事届）'!B87","v":"□"},"建築士法第２０条の２第３項の表示をした者"]
[null,null,"【イ.氏名】",null,null,null,{"$f":"'入力シート（確認・工事届）'!G88","v":0}]
[null,null,"【ロ.資格】",null,null,null,{"$f":"IF('入力シート（確認・工事届）'!$N$89=\"\",\"構造設計一級建築士交付第　　　　　　　　号\",CONCATENATE(\"構造設計一級建築士交付第　\",'入力シート（確認・工事届）'!$N$89,\"　号\"))","v":"構造設計一級建築士交付第　　　　　　　　号"}]
[null,{"$f":"'入力シート（確認・工事届）'!B90","v":"□"},"建築士法第２０条の３第１項の表示をした者"]
[null,null,"【イ.氏名】",null,null,null,{"$f":"'入力シート（確認・工事届）'!G91","v":0}]
[null,null,"【ロ.資格】",null,null,null,{"$f":"IF('入力シート（確認・工事届）'!$N$92=\"\",\"設備設計一級建築士交付第　　　　　　　　号\",CONCATENATE(\"設備設計一級建築士交付第　\",'入力シート（確認・工事届）'!$N$92,\"　号\"))","v":"設備設計一級建築士交付第　　　　　　　　号"}]
[null,null,"【イ.氏名】",null,null,null,{"$f":"'入力シート（確認・工事届）'!G93","v":0}]
[null,null,"【ロ.資格】",null,null,null,{"$f":"IF('入力シート（確認・工事届）'!$N$94=\"\",\"設備設計一級建築士交付第　　　　　　　　号\",CONCATENATE(\"設備設計一級建築士交付第　\",'入力シート（確認・工事届）'!$N$94,\"　号\"))","v":"設備設計一級建築士交付第　　　　　　　　号"}]
[null,null,"【イ.氏名】",null,null,null,{"$f":"'入力シート（確認・工事届）'!G95","v":0}]
[null,null,"【ロ.資格】",null,null,null,{"$f":"IF('入力シート（確認・工事届）'!$N$96=\"\",\"設備設計一級建築士交付第　　　　　　　　号\",CONCATENATE(\"設備設計一級建築士交付第　\",'入力シート（確認・工事届）'!$N$96,\"　号\"))","v":"設備設計一級建築士交付第　　　　　　　　号"}]
[null,{"$f":"'入力シート（確認・工事届）'!B97","v":"□"},"建築士法第２０条の３第３項の表示をした者"]
[null,null,"【イ.氏名】",null,null,null,{"$f":"'入力シート（確認・工事届）'!G98","v":0}]
[null,null,"【ロ.資格】",null,null,null,{"$f":"IF('入力シート（確認・工事届）'!$N$99=\"\",\"設備設計一級建築士交付第　　　　　　　　号\",CONCATENATE(\"設備設計一級建築士交付第　\",'入力シート（確認・工事届）'!$N$99,\"　号\"))","v":"設備設計一級建築士交付第　　　　　　　　号"}]
[null,null,"【イ.氏名】",null,null,null,{"$f":"'入力シート（確認・工事届）'!G100","v":0}]
[null,null,"【ロ.資格】",null,null,null,{"$f":"IF('入力シート（確認・工事届）'!$N$101=\"\",\"設備設計一級建築士交付第　　　　　　　　号\",CONCATENATE(\"設備設計一級建築士交付第　\",'入力シート（確認・工事届）'!$N$101,\"　号\"))","v":"設備設計一級建築士交付第　　　　　　　　号"}]
[null,null,"【イ.氏名】",null,null,null,{"$f":"'入力シート（確認・工事届）'!G102","v":0}]
[null,null,"【ロ.資格】",null,null,null,{"$f":"IF('入力シート（確認・工事届）'!$N$103=\"\",\"設備設計一級建築士交付第　　　　　　　　号\",CONCATENATE(\"設備設計一級建築士交付第　\",'入力シート（確認・工事届）'!$N$103,\"　号\"))","v":"設備設計一級建築士交付第　　　　　　　　号"}]
["【４.建築設備の設計に関し意見を聴いた者】"]
[null,"（代表となる建築設備の設計に関し意見を聴いた者）"]
[null,"【イ.氏名】",null,null,null,null,null,null,{"$f":"'入力シート（確認・工事届）'!I107","v":0}]
[null,"【ロ.勤務先】",null,null,null,null,null,null,{"$f":"'入力シート（確認・工事届）'!I108","v":0}]
[null,"【ハ.郵便番号】",null,null,null,null,null,null,{"$f":"'入力シート（確認・工事届）'!I109","v":0}]
[null,"【ニ.所在地】",null,null,null,null,null,null,{"$f":"'入力シート（確認・工事届）'!I110","v":0}]
[null,"【ホ.電話番号】",null,null,null,null,null,null,{"$f":"'入力シート（確認・工事届）'!I111","v":0}]
[null,"【ヘ.登録番号】",null,null,null,null,null,null,{"$f":"'入力シート（確認・工事届）'!I112","v":0}]
[null,"【ト.意見を聴いた設計図書】",null,null,null,null,null,null,null,null,{"$f":"'入力シート（確認・工事届）'!I113","v":0}]
[]
[null,"（その他の建築設備の設計に関し意見を聴いた者）"]
[null,"【イ.氏名】",null,null,null,null,null,null,{"$f":"'入力シート（確認・工事届）'!I116","v":0}]
[null,"【ロ.勤務先】",null,null,null,null,null,null,{"$f":"'入力シート（確認・工事届）'!I117","v":0}]
[null,"【ハ.郵便番号】",null,null,null,null,null,null,{"$f":"'入力シート（確認・工事届）'!I118","v":0}]
[null,"【ニ.所在地】",null,null,null,null,null,null,{"$f":"'入力シート（確認・工事届）'!I119","v":0}]
[null,"【ホ.電話番号】",null,null,null,null,null,null,{"$f":"'入力シート（確認・工事届）'!I120","v":0}]
[null,"【ヘ.登録番号】",null,null,null,null,null,null,{"$f":"'入力シート（確認・工事届）'!I121","v":0}]
[null,"【ト.意見を聴いた設計図書】",null,null,null,null,null,null,null,null,{"$f":"'入力シート（確認・工事届）'!I122","v":0}]
[]
[null,"【イ.氏名】",null,null,null,null,null,null,{"$f":"'入力シート（確認・工事届）'!I124","v":0}]
[null,"【ロ.勤務先】",null,null,null,null,null,null,{"$f":"'入力シート（確認・工事届）'!I125","v":0}]
[null,"【ハ.郵便番号】",null,null,null,null,null,null,{"$f":"'入力シート（確認・工事届）'!I126","v":0}]
[null,"【ニ.所在地】",null,null,null,null,null,null,{"$f":"'入力シート（確認・工事届）'!I127","v":0}]
[null,"【ホ.電話番号】",null,null,null,null,null,null,{"$f":"'入力シート（確認・工事届）'!I128","v":0}]
[null,"【ヘ.登録番号】",null,null,null,null,null,null,{"$f":"'入力シート（確認・工事届）'!I129","v":0}]
[null,"【ト.意見を聴いた設計図書】",null,null,null,null,null,null,null,null,{"$f":"'入力シート（確認・工事届）'!I130","v":0}]
[]
[null,"【イ.氏名】",null,null,null,null,null,null,{"$f":"'入力シート（確認・工事届）'!I132","v":0}]
[null,"【ロ.勤務先】",null,null,null,null,null,null,{"$f":"'入力シート（確認・工事届）'!I133","v":0}]
[null,"【ハ.郵便番号】",null,null,null,null,null,null,{"$f":"'入力シート（確認・工事届）'!I134","v":0}]
[null,"【ニ.所在地】",null,null,null,null,null,null,{"$f":"'入力シート（確認・工事届）'!I135","v":0}]
[null,"【ホ.電話番号】",null,null,null,null,null,null,{"$f":"'入力シート（確認・工事届）'!I136","v":0}]
[null,"【ヘ.登録番号】",null,null,null,null,null,null,{"$f":"'入力シート（確認・工事届）'!I137","v":0}]
[null,"【ト.意見を聴いた設計図書】",null,null,null,null,null,null,null,null,{"$f":"'入力シート（確認・工事届）'!I138","v":0}]
["【５.工事監理者】"]
[null,"（代表となる工事監理者）"]
[null,"【イ.資格】",null,null,null,null,null,null,{"$f":"IF('入力シート（確認・工事届）'!$J$142=\"\",\"（　　　　）建築士　　（　　　　）登録第　　　　　　　号\",CONCATENATE(\"(　\",'入力シート（確認・工事届）'!$J$142,\"　)\",\"建築士　　\", \"（\",'入力シート（確認・工事届）'!$P$142,\"　）\",\"登録　第　\",'入力シート（確認・工事届）'!$W$142,\"　号\"))","v":"（　　　　）建築士　　（　　　　）登録第　　　　　　　号"}]
[null,"【ロ.氏名】",null,null,null,null,null,null,{"$f":"'入力シート（確認・工事届）'!I143","v":0}]
[null,"【ハ.建築士事務所名】",null,null,null,null,null,null,{"$f":"IF('入力シート（確認・工事届）'!$J$144=\"\",\"（　　　　）建築士事務所　　（　　　　）知事登録　第　　　　　号\",CONCATENATE(\"(　\",'入力シート（確認・工事届）'!$J$144,\"　)\",\"建築士事務所　　\",\"（　\",'入力シート（確認・工事届）'!$Q$144,\"　）\",\"知事登録第　\",'入力シート（確認・工事届）'!$X$144,\"　号\"))","v":"（　　　　）建築士事務所　　（　　　　）知事登録　第　　　　　号"}]
[null,null,null,null,null,null,null,null,{"$f":"'入力シート（確認・工事届）'!I145","v":0}]
[null,"【ニ.郵便番号】",null,null,null,null,null,null,{"$f":"'入力シート（確認・工事届）'!I146","v":0}]
[null,"【ホ.所在地】",null,null,null,null,null,null,{"$f":"'入力シート（確認・工事届）'!I147","v":0}]
[null,"【ヘ.電話番号】",null,null,null,null,null,null,{"$f":"'入力シート（確認・工事届）'!I148","v":0}]
[null,"【ト.工事と照合する設計図書】",null,null,null,null,null,null,null,null,{"$f":"'入力シート（確認・工事届）'!I149","v":0}]
[]
[null,"（その他の工事監理者）"]
[null,"【イ.資格】",null,null,null,null,null,null,{"$f":"IF('入力シート（確認・工事届）'!$J$152=\"\",\"（　　　　）建築士　　（　　　　）登録第　　　　　　　号\",CONCATENATE(\"(　\",'入力シート（確認・工事届）'!$J$152,\"　)\",\"建築士　　\", \"（\",'入力シート（確認・工事届）'!$P$152,\"　）\",\"登録　第　\",'入力シート（確認・工事届）'!$W$152,\"　号\"))","v":"（　　　　）建築士　　（　　　　）登録第　　　　　　　号"}]
[null,"【ロ.氏名】",null,null,null,null,null,null,{"$f":"'入力シート（確認・工事届）'!I153","v":0}]
[null,"【ハ.建築士事務所名】",null,null,null,null,null,null,{"$f":"IF('入力シート（確認・工事届）'!$J$154=\"\",\"（　　　　）建築士事務所　　（　　　　）知事登録　第　　　　　号\",CONCATENATE(\"(　\",'入力シート（確認・工事届）'!$J$154,\"　)\",\"建築士事務所　　\",\"（　\",'入力シート（確認・工事届）'!$Q$154,\"　）\",\"知事登録第　\",'入力シート（確認・工事届）'!$X$154,\"　号\"))","v":"（　　　　）建築士事務所　　（　　　　）知事登録　第　　　　　号"}]
[null,null,null,null,null,null,null,null,{"$f":"'入力シート（確認・工事届）'!I155","v":0}]
[null,"【ニ.郵便番号】",null,null,null,null,null,null,{"$f":"'入力シート（確認・工事届）'!I156","v":0}]
[null,"【ホ.所在地】",null,null,null,null,null,null,{"$f":"'入力シート（確認・工事届）'!I157","v":0}]
[null,"【ヘ.電話番号】",null,null,null,null,null,null,{"$f":"'入力シート（確認・工事届）'!I158","v":0}]
[null,"【ト.工事と照合する設計図書】",null,null,null,null,null,null,null,null,{"$f":"'入力シート（確認・工事届）'!I159","v":0}]
[]
[null,"【イ.資格】",null,null,null,null,null,null,{"$f":"IF('入力シート（確認・工事届）'!$J$161=\"\",\"（　　　　）建築士　　（　　　　）登録第　　　　　　　号\",CONCATENATE(\"(　\",'入力シート（確認・工事届）'!$J$161,\"　)\",\"建築士　　\", \"（\",'入力シート（確認・工事届）'!$P$161,\"　）\",\"登録　第　\",'入力シート（確認・工事届）'!$W$161,\"　号\"))","v":"（　　　　）建築士　　（　　　　）登録第　　　　　　　号"}]
[null,"【ロ.氏名】",null,null,null,null,null,null,{"$f":"'入力シート（確認・工事届）'!I162","v":0}]
[null,"【ハ.建築士事務所名】",null,null,null,null,null,null,{"$f":"IF('入力シート（確認・工事届）'!$J$163=\"\",\"（　　　　）建築士事務所　　（　　　　）知事登録　第　　　　　号\",CONCATENATE(\"(　\",'入力シート（確認・工事届）'!$J$163,\"　)\",\"建築士事務所　　\",\"（　\",'入力シート（確認・工事届）'!$Q$163,\"　）\",\"知事登録第　\",'入力シート（確認・工事届）'!$X$163,\"　号\"))","v":"（　　　　）建築士事務所　　（　　　　）知事登録　第　　　　　号"}]
[null,null,null,null,null,null,null,null,{"$f":"'入力シート（確認・工事届）'!I164","v":0}]
[null,"【ニ.郵便番号】",null,null,null,null,null,null,{"$f":"'入力シート（確認・工事届）'!I165","v":0}]
[null,"【ホ.所在地】",null,null,null,null,null,null,{"$f":"'入力シート（確認・工事届）'!I166","v":0}]
[null,"【ヘ.電話番号】",null,null,null,null,null,null,{"$f":"'入力シート（確認・工事届）'!I167","v":0}]
[null,"【ト.工事と照合する設計図書】",null,null,null,null,null,null,null,null,{"$f":"'入力シート（確認・工事届）'!I168","v":0}]
[]
[null,"【イ.資格】",null,null,null,null,null,null,{"$f":"IF('入力シート（確認・工事届）'!$J$170=\"\",\"（　　　　）建築士　　（　　　　）登録第　　　　　　　号\",CONCATENATE(\"(　\",'入力シート（確認・工事届）'!$J$170,\"　)\",\"建築士　　\", \"（\",'入力シート（確認・工事届）'!$P$170,\"　）\",\"登録　第　\",'入力シート（確認・工事届）'!$W$170,\"　号\"))","v":"（　　　　）建築士　　（　　　　）登録第　　　　　　　号"}]
[null,"【ロ.氏名】",null,null,null,null,null,null,{"$f":"'入力シート（確認・工事届）'!I171","v":0}]
[null,"【ハ.建築士事務所名】",null,null,null,null,null,null,{"$f":"IF('入力シート（確認・工事届）'!$J$172=\"\",\"（　　　　）建築士事務所　　（　　　　）知事登録　第　　　　　号\",CONCATENATE(\"(　\",'入力シート（確認・工事届）'!$J$172,\"　)\",\"建築士事務所　　\",\"（　\",'入力シート（確認・工事届）'!$Q$172,\"　）\",\"知事登録第　\",'入力シート（確認・工事届）'!$X$172,\"　号\"))","v":"（　　　　）建築士事務所　　（　　　　）知事登録　第　　　　　号"}]
[null,null,null,null,null,null,null,null,{"$f":"'入力シート（確認・工事届）'!I173","v":0}]
[null,"【ニ.郵便番号】",null,null,null,null,null,null,{"$f":"'入力シート（確認・工事届）'!I174","v":0}]
[null,"【ホ.所在地】",null,null,null,null,null,null,{"$f":"'入力シート（確認・工事届）'!I175","v":0}]
[null,"【ヘ.電話番号】",null,null,null,null,null,null,{"$f":"'入力シート（確認・工事届）'!I176","v":0}]
[null,"【ト.工事と照合する設計図書】",null,null,null,null,null,null,null,null,{"$f":"'入力シート（確認・工事届）'!I177","v":0}]
[]
["【６.工事施工者】"]
[null,"【イ.氏名】",null,null,null,null,null,null,{"$f":"'入力シート（確認・工事届）'!I180","v":0}]
[null,"【ロ.営業所名】",null,null,null,null,null,null,{"$f":"IF('入力シート（確認・工事届）'!$N$181=\"\",\"建設業の許可（　　　　　　　）　第　　　　　　　　　号\",CONCATENATE(\"建設業の許可（　\",'入力シート（確認・工事届）'!$N$181,\"　）　　第　\",'入力シート（確認・工事届）'!$T$181,\"　号\"))","v":"建設業の許可（　　　　　　　）　第　　　　　　　　　号"}]
[null,null,null,null,null,null,null,null,{"$f":"'入力シート（確認・工事届）'!I182","v":0}]
[null,"【ハ.郵便番号】",null,null,null,null,null,null,{"$f":"'入力シート（確認・工事届）'!I183","v":0}]
[null,"【ニ.所在地】",null,null,null,null,null,null,{"$f":"'入力シート（確認・工事届）'!I184","v":0}]
[null,"【ホ.電話番号】",null,null,null,null,null,null,{"$f":"'入力シート（確認・工事届）'!I185","v":0}]
[]
["【７.構造計算適合性判定の申請】"]
[null,{"$f":"IF('入力シート（確認・工事届）'!AD188=TRUE,\"■\",\"□\")","v":"□"},"申請済",null,null,"（",{"$f":"IF(B218=\"□\",\"\",\"判定機関名：\"&'入力シート（確認・工事届）'!K188&\"　　\"&\"所在地：\"&'入力シート（確認・工事届）'!V188)","v":""},null,null,null,null,null,null,null,null,null,null,null,null,null,null,null,null,null,null,null,null,"）"]
[null,{"$f":"IF('入力シート（確認・工事届）'!AE188=TRUE,\"■\",\"□\")","v":"□"},"未申請",null,null,"（",{"$f":"IF(B219=\"□\",\"\",\"判定機関名：\"&'入力シート（確認・工事届）'!K188&\"　　\"&\"所在地：\"&'入力シート（確認・工事届）'!V188)","v":""},null,null,null,null,null,null,null,null,null,null,null,null,null,null,null,null,null,null,null,null,"）"]
[null,{"$f":"IF('入力シート（確認・工事届）'!AD189=TRUE,\"■\",\"□\")","v":"■"},"申請不要"]
[]
["【８.建築物エネルギー消費性能確保計画の提出】"]
[null,{"$f":"IF('入力シート（確認・工事届）'!AD192=TRUE,\"■\",\"□\")","v":"□"},"申請済",null,null,"（",{"$f":"IF(B223=\"□\",\"\",\"判定機関名：\"&'入力シート（確認・工事届）'!K192&\"　　\"&\"所在地：\"&'入力シート（確認・工事届）'!V192)","v":""},null,null,null,null,null,null,null,null,null,null,null,null,null,null,null,null,null,null,null,null,"）"]
[null,{"$f":"IF('入力シート（確認・工事届）'!AE192=TRUE,\"■\",\"□\")","v":"□"},"未申請",null,null,"（",{"$f":"IF(B224=\"□\",\"\",\"判定機関名：\"&'入力シート（確認・工事届）'!K192&\"　　\"&\"所在地：\"&'入力シート（確認・工事届）'!V192)","v":""},null,null,null,null,null,null,null,null,null,null,null,null,null,null,null,null,null,null,null,null,"）"]
[null,{"$f":"IF('入力シート（確認・工事届）'!AD193=TRUE,\"■\",\"□\")","v":"■"},"提出不要",null,null,"（",{"$f":"IF(AND(B225=\"□\",'入力シート（確認・工事届）'!K193=\"\"),\"\",'入力シート（確認・工事届）'!K193)","v":0},null,null,null,null,null,null,null,null,null,null,null,null,null,null,null,null,null,null,null,null,"）"]
[]
["【９.備考】"]
[null,{"$f":"'入力シート（確認・工事届）'!B195","v":0}]
[]
[]
["（第三面）"]
["建築物及びその敷地に関する事項"]
["【１.地名地番】"]
[null,{"$f":"'入力シート（確認・工事届）'!B228","v":0}]
[]
[]
[]
["【２.住居表示】",null,null,null,null,{"$f":"'入力シート（確認・工事届）'!B234","v":0}]
["【３.都市計画区域及び準都市計画区域の内外の別等】"]
[null,{"$f":"IF('入力シート（確認・工事届）'!AD237=TRUE,\"■\",IF('入力シート（確認・工事届）'!AD237=FALSE,\"□\"))","v":"□"},"都市計画区域内",null,null,null,null,"（",{"$f":"IF('入力シート（確認・工事届）'!AE237=TRUE,\"■\",IF('入力シート（確認・工事届）'!AE237=FALSE,\"□\"))","v":"□"},"市街化区域",null,null,null,{"$f":"IF('入力シート（確認・工事届）'!AF237=TRUE,\"■\",IF('入力シート（確認・工事届）'!AF237=FALSE,\"□\"))","v":"□"},"市街化調整区域",null,null,null,null,{"$f":"IF('入力シート（確認・工事届）'!AG237=TRUE,\"■\",IF('入力シート（確認・工事届）'!AG237=FALSE,\"□\"))","v":"□"},"区域区分非設定）"]
[null,{"$f":"IF('入力シート（確認・工事届）'!AD238=TRUE,\"■\",IF('入力シート（確認・工事届）'!AD238=FALSE,\"□\"))","v":"□"},"準都市計画区域内",null,null,null,null,null,null,{"$f":"IF('入力シート（確認・工事届）'!AE238=TRUE,\"■\",IF('入力シート（確認・工事届）'!AE238=FALSE,\"□\"))","v":"□"},"都市計画区域及び準都市計画区域外"]
["【４.防火地域】",null,null,null,null,null,{"$f":"IF('入力シート（確認・工事届）'!AD241=TRUE,\"■\",IF('入力シート（確認・工事届）'!AD241=FALSE,\"□\"))","v":"□"},"防火地域",null,null,null,{"$f":"IF('入力シート（確認・工事届）'!AE241=TRUE,\"■\",IF('入力シート（確認・工事届）'!AE241=FALSE,\"□\"))","v":"□"},"準防火地域",null,null,null,null,{"$f":"IF('入力シート（確認・工事届）'!AF241=TRUE,\"■\",IF('入力シート（確認・工事届）'!AF241=FALSE,\"□\"))","v":"□"},"指定なし"]
["【５.その他の区域、地域、地区又は街区】",null,null,null,null,null,null,null,null,null,null,{"$f":"IF('入力シート（確認・工事届）'!B244=\"\",\"\",'入力シート（確認・工事届）'!B244)","v":""}]
[null,{"$f":"IF('入力シート（確認・工事届）'!B245=\"\",\"\",'入力シート（確認・工事届）'!B245)","v":""}]
["【６.道路】"]
[null,"【イ.幅員】",null,null,null,null,null,null,null,null,null,null,{"$f":"IF('入力シート（確認・工事届）'!L248=\"\",\"\",ROUNDDOWN('入力シート（確認・工事届）'!L248,2))","v":""},null,null,"ｍ"]
[null,"【ロ.敷地と接している部分の長さ】",null,null,null,null,null,null,null,null,null,null,{"$f":"IF('入力シート（確認・工事届）'!L249=\"\",\"\",ROUNDDOWN('入力シート（確認・工事届）'!L249,2))","v":""},null,null,"ｍ"]
["【７.敷地面積】"]
[null,"【イ.敷地面積】",null,null,null,null,null,"(１)(",{"$f":"IF('入力シート（確認・工事届）'!$I$252=\"\",\"\",ROUNDDOWN('入力シート（確認・工事届）'!$I$252,2))","v":""},null,null,null,")(",{"$f":"IF('入力シート（確認・工事届）'!$N$252=\"\",\"\",ROUNDDOWN('入力シート（確認・工事届）'!$N$252,2))","v":""},null,null,null,")(",{"$f":"IF('入力シート（確認・工事届）'!$S$252=\"\",\"\",ROUNDDOWN('入力シート（確認・工事届）'!$S$252,2))","v":""},null,null,null,")(",{"$f":"IF('入力シート（確認・工事届）'!$X$252=\"\",\"\",ROUNDDOWN('入力シート（確認・工事届）'!$X$252,2))","v":""},null,null,null,")"]
[null,null,null,null,null,null,null,"(２)(",{"$f":"IF('入力シート（確認・工事届）'!$I$253=\"\",\"\",ROUNDDOWN('入力シート（確認・工事届）'!$I$253,2))","v":""},null,null,null,")(",{"$f":"IF('入力シート（確認・工事届）'!$N$253=\"\",\"\",ROUNDDOWN('入力シート（確認・工事届）'!$N$253,2))","v":""},null,null,null,")(",{"$f":"IF('入力シート（確認・工事届）'!$S$253=\"\",\"\",ROUNDDOWN('入力シート（確認・工事届）'!$S$253,2))","v":""},null,null,null,")(",{"$f":"IF('入力シート（確認・工事届）'!$X$253=\"\",\"\",ROUNDDOWN('入力シート（確認・工事届）'!$X$253,2))","v":""},null,null,null,")"]
[null,"【ロ.用途地域等】",null,null,null,null,null,"(",{"$f":"IF('入力シート（確認・工事届）'!$I$254=\"\",\"\",'入力シート（確認・工事届）'!$I$254)","v":""},null,null,null,")(",{"$f":"IF('入力シート（確認・工事届）'!$N$254=\"\",\"\",'入力シート（確認・工事届）'!$N$254)","v":""},null,null,null,")(",{"$f":"IF('入力シート（確認・工事届）'!$S$254=\"\",\"\",'入力シート（確認・工事届）'!$S$254)","v":""},null,null,null,")(",{"$f":"IF('入力シート（確認・工事届）'!$X$254=\"\",\"\",'入力シート（確認・工事届）'!$X$254)","v":""},null,null,null,")"]
[null,"【ハ.建築基準法第５２条第１項及び第２項の規定による建築物の容積率】"]
[null,null,null,null,null,null,null,"(",{"$f":"IF('入力シート（確認・工事届）'!I256=\"\",\"\",'入力シート（確認・工事届）'!I256)","v":""},null,null,null,")(",{"$f":"IF('入力シート（確認・工事届）'!N256=\"\",\"\",'入力シート（確認・工事届）'!N256)","v":""},null,null,null,")(",{"$f":"IF('入力シート（確認・工事届）'!S256=\"\",\"\",'入力シート（確認・工事届）'!S256)","v":""},null,null,null,")(",{"$f":"IF('入力シート（確認・工事届）'!X256=\"\",\"\",'入力シート（確認・工事届）'!X256)","v":""},null,null,null,")"]
[null,"【ニ.建築基準法第５３条第１項の規定による建築物の建蔽率】"]
[null,null,null,null,null,null,null,"(",{"$f":"IF('入力シート（確認・工事届）'!I258=\"\",\"\",'入力シート（確認・工事届）'!I258)","v":""},null,null,null,")(",{"$f":"IF('入力シート（確認・工事届）'!N258=\"\",\"\",'入力シート（確認・工事届）'!N258)","v":""},null,null,null,")(",{"$f":"IF('入力シート（確認・工事届）'!S258=\"\",\"\",'入力シート（確認・工事届）'!S258)","v":""},null,null,null,")(",{"$f":"IF('入力シート（確認・工事届）'!X258=\"\",\"\",'入力シート（確認・工事届）'!X258)","v":""},null,null,null,")"]
[null,"【ホ.敷地面積の合計】",null,null,null,null,null,null,"(１)",null,{"$f":"IF('入力シート（確認・工事届）'!K259=\"\",\"\",'入力シート（確認・工事届）'!K259)","v":""},null,null,null,"㎡"]
[null,null,null,null,null,null,null,null,"(２)",null,{"$f":"IF('入力シート（確認・工事届）'!K260=\"\",\"\",'入力シート（確認・工事届）'!K260)","v":""},null,null,null,"㎡"]
[null,"【ヘ.敷地に建築可能な延べ面積を敷地面積で除した数値】",null,null,null,null,null,null,null,null,null,null,null,null,null,null,null,{"$f":"IF('入力シート（確認・工事届）'!R261=\"\",\"\",'入力シート（確認・工事届）'!R261)","v":""}]
[null,"【ト.敷地に建築可能な建築面積を敷地面積で除した数値】",null,null,null,null,null,null,null,null,null,null,null,null,null,null,null,{"$f":"IF('入力シート（確認・工事届）'!R262=\"\",\"\",'入力シート（確認・工事届）'!R262)","v":""}]
[null,"【チ.備考】",null,null,null,{"$f":"'入力シート（確認・工事届）'!F263","v":"　　"}]
[null,null,0]
["【８.主要用途】",null,null,null,null,"（区分",{"$f":"IF('入力シート（確認・工事届）'!D267=\"\",\"\",'入力シート（確認・工事届）'!D267)","v":""},null,null,"）",{"$f":"IF('入力シート（確認・工事届）'!I267=\"\",\"\",'入力シート（確認・工事届）'!I267)","v":""}]
[]
["【９.工事種別】"]
[null,{"$f":"IF('入力シート（確認・工事届）'!AD270=TRUE,\"■\",IF('入力シート（確認・工事届）'!AD270=FALSE,\"□\"))","v":"□"},"新築",null,{"$f":"IF('入力シート（確認・工事届）'!AE270=TRUE,\"■\",IF('入力シート（確認・工事届）'!AE270=FALSE,\"□\"))","v":"□"},"増築",null,{"$f":"IF('入力シート（確認・工事届）'!AF270=TRUE,\"■\",IF('入力シート（確認・工事届）'!AF270=FALSE,\"□\"))","v":"□"},"改築",null,{"$f":"IF('入力シート（確認・工事届）'!AG270=TRUE,\"■\",IF('入力シート（確認・工事届）'!AG270=FALSE,\"□\"))","v":"□"},"移転",null,{"$f":"IF('入力シート（確認・工事届）'!AH270=TRUE,\"■\",IF('入力シート（確認・工事届）'!AH270=FALSE,\"□\"))","v":"□"},"用途変更",null,null,{"$f":"IF('入力シート（確認・工事届）'!AI270=TRUE,\"■\",IF('入力シート（確認・工事届）'!AI270=FALSE,\"□\"))","v":"□"},"大規模の修繕",null,null,null,{"$f":"IF('入力シート（確認・工事届）'!AJ270=TRUE,\"■\",IF('入力シート（確認・工事届）'!AJ270=FALSE,\"□\"))","v":"□"},"大規模の模様替"]
["【１０.建築面積】",null,null,null,null,null,null,null,null,"（","申請部分",null,null,null,"）","（","申請以外の部分",null,null,null,"）","（","合計",null,null,null,"）"]
[null,"【イ.建築面積】",null,null,null,null,null,null,null,"（",{"$f":"IF('入力シート（確認・工事届）'!K273=\"\",\"\",ROUNDUP('入力シート（確認・工事届）'!K273,2))","v":""},null,null,null,"）","（",{"$f":"IF('入力シート（確認・工事届）'!Q273=\"\",\"\",ROUNDUP('入力シート（確認・工事届）'!Q273,2))","v":""},null,null,null,"）","（",{"$f":"IF('入力シート（確認・工事届）'!W273=\"\",\"\",'入力シート（確認・工事届）'!W273)","v":""},null,null,null,"）"]
[null,"【ロ.建蔽率】",null,null,null,null,null,null,null,null,{"$f":"IF('入力シート（確認・工事届）'!K274=\"\",\"\",'入力シート（確認・工事届）'!K274)","v":""},null,null,null,"％"]
["【１１.延べ面積】",null,null,null,null,null,null,null,null,"（","申請部分",null,null,null,"）","（","申請以外の部分",null,null,null,"）","（","合計",null,null,null,"）"]
[null,"【イ.建築物全体】",null,null,null,null,null,null,null,"（",{"$f":"IF('入力シート（確認・工事届）'!K277=\"\",\"\",'入力シート（確認・工事届）'!K277)","v":""},null,null,null,"）","（",{"$f":"IF('入力シート（確認・工事届）'!Q277=\"\",\"\",'入力シート（確認・工事届）'!Q277)","v":""},null,null,null,"）","（",{"$f":"IF('入力シート（確認・工事届）'!W277=\"\",\"\",'入力シート（確認・工事届）'!W277)","v":""},null,null,null,"）"]
[null,"【ロ.地階の住宅又は老人ホーム等の部分】"]
[null,null,null,null,null,null,null,null,null,"（",{"$f":"IF('入力シート（確認・工事届）'!K279=\"\",\"\",'入力シート（確認・工事届）'!K279)","v":""},null,null,null,"）","（",{"$f":"IF('入力シート（確認・工事届）'!Q279=\"\",\"\",'入力シート（確認・工事届）'!Q279)","v":""},null,null,null,"）","（",{"$f":"IF('入力シート（確認・工事届）'!W279=\"\",\"\",'入力シート（確認・工事届）'!W279)","v":""},null,null,null,"）"]
[null,"【ハ.エレベーターの昇降路の部分】"]
[null,null,null,null,null,null,null,null,null,"（",{"$f":"IF('入力シート（確認・工事届）'!K281=\"\",\"\",'入力シート（確認・工事届）'!K281)","v":""},null,null,null,"）","（",{"$f":"IF('入力シート（確認・工事届）'!Q281=\"\",\"\",'入力シート（確認・工事届）'!Q281)","v":""},null,null,null,"）","（",{"$f":"IF('入力シート（確認・工事届）'!W281=\"\",\"\",'入力シート（確認・工事届）'!W281)","v":""},null,null,null,"）"]
[null,"【ニ.共同住宅又は老人ホーム等の共用の廊下等の部分】"]
[null,null,null,null,null,null,null,null,null,"（",{"$f":"IF('入力シート（確認・工事届）'!K283=\"\",\"\",'入力シート（確認・工事届）'!K283)","v":""},null,null,null,"）","（",{"$f":"IF('入力シート（確認・工事届）'!Q283=\"\",\"\",'入力シート（確認・工事届）'!Q283)","v":""},null,null,null,"）","（",{"$f":"IF('入力シート（確認・工事届）'!W283=\"\",\"\",'入力シート（確認・工事届）'!W283)","v":""},null,null,null,"）"]
[null,"【ホ.自動車車庫等の部分】",null,null,null,null,null,null,null,"（",{"$f":"IF('入力シート（確認・工事届）'!K284=\"\",\"\",'入力シート（確認・工事届）'!K284)","v":""},null,null,null,"）","（",{"$f":"IF('入力シート（確認・工事届）'!Q284=\"\",\"\",'入力シート（確認・工事届）'!Q284)","v":""},null,null,null,"）","（",{"$f":"IF('入力シート（確認・工事届）'!W284=\"\",\"\",'入力シート（確認・工事届）'!W284)","v":""},null,null,null,"）"]
[null,"【へ.備蓄倉庫の部分】",null,null,null,null,null,null,null,"（",{"$f":"IF('入力シート（確認・工事届）'!K285=\"\",\"\",'入力シート（確認・工事届）'!K285)","v":""},null,null,null,"）","（",{"$f":"IF('入力シート（確認・工事届）'!Q285=\"\",\"\",'入力シート（確認・工事届）'!Q285)","v":""},null,null,null,"）","（",{"$f":"IF('入力シート（確認・工事届）'!W285=\"\",\"\",'入力シート（確認・工事届）'!W285)","v":""},null,null,null,"）"]
[null,"【ト.蓄電池の設置部分】",null,null,null,null,null,null,null,"（",{"$f":"IF('入力シート（確認・工事届）'!K286=\"\",\"\",'入力シート（確認・工事届）'!K286)","v":""},null,null,null,"）","（",{"$f":"IF('入力シート（確認・工事届）'!Q286=\"\",\"\",'入力シート（確認・工事届）'!Q286)","v":""},null,null,null,"）","（",{"$f":"IF('入力シート（確認・工事届）'!W286=\"\",\"\",'入力シート（確認・工事届）'!W286)","v":""},null,null,null,"）"]
[null,"【チ.自家発電設備の設置部分】",null,null,null,null,null,null,null,"（",{"$f":"IF('入力シート（確認・工事届）'!K287=\"\",\"\",'入力シート（確認・工事届）'!K287)","v":""},null,null,null,"）","（",{"$f":"IF('入力シート（確認・工事届）'!Q287=\"\",\"\",'入力シート（確認・工事届）'!Q287)","v":""},null,null,null,"）","（",{"$f":"IF('入力シート（確認・工事届）'!W287=\"\",\"\",'入力シート（確認・工事届）'!W287)","v":""},null,null,null,"）"]
[null,"【リ.貯水槽の設置部分】",null,null,null,null,null,null,null,"（",{"$f":"IF('入力シート（確認・工事届）'!K288=\"\",\"\",'入力シート（確認・工事届）'!K288)","v":""},null,null,null,"）","（",{"$f":"IF('入力シート（確認・工事届）'!Q288=\"\",\"\",'入力シート（確認・工事届）'!Q288)","v":""},null,null,null,"）","（",{"$f":"IF('入力シート（確認・工事届）'!W288=\"\",\"\",'入力シート（確認・工事届）'!W288)","v":""},null,null,null,"）"]
[null,"【ヌ.宅配ボックスの設置部分】",null,null,null,null,null,null,null,"（",{"$f":"IF('入力シート（確認・工事届）'!K289=\"\",\"\",'入力シート（確認・工事届）'!K289)","v":""},null,null,null,"）","（",{"$f":"IF('入力シート（確認・工事届）'!Q289=\"\",\"\",'入力シート（確認・工事届）'!Q289)","v":""},null,null,null,"）","（",{"$f":"IF('入力シート（確認・工事届）'!W289=\"\",\"\",'入力シート（確認・工事届）'!W289)","v":""},null,null,null,"）"]
[null,"【ル.住宅の部分】",null,null,null,null,null,null,null,"（",{"$f":"IF('入力シート（確認・工事届）'!K290=\"\",\"\",'入力シート（確認・工事届）'!K290)","v":""},null,null,null,"）","（",{"$f":"IF('入力シート（確認・工事届）'!Q290=\"\",\"\",'入力シート（確認・工事届）'!Q290)","v":""},null,null,null,"）","（",{"$f":"IF('入力シート（確認・工事届）'!W290=\"\",\"\",'入力シート（確認・工事届）'!W290)","v":""},null,null,null,"）"]
[null,"【ヲ.老人ホーム等の部分】",null,null,null,null,null,null,null,"（",{"$f":"IF('入力シート（確認・工事届）'!K291=\"\",\"\",'入力シート（確認・工事届）'!K291)","v":""},null,null,null,"）","（",{"$f":"IF('入力シート（確認・工事届）'!Q291=\"\",\"\",'入力シート（確認・工事届）'!Q291)","v":""},null,null,null,"）","（",{"$f":"IF('入力シート（確認・工事届）'!W291=\"\",\"\",'入力シート（確認・工事届）'!W291)","v":""},null,null,null,"）"]
[null,"【ワ.延べ面積】",null,null,null,null,null,null,null,null,{"$f":"IF('入力シート（確認・工事届）'!K292=\"\",\"\",'入力シート（確認・工事届）'!K292)","v":""}]
[null,"【カ.容積率】",null,null,null,null,null,null,null,null,{"$f":"IF('入力シート（確認・工事届）'!K293=\"\",\"\",'入力シート（確認・工事届）'!K293)","v":""},null,null,null,"％"]
["【１２.建築物の数】"]
[null,"【イ.申請に係る建築物の数】",null,null,null,null,null,null,null,null,null,{"$f":"IF('入力シート（確認・工事届）'!M296=\"\",\"\",'入力シート（確認・工事届）'!M296)","v":""}]
[null,"【ロ.同一敷地内の他の建築物の数】",null,null,null,null,null,null,null,null,null,{"$f":"IF('入力シート（確認・工事届）'!M297=\"\",\"\",'入力シート（確認・工事届）'!M297)","v":""}]
["【１３.建築物の高さ等】",null,null,null,null,null,null,null,null,"（","申請に係る建築物",null,null,null,null,"）","（","他の建築物",null,null,null,null,"）"]
[null,"【イ.最高の高さ】",null,null,null,null,null,null,null,"（",{"$f":"IF('入力シート（確認・工事届）'!K300=\"\",\"\",ROUNDUP('入力シート（確認・工事届）'!K300,3))","v":""},null,null,null,null,"）","（",{"$f":"IF('入力シート（確認・工事届）'!R300=\"\",\"\",ROUNDUP('入力シート（確認・工事届）'!R300,3))","v":""},null,null,null,null,"）"]
[null,"【ロ.階数】",null,null,null,null,null,null,null,"地上（",{"$f":"IF('入力シート（確認・工事届）'!K301=\"\",\"\",'入力シート（確認・工事届）'!K301)","v":""},null,null,null,null,"）","（",{"$f":"IF('入力シート（確認・工事届）'!R301=\"\",\"\",'入力シート（確認・工事届）'!R301)","v":""},null,null,null,null,"）"]
[null,null,null,null,null,null,null,null,null,"地下（",{"$f":"IF('入力シート（確認・工事届）'!K302=\"\",\"\",'入力シート（確認・工事届）'!K302)","v":""},null,null,null,null,"）","（",{"$f":"IF('入力シート（確認・工事届）'!R302=\"\",\"\",'入力シート（確認・工事届）'!R302)","v":""},null,null,null,null,"）"]
[null,"【ハ.構造】",null,null,null,null,null,null,{"$f":"IF('入力シート（確認・工事届）'!I303=\"\",\"\",'入力シート（確認・工事届）'!I303)","v":""},null,null,null,null,null,null,"一部",null,{"$f":"IF('入力シート（確認・工事届）'!R303=\"\",\"\",'入力シート（確認・工事届）'!R303)","v":""}]
[null,"【ニ.建築基準法第５６条第７項の規定による特例の適用の有無】",null,null,null,null,null,null,null,null,null,null,null,null,null,null,null,null,null,{"$f":"IF('入力シート（確認・工事届）'!AD304=TRUE,\"■\",IF('入力シート（確認・工事届）'!AD304=FALSE,\"□\"))","v":"□"},"有",null,{"$f":"IF('入力シート（確認・工事届）'!AE304=TRUE,\"■\",IF('入力シート（確認・工事届）'!AE304=FALSE,\"□\"))","v":"■"},"無"]
[null,"【ホ.適用があるときは、特例の区分】"]
[null,null,null,null,null,{"$f":"IF('入力シート（確認・工事届）'!AD306=TRUE,\"■\",IF('入力シート（確認・工事届）'!AD306=FALSE,\"□\"))","v":"□"},"道路高さ制限不適用",null,null,null,null,null,{"$f":"IF('入力シート（確認・工事届）'!AE306=TRUE,\"■\",IF('入力シート（確認・工事届）'!AE306=FALSE,\"□\"))","v":"□"},"隣地高さ制限不適用",null,null,null,null,null,{"$f":"IF('入力シート（確認・工事届）'!AF306=TRUE,\"■\",IF('入力シート（確認・工事届）'!AF306=FALSE,\"□\"))","v":"□"},"北側高さ制限不適用"]
["【１４.許可・認定等】"]
[null,{"$f":"IF('入力シート（確認・工事届）'!B309=\"\",\"\",'入力シート（確認・工事届）'!B309)","v":""}]
[]
[]
[]
[]
[]
[]
["【１５.工事着手予定年月日】",null,null,null,null,null,null,null,null,{"$f":"'入力シート（確認・工事届）'!I318","v":"令和"},{"$f":"'入力シート（確認・工事届）'!K318","v":0},"年",{"$f":"'入力シート（確認・工事届）'!M318","v":0},"月",{"$f":"'入力シート（確認・工事届）'!O318","v":0},"日"]
["【１６.工事完了予定年月日】",null,null,null,null,null,null,null,null,"令和",{"$f":"'入力シート（確認・工事届）'!K321","v":0},"年",{"$f":"'入力シート（確認・工事届）'!M321","v":0},"月",{"$f":"'入力シート（確認・工事届）'!O321","v":0},"日"]
["【１７.特定工程工事終了予定年月日】",null,null,null,null,null,null,null,null,null,null,null,null,null,"（特定工程）"]
[null,"（第",{"$f":"'入力シート（確認・工事届）'!C324","v":""},"回）",null,{"$f":"'入力シート（確認・工事届）'!E324","v":"令和"},{"$f":"'入力シート（確認・工事届）'!G324","v":0},"年",{"$f":"'入力シート（確認・工事届）'!I324","v":0},"月",{"$f":"'入力シート（確認・工事届）'!K324","v":0},"日",null,{"$f":"'入力シート（確認・工事届）'!F325","v":0}]
[]
[]
[null,"（第",{"$f":"'入力シート（確認・工事届）'!C326","v":""},"回）",null,{"$f":"'入力シート（確認・工事届）'!E326","v":"令和"},{"$f":"'入力シート（確認・工事届）'!G326","v":0},"年",{"$f":"'入力シート（確認・工事届）'!I326","v":0},"月",{"$f":"'入力シート（確認・工事届）'!K326","v":0},"日",null,{"$f":"'入力シート（確認・工事届）'!F327","v":0}]
[]
[]
[null,"（第",{"$f":"'入力シート（確認・工事届）'!C328","v":""},"回）",null,{"$f":"'入力シート（確認・工事届）'!E328","v":"令和"},{"$f":"'入力シート（確認・工事届）'!G328","v":0},"年",{"$f":"'入力シート（確認・工事届）'!I328","v":0},"月",{"$f":"'入力シート（確認・工事届）'!K328","v":0},"日",null,{"$f":"'入力シート（確認・工事届）'!F329","v":0}]
[]
[]
["【１８.その他必要な事項】"]
[null,{"$f":"'入力シート（確認・工事届）'!B332","v":0}]
[]
[]
["【１９.備考】"]
[null,{"$f":"'入力シート（確認・工事届）'!B336","v":0}]
[]
[]
[]
[]
[]
[]
[]
[]
[]
[]
[]
[]
[]
[]
[]
[]
[]
[]
["（第四面）"]
["建築物別概要"]
["【１.番号】",null,null,null,{"$f":"IF('入力シート（確認・工事届）'!C343=\"\",\"\",'入力シート（確認・工事届）'!C343)","v":1}]
["【２.用途】",null,null,"（","区分",null,{"$f":"IF('入力シート（確認・工事届）'!E347=\"\",\"\",'入力シート（確認・工事届）'!E347)","v":""},null,null,"）",{"$f":"IF('入力シート（確認・工事届）'!K347=\"\",\"\",'入力シート（確認・工事届）'!K347)","v":""}]
[null,null,null,"（","区分",null,{"$f":"IF('入力シート（確認・工事届）'!E348=\"\",\"\",'入力シート（確認・工事届）'!E348)","v":""},null,null,"）",{"$f":"IF('入力シート（確認・工事届）'!K348=\"\",\"\",'入力シート（確認・工事届）'!K348)","v":""}]
[null,null,null,"（","区分",null,{"$f":"IF('入力シート（確認・工事届）'!E349=\"\",\"\",'入力シート（確認・工事届）'!E349)","v":""},null,null,"）",{"$f":"IF('入力シート（確認・工事届）'!K349=\"\",\"\",'入力シート（確認・工事届）'!K349)","v":""}]
[null,null,null,"（","区分",null,{"$f":"IF('入力シート（確認・工事届）'!E350=\"\",\"\",'入力シート（確認・工事届）'!E350)","v":""},null,null,"）",{"$f":"IF('入力シート（確認・工事届）'!K350=\"\",\"\",'入力シート（確認・工事届）'!K350)","v":""}]
[null,null,null,"（","区分",null,{"$f":"IF('入力シート（確認・工事届）'!E351=\"\",\"\",'入力シート（確認・工事届）'!E351)","v":""},null,null,"）",{"$f":"IF('入力シート（確認・工事届）'!K351=\"\",\"\",'入力シート（確認・工事届）'!K351)","v":""}]
["【３.工事種別】"]
[null,{"$f":"IF('入力シート（確認・工事届）'!AD354=TRUE,\"■\",IF('入力シート（確認・工事届）'!AD354=FALSE,\"□\"))","v":"□"},"新築",null,{"$f":"IF('入力シート（確認・工事届）'!AE354=TRUE,\"■\",IF('入力シート（確認・工事届）'!AE354=FALSE,\"□\"))","v":"□"},"増築",null,{"$f":"IF('入力シート（確認・工事届）'!AF354=TRUE,\"■\",IF('入力シート（確認・工事届）'!AF354=FALSE,\"□\"))","v":"□"},"改築",null,{"$f":"IF('入力シート（確認・工事届）'!AG354=TRUE,\"■\",IF('入力シート（確認・工事届）'!AG354=FALSE,\"□\"))","v":"□"},"移転",null,{"$f":"IF('入力シート（確認・工事届）'!AH354=TRUE,\"■\",IF('入力シート（確認・工事届）'!AH354=FALSE,\"□\"))","v":"□"},"用途変更",null,null,{"$f":"IF('入力シート（確認・工事届）'!AI354=TRUE,\"■\",IF('入力シート（確認・工事届）'!AI354=FALSE,\"□\"))","v":"□"},"大規模の修繕",null,null,null,{"$f":"IF('入力シート（確認・工事届）'!AJ354=TRUE,\"■\",IF('入力シート（確認・工事届）'!AJ354=FALSE,\"□\"))","v":"□"},"大規模の模様替"]
["【４.構造】",null,null,null,null,{"$f":"'入力シート（確認・工事届）'!C357","v":0},null,null,null,null,null,null,"一部",null,{"$f":"'入力シート（確認・工事届）'!L357","v":0}]
["【５.主要構造部】"]
[null,{"$f":"IF('入力シート（確認・工事届）'!AD360=TRUE,\"■\",IF('入力シート（確認・工事届）'!AD360=FALSE,\"□\"))","v":"□"},"耐火構造"]
[null,{"$f":"IF('入力シート（確認・工事届）'!AD361=TRUE,\"■\",IF('入力シート（確認・工事届）'!AD361=FALSE,\"□\"))","v":"□"},"建築基準法施行令第108条の３第１項第１号イ及びロに掲げる基準に適合する構造"]
[null,{"$f":"IF('入力シート（確認・工事届）'!AD362=TRUE,\"■\",IF('入力シート（確認・工事届）'!AD362=FALSE,\"□\"))","v":"□"},"準耐火構造"]
[null,{"$f":"IF('入力シート（確認・工事届）'!AE362=TRUE,\"■\",IF('入力シート（確認・工事届）'!AE362=FALSE,\"□\"))","v":"□"},"準耐火構造と同等の準耐火性能を有する構造（ロ１）"]
[null,{"$f":"IF('入力シート（確認・工事届）'!AD363=TRUE,\"■\",IF('入力シート（確認・工事届）'!AD363=FALSE,\"□\"))","v":"□"},"準耐火構造と同等の準耐火性能を有する構造（ロ２）"]
[null,{"$f":"IF('入力シート（確認・工事届）'!AE363=TRUE,\"■\",IF('入力シート（確認・工事届）'!AE363=FALSE,\"□\"))","v":"□"},"その他"]
["【６.建築基準法第21条及び第27条の規定の適用】"]
[null,{"$f":"IF('入力シート（確認・工事届）'!AD366=TRUE,\"■\",IF('入力シート（確認・工事届）'!AD366=FALSE,\"□\"))","v":"□"},"建築基準法施行令第109条の５第１号に掲げる基準に適合する構造"]
[null,{"$f":"IF('入力シート（確認・工事届）'!AD367=TRUE,\"■\",IF('入力シート（確認・工事届）'!AD367=FALSE,\"□\"))","v":"□"},"建築基準法第21条第１項ただし書に該当する建築物"]
[null,{"$f":"IF('入力シート（確認・工事届）'!AD368=TRUE,\"■\",IF('入力シート（確認・工事届）'!AD368=FALSE,\"□\"))","v":"□"},"建築基準法施行令第110条第１号に掲げる基準に適合する構造"]
[null,{"$f":"IF('入力シート（確認・工事届）'!AD369=TRUE,\"■\",IF('入力シート（確認・工事届）'!AD369=FALSE,\"□\"))","v":"□"},"その他"]
[null,{"$f":"IF('入力シート（確認・工事届）'!AE369=TRUE,\"■\",IF('入力シート（確認・工事届）'!AE369=FALSE,\"□\"))","v":"□"},"建築基準法第21条又は第27条の規定の適用を受けない"]
["【７.建築基準法第61条の規定の適用】"]
[null,{"$f":"IF('入力シート（確認・工事届）'!AD371=TRUE,\"■\",IF('入力シート（確認・工事届）'!AD371=FALSE,\"□\"))","v":"□"},"耐火建築物"]
[null,{"$f":"IF('入力シート（確認・工事届）'!AE371=TRUE,\"■\",IF('入力シート（確認・工事届）'!AE371=FALSE,\"□\"))","v":"□"},"延焼防止建築物"]
[null,{"$f":"IF('入力シート（確認・工事届）'!AF371=TRUE,\"■\",IF('入力シート（確認・工事届）'!AF371=FALSE,\"□\"))","v":"□"},"準耐火建築物"]
[null,{"$f":"IF('入力シート（確認・工事届）'!AD372=TRUE,\"■\",IF('入力シート（確認・工事届）'!AD372=FALSE,\"□\"))","v":"□"},"準延焼防止建築物"]
[null,{"$f":"IF('入力シート（確認・工事届）'!AE372=TRUE,\"■\",IF('入力シート（確認・工事届）'!AE32=FALSE,\"□\"))","v":"□"},"その他"]
[null,{"$f":"IF('入力シート（確認・工事届）'!AF372=TRUE,\"■\",IF('入力シート（確認・工事届）'!AF372=FALSE,\"□\"))","v":"□"},"建築基準法第61条の規定の適用を受けない"]
["【８.階数】"]
[null,"【イ.地階を除く階数】",null,null,null,null,null,null,null,{"$f":"IF('入力シート（確認・工事届）'!K375=\"\",\"\",'入力シート（確認・工事届）'!K375)","v":""}]
[null,"【ロ.地階の階数】",null,null,null,null,null,null,null,{"$f":"IF('入力シート（確認・工事届）'!K376=\"\",\"\",'入力シート（確認・工事届）'!K376)","v":""}]
[null,"【ハ.昇降機塔等の階の数】",null,null,null,null,null,null,null,{"$f":"IF('入力シート（確認・工事届）'!K377=\"\",\"\",'入力シート（確認・工事届）'!K377)","v":""}]
[null,"【ニ.地階の倉庫等の階の数】",null,null,null,null,null,null,null,{"$f":"IF('入力シート（確認・工事届）'!K378=\"\",\"\",'入力シート（確認・工事届）'!K378)","v":""}]
["【９.高さ】"]
[null,"【イ.最高の高さ】",null,null,null,null,null,null,null,{"$f":"IF('入力シート（確認・工事届）'!K381=\"\",\"\",ROUNDUP('入力シート（確認・工事届）'!K381,3))","v":""},null,null,"ｍ"]
[null,"【ロ.最高の軒の高さ】",null,null,null,null,null,null,null,{"$f":"IF('入力シート（確認・工事届）'!K382=\"\",\"\",ROUNDUP('入力シート（確認・工事届）'!K382,3))","v":""},null,null,"ｍ"]
["【１０.建築設備の種類】",null,null,null,null,null,null,0]
[null,{"$f":"IF('入力シート（確認・工事届）'!AI390=\"\",\"\",LEFT('入力シート（確認・工事届）'!AI390,LEN('入力シート（確認・工事届）'!AI390)-1))","v":""}]
[]
[null,{"$f":"IF('入力シート（確認・工事届）'!J389=\"\",\"\",'入力シート（確認・工事届）'!J389)","v":""}]
["【１１.確認の特例】"]
[null,"【イ.建築基準法第６条の３第１項ただし書又は法第１８条第４項ただし書の規定による審査の特例"]
[null,null,"の適用の有無】",null,null,null,null,null,null,null,null,null,null,null,null,null,null,null,null,null,null,null,null,{"$f":"IF('入力シート（確認・工事届）'!AD393=TRUE,\"■\",IF('入力シート（確認・工事届）'!AD393=FALSE,\"□\"))","v":"□"},"有",null,{"$f":"IF('入力シート（確認・工事届）'!AE393=TRUE,\"■\",IF('入力シート（確認・工事届）'!AE393=FALSE,\"□\"))","v":"□"},"無"]
[null,"【ロ.建築基準法第６条の４第１項の規定による確認の特例の適用の有無】",null,null,null,null,null,null,null,null,null,null,null,null,null,null,null,null,null,null,null,null,null,{"$f":"IF('入力シート（確認・工事届）'!AD394=TRUE,\"■\",IF('入力シート（確認・工事届）'!AD394=FALSE,\"□\"))","v":"□"},"有",null,{"$f":"IF('入力シート（確認・工事届）'!AE394=TRUE,\"■\",IF('入力シート（確認・工事届）'!AE394=FALSE,\"□\"))","v":"□"},"無"]
[null,"【ハ.建築基準法施行令第１０条各号に掲げる建築物の区分】",null,null,null,null,null,null,null,null,null,null,null,null,null,null,null,null,null,null,null,null,null,"第",{"$f":"IF('入力シート（確認・工事届）'!Y396=\"\",\"\",'入力シート（確認・工事届）'!Y396)","v":""},null,null,"号"]
[null,"【ニ.認定型式の認定番号】",null,null,null,null,null,null,null,null,null,null,null,null,null,null,null,"第",{"$f":"IF('入力シート（確認・工事届）'!T397=\"\",\"\",'入力シート（確認・工事届）'!T397)","v":""},null,null,null,null,null,null,null,null,"号"]
[null,"【ホ.適合する一連の規定の区分】",null,null,null,null,null,null,null,null,null,null,null,null,null,{"$f":"IF('入力シート（確認・工事届）'!AD398=TRUE,\"■\",IF('入力シート（確認・工事届）'!AD398=FALSE,\"□\"))","v":"□"},"建築基準法施行令第１３６条の２の１１第１号イ"]
[null,null,null,null,null,null,null,null,null,null,null,null,null,null,null,{"$f":"IF('入力シート（確認・工事届）'!AD399=TRUE,\"■\",IF('入力シート（確認・工事届）'!AD399=FALSE,\"□\"))","v":"□"},"建築基準法施行令第１３６条の２の１１第１号ロ"]
[null,"【へ.認証型式部材等の認証番号】",null,null,null,null,null,null,null,null,null,null,null,null,null,null,null,null,{"$f":"IF('入力シート（確認・工事届）'!T400=\"\",\"\",'入力シート（確認・工事届）'!T400)","v":""}]
["【１２.床面積】",null,null,null,null,null,null,null,null,"（","申請部分",null,null,null,")","（","申請以外の部分",null,null,null,")","（","合計",null,null,null,")"]
[null,"【イ.階別】",null,null,null,"（",{"$f":"IF('入力シート（確認・工事届）'!K403=\"\",\"\",'入力シート（確認・工事届）'!F403&'入力シート（確認・工事届）'!G403)","v":""},null,"階）","（",{"$f":"IF('入力シート（確認・工事届）'!K403=\"\",\"\",'入力シート（確認・工事届）'!K403)","v":""},null,null,null,")","（",{"$f":"IF('入力シート（確認・工事届）'!Q403=\"\",\"\",'入力シート（確認・工事届）'!Q403)","v":""},null,null,null,")","（",{"$f":"IF('入力シート（確認・工事届）'!W403=\"\",\"\",'入力シート（確認・工事届）'!W403)","v":""},null,null,null,")"]
[null,null,null,null,null,"（",{"$f":"IF('入力シート（確認・工事届）'!K404=\"\",\"\",'入力シート（確認・工事届）'!F404&'入力シート（確認・工事届）'!G404)","v":""},null,"階）","（",{"$f":"IF('入力シート（確認・工事届）'!K404=\"\",\"\",'入力シート（確認・工事届）'!K404)","v":""},null,null,null,")","（",{"$f":"IF('入力シート（確認・工事届）'!Q404=\"\",\"\",'入力シート（確認・工事届）'!Q404)","v":""},null,null,null,")","（",{"$f":"IF('入力シート（確認・工事届）'!W404=\"\",\"\",'入力シート（確認・工事届）'!W404)","v":""},null,null,null,")"]
[null,null,null,null,null,"（",{"$f":"IF('入力シート（確認・工事届）'!K405=\"\",\"\",'入力シート（確認・工事届）'!F405&'入力シート（確認・工事届）'!G405)","v":""},null,"階）","（",{"$f":"IF('入力シート（確認・工事届）'!K405=\"\",\"\",'入力シート（確認・工事届）'!K405)","v":""},null,null,null,")","（",{"$f":"IF('入力シート（確認・工事届）'!Q405=\"\",\"\",'入力シート（確認・工事届）'!Q405)","v":""},null,null,null,")","（",{"$f":"IF('入力シート（確認・工事届）'!W405=\"\",\"\",'入力シート（確認・工事届）'!W405)","v":""},null,null,null,")"]
[null,null,null,null,null,"（",{"$f":"IF('入力シート（確認・工事届）'!K406=\"\",\"\",'入力シート（確認・工事届）'!F406&'入力シート（確認・工事届）'!G406)","v":""},null,"階）","（",{"$f":"IF('入力シート（確認・工事届）'!K406=\"\",\"\",'入力シート（確認・工事届）'!K406)","v":""},null,null,null,")","（",{"$f":"IF('入力シート（確認・工事届）'!Q406=\"\",\"\",'入力シート（確認・工事届）'!Q406)","v":""},null,null,null,")","（",{"$f":"IF('入力シート（確認・工事届）'!W406=\"\",\"\",'入力シート（確認・工事届）'!W406)","v":""},null,null,null,")"]
[null,null,null,null,null,"（",{"$f":"IF('入力シート（確認・工事届）'!K407=\"\",\"\",'入力シート（確認・工事届）'!F407&'入力シート（確認・工事届）'!G407)","v":""},null,"階）","（",{"$f":"IF('入力シート（確認・工事届）'!K407=\"\",\"\",'入力シート（確認・工事届）'!K407)","v":""},null,null,null,")","（",{"$f":"IF('入力シート（確認・工事届）'!Q407=\"\",\"\",'入力シート（確認・工事届）'!Q407)","v":""},null,null,null,")","（",{"$f":"IF('入力シート（確認・工事届）'!W407=\"\",\"\",'入力シート（確認・工事届）'!W407)","v":""},null,null,null,")"]
[null,null,null,null,null,"（",{"$f":"IF('入力シート（確認・工事届）'!K408=\"\",\"\",'入力シート（確認・工事届）'!F408&'入力シート（確認・工事届）'!G408)","v":""},null,"階）","（",{"$f":"IF('入力シート（確認・工事届）'!K408=\"\",\"\",'入力シート（確認・工事届）'!K408)","v":""},null,null,null,")","（",{"$f":"IF('入力シート（確認・工事届）'!Q408=\"\",\"\",'入力シート（確認・工事届）'!Q408)","v":""},null,null,null,")","（",{"$f":"IF('入力シート（確認・工事届）'!W408=\"\",\"\",'入力シート（確認・工事届）'!W408)","v":""},null,null,null,")"]
[null,"【ロ.合計】",null,null,null,null,null,null,null,"（",{"$f":"IF('入力シート（確認・工事届）'!K409=\"\",\"\",'入力シート（確認・工事届）'!K409)","v":0},null,null,null,")","（",{"$f":"IF('入力シート（確認・工事届）'!Q409=\"\",\"\",'入力シート（確認・工事届）'!Q409)","v":0},null,null,null,")","（",{"$f":"IF('入力シート（確認・工事届）'!W409=\"\",\"\",'入力シート（確認・工事届）'!W409)","v":0},null,null,null,")"]
["【１３.屋根】",null,null,null,{"$f":"'入力シート（確認・工事届）'!B412","v":0}]
["【１４.外壁】",null,null,null,{"$f":"'入力シート（確認・工事届）'!B415","v":0}]
["【１５.軒裏】",null,null,null,{"$f":"'入力シート（確認・工事届）'!B418","v":0}]
["【１６.居室の床の高さ】",null,null,null,null,null,null,null,{"$f":"IF('入力シート（確認・工事届）'!B421=\"\",\"\",ROUNDDOWN('入力シート（確認・工事届）'!B421,0))","v":""},null,null,"mm"]
["【１７.便所の種類】",null,null,null,null,null,{"$f":"'入力シート（確認・工事届）'!B424","v":0}]
["【１８.その他必要な事項】"]
[null,{"$f":"'入力シート（確認・工事届）'!B427","v":0}]
[]
["【１９.備考】"]
[null,{"$f":"'入力シート（確認・工事届）'!B431","v":0}]
[]
[]
["（第五面）"]
["建築物の階別概要"]
["【１.番号】",null,null,null,null,null,null,{"$f":"IF('入力シート（確認・工事届）'!B438=\"\",\"\",'入力シート（確認・工事届）'!B438)","v":""}]
["【２.階】",null,null,null,null,null,null,{"$f":"IF('入力シート（確認・工事届）'!C441=\"\",\"\",'入力シート（確認・工事届）'!B441&'入力シート（確認・工事届）'!C441)","v":""}]
["【３.柱の小径】",null,null,null,null,null,null,"",{"$f":"IF('入力シート（確認・工事届）'!B444=\"\",\"\",ROUNDDOWN('入力シート（確認・工事届）'!B444,0))","v":""},null,null,"mm "]
["【４.横架材間の垂直距離】",null,null,null,null,null,null,null,{"$f":"IF('入力シート（確認・工事届）'!B447=\"\",\"\",'入力シート（確認・工事届）'!B447)","v":""},null,null,"mm "]
["【５.階の高さ】",null,null,null,null,null,null,null,{"$f":"IF('入力シート（確認・工事届）'!B450=\"\",\"\",'入力シート（確認・工事届）'!B450)","v":""},null,null,"mm "]
["【６.天井】"]
[null,"【イ.居室の天井の高さ】",null,null,null,null,null,null,null,null,{"$f":"IF('入力シート（確認・工事届）'!K453=\"\",\"\",ROUNDDOWN('入力シート（確認・工事届）'!K453,0))","v":""},null,null,"ｍｍ"]
[null,"【ロ.建築基準法施行令第39条第3項に規定する特定天井】",null,null,null,null,null,null,null,null,null,null,null,null,null,null,null,null,{"$f":"IF('入力シート（確認・工事届）'!AD454=TRUE,\"■\",IF('入力シート（確認・工事届）'!AD454=FALSE,\"□\"))","v":"□"},"有",null,{"$f":"IF('入力シート（確認・工事届）'!AE454=TRUE,\"■\",IF('入力シート（確認・工事届）'!AE454=FALSE,\"□\"))","v":"□"},"無"]
["【７.用途別床面積】"]
[null,null,null,null,"(","用途の区分",null,null,null,")","(","具体的な用途の名称",null,null,null,null,null,null,null,null,null,")","(","床面積",null,null,null,")"]
[null,"【イ.】",null,null,"(",{"$f":"IF('入力シート（確認・工事届）'!E457=\"\",\"\",'入力シート（確認・工事届）'!E457)","v":""},null,null,null,")","(",{"$f":"IF('入力シート（確認・工事届）'!K457=\"\",\"\",'入力シート（確認・工事届）'!K457)","v":""},null,null,null,null,null,null,null,null,null,")","(",{"$f":"IF('入力シート（確認・工事届）'!T457=\"\",\"\",'入力シート（確認・工事届）'!T457)","v":""},null,null,null,")"]
[null,"【ロ.】",null,null,"(",{"$f":"IF('入力シート（確認・工事届）'!E458=\"\",\"\",'入力シート（確認・工事届）'!E458)","v":""},null,null,null,")","(",{"$f":"IF('入力シート（確認・工事届）'!K458=\"\",\"\",'入力シート（確認・工事届）'!K458)","v":""},null,null,null,null,null,null,null,null,null,")","(",{"$f":"IF('入力シート（確認・工事届）'!T458=\"\",\"\",'入力シート（確認・工事届）'!T458)","v":""},null,null,null,")"]
[null,"【ハ.】",null,null,"(",{"$f":"IF('入力シート（確認・工事届）'!E459=\"\",\"\",'入力シート（確認・工事届）'!E459)","v":""},null,null,null,")","(",{"$f":"IF('入力シート（確認・工事届）'!K459=\"\",\"\",'入力シート（確認・工事届）'!K459)","v":""},null,null,null,null,null,null,null,null,null,")","(",{"$f":"IF('入力シート（確認・工事届）'!T459=\"\",\"\",'入力シート（確認・工事届）'!T459)","v":""},null,null,null,")"]
[null,"【ニ.】",null,null,"(",{"$f":"IF('入力シート（確認・工事届）'!E460=\"\",\"\",'入力シート（確認・工事届）'!E460)","v":""},null,null,null,")","(",{"$f":"IF('入力シート（確認・工事届）'!K460=\"\",\"\",'入力シート（確認・工事届）'!K460)","v":""},null,null,null,null,null,null,null,null,null,")","(",{"$f":"IF('入力シート（確認・工事届）'!T460=\"\",\"\",'入力シート（確認・工事届）'!T460)","v":""},null,null,null,")"]
[null,"【ホ.】",null,null,"(",{"$f":"IF('入力シート（確認・工事届）'!E461=\"\",\"\",'入力シート（確認・工事届）'!E461)","v":""},null,null,null,")","(",{"$f":"IF('入力シート（確認・工事届）'!K461=\"\",\"\",'入力シート（確認・工事届）'!K461)","v":""},null,null,null,null,null,null,null,null,null,")","(",{"$f":"IF('入力シート（確認・工事届）'!T461=\"\",\"\",'入力シート（確認・工事届）'!T461)","v":""},null,null,null,")"]
[null,"【ヘ.】",null,null,"(",{"$f":"IF('入力シート（確認・工事届）'!E462=\"\",\"\",'入力シート（確認・工事届）'!E462)","v":""},null,null,null,")","(",{"$f":"IF('入力シート（確認・工事届）'!K462=\"\",\"\",'入力シート（確認・工事届）'!K462)","v":""},null,null,null,null,null,null,null,null,null,")","(",{"$f":"IF('入力シート（確認・工事届）'!T462=\"\",\"\",'入力シート（確認・工事届）'!T462)","v":""},null,null,null,")"]
["【８.その他必要な事項】"]
[null,{"$f":"'入力シート（確認・工事届）'!B465","v":0}]
[]
["【９.備考】"]
[null,{"$f":"'入力シート（確認・工事届）'!B469","v":0}]
[]
[]
[]
[]
[]
[]
[]
[]
["建築物の階別概要"]
["【１.番号】",null,null,null,null,null,null,{"$f":"IF('入力シート（確認・工事届）'!B475=\"\",\"\",'入力シート（確認・工事届）'!B475)","v":""}]
["【２.階】",null,null,null,null,null,null,{"$f":"IF('入力シート（確認・工事届）'!C478=\"\",\"\",'入力シート（確認・工事届）'!B478&'入力シート（確認・工事届）'!C478)","v":""}]
["【３.柱の小径】",null,null,null,null,null,null,"",{"$f":"IF('入力シート（確認・工事届）'!B481=\"\",\"\",ROUNDDOWN('入力シート（確認・工事届）'!B481,0))","v":""},null,null,"mm "]
["【４.横架材間の垂直距離】",null,null,null,null,null,null,null,{"$f":"IF('入力シート（確認・工事届）'!B484=\"\",\"\",'入力シート（確認・工事届）'!B484)","v":""},null,null,"mm "]
["【５.階の高さ】",null,null,null,null,null,null,null,{"$f":"IF('入力シート（確認・工事届）'!B487=\"\",\"\",'入力シート（確認・工事届）'!B487)","v":""},null,null,"mm "]
["【６.天井】"]
[null,"【イ.居室の天井の高さ】",null,null,null,null,null,null,null,null,{"$f":"IF('入力シート（確認・工事届）'!K490=\"\",\"\",ROUNDDOWN('入力シート（確認・工事届）'!K490,0))","v":""},null,null,"ｍｍ"]
[null,"【ロ.建築基準法施行令第39条第3項に規定する特定天井】",null,null,null,null,null,null,null,null,null,null,null,null,null,null,null,null,{"$f":"IF('入力シート（確認・工事届）'!AD491=TRUE,\"■\",IF('入力シート（確認・工事届）'!AD491=FALSE,\"□\"))","v":"□"},"有",null,{"$f":"IF('入力シート（確認・工事届）'!AE491=TRUE,\"■\",IF('入力シート（確認・工事届）'!AE491=FALSE,\"□\"))","v":"□"},"無"]
["【７.用途別床面積】"]
[null,null,null,null,"(","用途の区分",null,null,null,")","(","具体的な用途の名称",null,null,null,null,null,null,null,null,null,")","(","床面積",null,null,null,")"]
[null,"【イ.】",null,null,"(",{"$f":"IF('入力シート（確認・工事届）'!E495=\"\",\"\",'入力シート（確認・工事届）'!E495)","v":""},null,null,null,")","(",{"$f":"IF('入力シート（確認・工事届）'!K495=\"\",\"\",'入力シート（確認・工事届）'!K495)","v":""},null,null,null,null,null,null,null,null,null,")","(",{"$f":"IF('入力シート（確認・工事届）'!T495=\"\",\"\",'入力シート（確認・工事届）'!T495)","v":""},null,null,null,")"]
[null,"【ロ.】",null,null,"(",{"$f":"IF('入力シート（確認・工事届）'!E496=\"\",\"\",'入力シート（確認・工事届）'!E496)","v":""},null,null,null,")","(",{"$f":"IF('入力シート（確認・工事届）'!K496=\"\",\"\",'入力シート（確認・工事届）'!K496)","v":""},null,null,null,null,null,null,null,null,null,")","(",{"$f":"IF('入力シート（確認・工事届）'!T496=\"\",\"\",'入力シート（確認・工事届）'!T496)","v":""},null,null,null,")"]
[null,"【ハ.】",null,null,"(",{"$f":"IF('入力シート（確認・工事届）'!E497=\"\",\"\",'入力シート（確認・工事届）'!E497)","v":""},null,null,null,")","(",{"$f":"IF('入力シート（確認・工事届）'!K497=\"\",\"\",'入力シート（確認・工事届）'!K497)","v":""},null,null,null,null,null,null,null,null,null,")","(",{"$f":"IF('入力シート（確認・工事届）'!T497=\"\",\"\",'入力シート（確認・工事届）'!T497)","v":""},null,null,null,")"]
[null,"【ニ.】",null,null,"(",{"$f":"IF('入力シート（確認・工事届）'!E498=\"\",\"\",'入力シート（確認・工事届）'!E498)","v":""},null,null,null,")","(",{"$f":"IF('入力シート（確認・工事届）'!K498=\"\",\"\",'入力シート（確認・工事届）'!K498)","v":""},null,null,null,null,null,null,null,null,null,")","(",{"$f":"IF('入力シート（確認・工事届）'!T498=\"\",\"\",'入力シート（確認・工事届）'!T498)","v":""},null,null,null,")"]
[null,"【ホ.】",null,null,"(",{"$f":"IF('入力シート（確認・工事届）'!E499=\"\",\"\",'入力シート（確認・工事届）'!E499)","v":""},null,null,null,")","(",{"$f":"IF('入力シート（確認・工事届）'!K499=\"\",\"\",'入力シート（確認・工事届）'!K499)","v":""},null,null,null,null,null,null,null,null,null,")","(",{"$f":"IF('入力シート（確認・工事届）'!T499=\"\",\"\",'入力シート（確認・工事届）'!T499)","v":""},null,null,null,")"]
[null,"【ヘ.】",null,null,"(",{"$f":"IF('入力シート（確認・工事届）'!E500=\"\",\"\",'入力シート（確認・工事届）'!E500)","v":""},null,null,null,")","(",{"$f":"IF('入力シート（確認・工事届）'!K500=\"\",\"\",'入力シート（確認・工事届）'!K500)","v":""},null,null,null,null,null,null,null,null,null,")","(",{"$f":"IF('入力シート（確認・工事届）'!T500=\"\",\"\",'入力シート（確認・工事届）'!T500)","v":""},null,null,null,")"]
["【８.その他必要な事項】"]
[null,{"$f":"'入力シート（確認・工事届）'!B503","v":0}]
[]
["【９.備考】"]
[null,{"$f":"'入力シート（確認・工事届）'!B507","v":0}]
[]
[]
["（第五面）"]
["建築物の階別概要"]
["【１.番号】",null,null,null,null,null,null,{"$f":"IF('入力シート（確認・工事届）'!B513=\"\",\"\",'入力シート（確認・工事届）'!B513)","v":""}]
["【２.階】",null,null,null,null,null,null,{"$f":"IF('入力シート（確認・工事届）'!C516=\"\",\"\",'入力シート（確認・工事届）'!B516&'入力シート（確認・工事届）'!C516)","v":""}]
["【３.柱の小径】",null,null,null,null,null,null,"",{"$f":"IF('入力シート（確認・工事届）'!B519=\"\",\"\",ROUNDDOWN('入力シート（確認・工事届）'!B519,0))","v":""},null,null,"mm "]
["【４.横架材間の垂直距離】",null,null,null,null,null,null,null,{"$f":"IF('入力シート（確認・工事届）'!B522=\"\",\"\",'入力シート（確認・工事届）'!B522)","v":""},null,null,"mm "]
["【５.階の高さ】",null,null,null,null,null,null,null,{"$f":"IF('入力シート（確認・工事届）'!B525=\"\",\"\",'入力シート（確認・工事届）'!B525)","v":""},null,null,"mm "]
["【６.天井】"]
[null,"【イ.居室の天井の高さ】",null,null,null,null,null,null,null,null,{"$f":"IF('入力シート（確認・工事届）'!K528=\"\",\"\",ROUNDDOWN('入力シート（確認・工事届）'!K528,0))","v":""},null,null,"ｍｍ"]
[null,"【ロ.建築基準法施行令第39条第3項に規定する特定天井】",null,null,null,null,null,null,null,null,null,null,null,null,null,null,null,null,{"$f":"IF('入力シート（確認・工事届）'!AD529=TRUE,\"■\",IF('入力シート（確認・工事届）'!AD529=FALSE,\"□\"))","v":"□"},"有",null,{"$f":"IF('入力シート（確認・工事届）'!AE529=TRUE,\"■\",IF('入力シート（確認・工事届）'!AE529=FALSE,\"□\"))","v":"□"},"無"]
["【７.用途別床面積】"]
[null,null,null,null,"(","用途の区分",null,null,null,")","(","具体的な用途の名称",null,null,null,null,null,null,null,null,null,")","(","床面積",null,null,null,")"]
[null,"【イ.】",null,null,"(",{"$f":"IF('入力シート（確認・工事届）'!E533=\"\",\"\",'入力シート（確認・工事届）'!E533)","v":""},null,null,null,")","(",{"$f":"IF('入力シート（確認・工事届）'!K533=\"\",\"\",'入力シート（確認・工事届）'!K533)","v":""},null,null,null,null,null,null,null,null,null,")","(",{"$f":"IF('入力シート（確認・工事届）'!T533=\"\",\"\",'入力シート（確認・工事届）'!T533)","v":""},null,null,null,")"]
[null,"【ロ.】",null,null,"(",{"$f":"IF('入力シート（確認・工事届）'!E534=\"\",\"\",'入力シート（確認・工事届）'!E534)","v":""},null,null,null,")","(",{"$f":"IF('入力シート（確認・工事届）'!K534=\"\",\"\",'入力シート（確認・工事届）'!K534)","v":""},null,null,null,null,null,null,null,null,null,")","(",{"$f":"IF('入力シート（確認・工事届）'!T534=\"\",\"\",'入力シート（確認・工事届）'!T534)","v":""},null,null,null,")"]
[null,"【ハ.】",null,null,"(",{"$f":"IF('入力シート（確認・工事届）'!E535=\"\",\"\",'入力シート（確認・工事届）'!E535)","v":""},null,null,null,")","(",{"$f":"IF('入力シート（確認・工事届）'!K535=\"\",\"\",'入力シート（確認・工事届）'!K535)","v":""},null,null,null,null,null,null,null,null,null,")","(",{"$f":"IF('入力シート（確認・工事届）'!T535=\"\",\"\",'入力シート（確認・工事届）'!T535)","v":""},null,null,null,")"]
[null,"【ニ.】",null,null,"(",{"$f":"IF('入力シート（確認・工事届）'!E536=\"\",\"\",'入力シート（確認・工事届）'!E536)","v":""},null,null,null,")","(",{"$f":"IF('入力シート（確認・工事届）'!K536=\"\",\"\",'入力シート（確認・工事届）'!K536)","v":""},null,null,null,null,null,null,null,null,null,")","(",{"$f":"IF('入力シート（確認・工事届）'!T536=\"\",\"\",'入力シート（確認・工事届）'!T536)","v":""},null,null,null,")"]
[null,"【ホ.】",null,null,"(",{"$f":"IF('入力シート（確認・工事届）'!E537=\"\",\"\",'入力シート（確認・工事届）'!E537)","v":""},null,null,null,")","(",{"$f":"IF('入力シート（確認・工事届）'!K537=\"\",\"\",'入力シート（確認・工事届）'!K537)","v":""},null,null,null,null,null,null,null,null,null,")","(",{"$f":"IF('入力シート（確認・工事届）'!T537=\"\",\"\",'入力シート（確認・工事届）'!T537)","v":""},null,null,null,")"]
[null,"【ヘ.】",null,null,"(",{"$f":"IF('入力シート（確認・工事届）'!E538=\"\",\"\",'入力シート（確認・工事届）'!E538)","v":""},null,null,null,")","(",{"$f":"IF('入力シート（確認・工事届）'!K538=\"\",\"\",'入力シート（確認・工事届）'!K538)","v":""},null,null,null,null,null,null,null,null,null,")","(",{"$f":"IF('入力シート（確認・工事届）'!T538=\"\",\"\",'入力シート（確認・工事届）'!T538)","v":""},null,null,null,")"]
["【８.その他必要な事項】"]
[null,{"$f":"'入力シート（確認・工事届）'!B541","v":0}]
[]
["【９.備考】"]
[null,{"$f":"'入力シート（確認・工事届）'!B545","v":0}]
[]
[]
[]
[]
[]
[]
[]
[]
["建築物の階別概要"]
["【１.番号】",null,null,null,null,null,null,{"$f":"IF('入力シート（確認・工事届）'!B550=\"\",\"\",'入力シート（確認・工事届）'!B550)","v":""}]
["【２.階】",null,null,null,null,null,null,{"$f":"IF('入力シート（確認・工事届）'!C553=\"\",\"\",'入力シート（確認・工事届）'!B553&'入力シート（確認・工事届）'!C553)","v":""}]
["【３.柱の小径】",null,null,null,null,null,null,"",{"$f":"IF('入力シート（確認・工事届）'!B556=\"\",\"\",ROUNDDOWN('入力シート（確認・工事届）'!B556,0))","v":""},null,null,"mm "]
["【４.横架材間の垂直距離】",null,null,null,null,null,null,null,{"$f":"IF('入力シート（確認・工事届）'!B559=\"\",\"\",'入力シート（確認・工事届）'!B559)","v":""},null,null,"mm "]
["【５.階の高さ】",null,null,null,null,null,null,null,{"$f":"IF('入力シート（確認・工事届）'!B562=\"\",\"\",'入力シート（確認・工事届）'!B562)","v":""},null,null,"mm "]
["【６.天井】"]
[null,"【イ.居室の天井の高さ】",null,null,null,null,null,null,null,null,{"$f":"IF('入力シート（確認・工事届）'!K565=\"\",\"\",ROUNDDOWN('入力シート（確認・工事届）'!K565,0))","v":""},null,null,"ｍｍ"]
[null,"【ロ.建築基準法施行令第39条第3項に規定する特定天井】",null,null,null,null,null,null,null,null,null,null,null,null,null,null,null,null,{"$f":"IF('入力シート（確認・工事届）'!AD566=TRUE,\"■\",IF('入力シート（確認・工事届）'!AD566=FALSE,\"□\"))","v":"□"},"有",null,{"$f":"IF('入力シート（確認・工事届）'!AE566=TRUE,\"■\",IF('入力シート（確認・工事届）'!AE566=FALSE,\"□\"))","v":"□"},"無"]
["【７.用途別床面積】"]
[null,null,null,null,"(","用途の区分",null,null,null,")","(","具体的な用途の名称",null,null,null,null,null,null,null,null,null,")","(","床面積",null,null,null,")"]
[null,"【イ.】",null,null,"(",{"$f":"IF('入力シート（確認・工事届）'!E570=\"\",\"\",'入力シート（確認・工事届）'!E570)","v":""},null,null,null,")","(",{"$f":"IF('入力シート（確認・工事届）'!K570=\"\",\"\",'入力シート（確認・工事届）'!K570)","v":""},null,null,null,null,null,null,null,null,null,")","(",{"$f":"IF('入力シート（確認・工事届）'!T570=\"\",\"\",'入力シート（確認・工事届）'!T570)","v":""},null,null,null,")"]
[null,"【ロ.】",null,null,"(",{"$f":"IF('入力シート（確認・工事届）'!E571=\"\",\"\",'入力シート（確認・工事届）'!E571)","v":""},null,null,null,")","(",{"$f":"IF('入力シート（確認・工事届）'!K571=\"\",\"\",'入力シート（確認・工事届）'!K571)","v":""},null,null,null,null,null,null,null,null,null,")","(",{"$f":"IF('入力シート（確認・工事届）'!T571=\"\",\"\",'入力シート（確認・工事届）'!T571)","v":""},null,null,null,")"]
[null,"【ハ.】",null,null,"(",{"$f":"IF('入力シート（確認・工事届）'!E572=\"\",\"\",'入力シート（確認・工事届）'!E572)","v":""},null,null,null,")","(",{"$f":"IF('入力シート（確認・工事届）'!K572=\"\",\"\",'入力シート（確認・工事届）'!K572)","v":""},null,null,null,null,null,null,null,null,null,")","(",{"$f":"IF('入力シート（確認・工事届）'!T572=\"\",\"\",'入力シート（確認・工事届）'!T572)","v":""},null,null,null,")"]
[null,"【ニ.】",null,null,"(",{"$f":"IF('入力シート（確認・工事届）'!E573=\"\",\"\",'入力シート（確認・工事届）'!E573)","v":""},null,null,null,")","(",{"$f":"IF('入力シート（確認・工事届）'!K573=\"\",\"\",'入力シート（確認・工事届）'!K573)","v":""},null,null,null,null,null,null,null,null,null,")","(",{"$f":"IF('入力シート（確認・工事届）'!T573=\"\",\"\",'入力シート（確認・工事届）'!T573)","v":""},null,null,null,")"]
[null,"【ホ.】",null,null,"(",{"$f":"IF('入力シート（確認・工事届）'!E574=\"\",\"\",'入力シート（確認・工事届）'!E574)","v":""},null,null,null,")","(",{"$f":"IF('入力シート（確認・工事届）'!K574=\"\",\"\",'入力シート（確認・工事届）'!K574)","v":""},null,null,null,null,null,null,null,null,null,")","(",{"$f":"IF('入力シート（確認・工事届）'!T574=\"\",\"\",'入力シート（確認・工事届）'!T574)","v":""},null,null,null,")"]
[null,"【ヘ.】",null,null,"(",{"$f":"IF('入力シート（確認・工事届）'!E575=\"\",\"\",'入力シート（確認・工事届）'!E575)","v":""},null,null,null,")","(",{"$f":"IF('入力シート（確認・工事届）'!K575=\"\",\"\",'入力シート（確認・工事届）'!K575)","v":""},null,null,null,null,null,null,null,null,null,")","(",{"$f":"IF('入力シート（確認・工事届）'!T575=\"\",\"\",'入力シート（確認・工事届）'!T575)","v":""},null,null,null,")"]
["【８.その他必要な事項】"]
[null,{"$f":"'入力シート（確認・工事届）'!B578","v":0}]
[]
["【９.備考】"]
[null,{"$f":"'入力シート（確認・工事届）'!B582","v":0}]
[]
[]
["（第六面）"]
["建築物独立部分別概要"]
["【１.番号】",null,null,null,null,null,null,{"$f":"IF('入力シート（確認・工事届）'!B588=\"\",\"\",'入力シート（確認・工事届）'!B588)","v":""}]
["【２.延べ面積】",null,null,null,null,null,null,null,null,null,{"$f":"IF('入力シート（確認・工事届）'!B591=\"\",\"\",'入力シート（確認・工事届）'!B591)","v":""}]
["【３.建築物の高さ等】"]
[null,"【イ.最高の高さ】",null,null,null,null,null,null,null,null,{"$f":"IF('入力シート（確認・工事届）'!I594=\"\",\"\",ROUNDUP('入力シート（確認・工事届）'!I594,3))","v":""}]
[null,"【ロ.最高の軒の高さ】",null,null,null,null,null,null,null,null,{"$f":"IF('入力シート（確認・工事届）'!I595=\"\",\"\",ROUNDUP('入力シート（確認・工事届）'!I595,3))","v":""}]
[null,"【ハ.階数】",null,null,null,null,null,null,null,"地上（",{"$f":"IF('入力シート（確認・工事届）'!K596=\"\",\"\",'入力シート（確認・工事届）'!K596)","v":""},null,null,"）",null,"地下（",{"$f":"IF('入力シート（確認・工事届）'!P596=\"\",\"\",'入力シート（確認・工事届）'!P596)","v":""},null,null,"）"]
[null,"【ニ.構造】",null,null,null,null,null,null,{"$f":"IF('入力シート（確認・工事届）'!I597=\"\",\"\",'入力シート（確認・工事届）'!I597)","v":""},null,null,null,null,null,null,"一部",null,{"$f":"IF('入力シート（確認・工事届）'!R597=\"\",\"\",'入力シート（確認・工事届）'!R597)","v":""}]
["【４.特定構造計算基準又は特定増改築構造計算基準の別】"]
[null,{"$f":"IF('入力シート（確認・工事届）'!AD600=TRUE,\"■\",IF('入力シート（確認・工事届）'!AD600=FALSE,\"□\"))","v":"□"},"特定構造計算基準"]
[null,{"$f":"IF('入力シート（確認・工事届）'!AD601=TRUE,\"■\",IF('入力シート（確認・工事届）'!AD601=FALSE,\"□\"))","v":"□"},"特定増改築構造計算基準"]
["【５.構造計算の区分】"]
[null,{"$f":"IF('入力シート（確認・工事届）'!AD604=TRUE,\"■\",IF('入力シート（確認・工事届）'!AD604=FALSE,\"□\"))","v":"□"},"建築基準法施行令第８１条第１項各号に掲げる基準に従つた構造計算"]
[null,{"$f":"IF('入力シート（確認・工事届）'!AD605=TRUE,\"■\",IF('入力シート（確認・工事届）'!AD605=FALSE,\"□\"))","v":"□"},"建築基準法施行令第８１条第２項第１号イに掲げる構造計算"]
[null,{"$f":"IF('入力シート（確認・工事届）'!AD606=TRUE,\"■\",IF('入力シート（確認・工事届）'!AD606=FALSE,\"□\"))","v":"□"},"建築基準法施行令第８１条第２項第１号ロに掲げる構造計算"]
[null,{"$f":"IF('入力シート（確認・工事届）'!AD607=TRUE,\"■\",IF('入力シート（確認・工事届）'!AD607=FALSE,\"□\"))","v":"□"},"建築基準法施行令第８１条第２項第２号イに掲げる構造計算"]
[null,{"$f":"IF('入力シート（確認・工事届）'!AD608=TRUE,\"■\",IF('入力シート（確認・工事届）'!AD608=FALSE,\"□\"))","v":"□"},"建築基準法施行令第８１条第３項に掲げる構造計算"]
["【６.構造計算に用いたプログラム】"]
[null,"【イ.名称】",null,null,null,{"$f":"'入力シート（確認・工事届）'!G611","v":0}]
[null,"【ロ.区分】"]
[null,null,{"$f":"IF('入力シート（確認・工事届）'!AD613=TRUE,\"■\",IF('入力シート（確認・工事届）'!AD613=FALSE,\"□\"))","v":"□"},"建築基準法第２０条第１項第２号イ又は第３号イの認定を受けたプログラム"]
[null,null,null,"(","大臣認定番号",null,null,null,{"$f":"IF('入力シート（確認・工事届）'!I614=\"\",\"\",'入力シート（確認・工事届）'!I614)","v":""},null,null,null,null,null,null,")"]
[null,null,{"$f":"IF('入力シート（確認・工事届）'!AD615=TRUE,\"■\",IF('入力シート（確認・工事届）'!AD615=FALSE,\"□\"))","v":"□"},"その他のプログラム"]
["【７.建築基準法施行令第１３７条の２各号に定める基準の区分】"]
[null,null,"(",{"$f":"'入力シート（確認・工事届）'!D618","v":0},null,null,null,null,null,null,")"]
["【８.備考】"]
[null,{"$f":"'入力シート（確認・工事届）'!B621","v":0}]

{"sheet":"★中間検査申請書","index":10,"n_rows":248,"n_cols":27,"rows_kept":248,"cut":false,"hidden":false,"merged":[[209,9,209,19],[2,22,2,27],[217,10,217,16],[28,0,28,4],[28,5,28,9],[28,10,28,13],[28,14,28,17],[17,17,17,26],[18,17,18,26],[8,11,8,13],[6,7,7,17],[5,20,5,27],[8,21,8,27],[11,0,11,27],[28,18,28,27],[20,17,20,26],[9,21,9,27],[6,20,6,27],[53,0,53,26],[56,8,56,26],[57,8,57,26],[59,8,59,13],[60,8,60,26],[29,0,33,4],[72,8,72,26],[29,18,29,27],[58,8,58,26],[52,23,52,27],[52,12,52,20],[73,8,73,26],[61,8,61,15],[63,8,63,26],[64,8,64,26],[65,8,65,26],[66,8,66,26],[29,5,33,9],[29,10,33,13],[29,14,33,17],[31,18,31,27],[30,18,30,27],[32,18,33,27],[67,8,67,13],[68,8,68,26],[69,8,69,15],[79,9,79,24],[82,8,82,26],[83,8,83,26],[84,8,84,26],[85,8,85,26],[74,8,74,26],[75,8,75,26],[76,8,76,13],[77,8,77,26],[78,8,78,15],[92,8,92,26],[93,8,93,26],[94,8,94,26],[95,8,95,13],[96,8,96,26],[86,8,86,13],[87,8,87,26],[88,8,88,15],[89,9,89,24],[91,8,91,26],[103,8,103,26],[104,8,104,13],[105,8,105,26],[106,8,106,15],[107,9,107,24],[97,8,97,15],[98,9,98,24],[100,8,100,26],[101,8,101,26],[102,8,102,26],[117,8,117,26],[118,8,118,15],[122,8,122,26],[123,8,123,26],[124,8,124,26],[112,8,112,26],[113,8,113,26],[114,8,114,26],[115,8,115,26],[116,8,116,13],[119,10,119,24],[132,8,132,26],[133,8,133,26],[134,8,134,26],[135,8,135,13],[136,8,136,26],[125,8,125,26],[126,8,126,13],[127,8,127,26],[128,8,128,15],[131,8,131,26],[129,10,129,24],[155,8,155,15],[157,10,157,26],[143,8,143,26],[144,8,144,13],[145,8,145,26],[146,8,146,15],[151,8,151,26],[137,8,137,15],[140,8,140,26],[141,8,141,26],[142,8,142,26],[138,10,138,24],[147,10,147,24],[156,8,156,15],[152,8,152,26],[153,8,153,13],[154,8,154,26],[246,0,246,4],[244,0,244,4],[242,0,242,4],[229,8,229,26],[234,0,234,26],[236,9,236,13],[236,14,236,16],[236,17,236,19],[236,20,236,24],[231,1,233,26],[239,20,239,24],[239,25,239,27],[242,20,242,24],[242,25,242,27],[243,25,243,27],[244,5,244,8],[244,9,244,13],[244,14,244,16],[240,0,240,4],[238,0,238,4],[236,0,236,4],[239,5,239,8],[241,5,241,8],[243,5,243,8],[191,1,193,26],[198,2,201,26],[203,2,203,26],[205,18,205,23],[247,0,247,4],[237,0,237,4],[237,25,237,27],[237,20,237,24],[245,0,245,4],[245,5,245,8],[245,9,245,13],[245,14,245,16],[245,17,245,19],[243,0,243,4],[243,9,243,13],[243,14,243,16],[243,17,243,19],[243,20,243,24],[241,0,241,4],[241,9,241,13],[241,14,241,16],[241,17,241,19],[241,20,241,24],[239,0,239,4],[186,8,186,26],[173,10,173,26],[175,8,175,26],[240,9,240,13],[240,14,240,16],[240,17,240,19],[240,20,240,24],[240,25,240,27],[238,25,238,27],[239,9,239,13],[239,14,239,16],[236,25,236,27],[228,11,228,26],[215,10,215,26],[187,8,187,13],[188,8,188,26],[189,8,189,15],[194,0,194,26],[179,8,179,15],[181,10,181,26],[184,8,184,26],[185,8,185,26],[180,8,180,15],[208,20,208,25],[159,8,159,26],[160,8,160,26],[161,8,161,13],[162,8,162,26],[163,8,163,15],[176,8,176,26],[177,8,177,13],[178,8,178,26],[165,10,165,26],[167,8,167,26],[168,8,168,26],[169,8,169,13],[170,8,170,26],[171,8,171,15],[164,8,164,15],[172,8,172,15],[0,11,0,16],[0,18,0,27],[247,5,247,8],[247,9,247,13],[247,14,247,16],[247,17,247,19],[247,20,247,24],[247,25,247,27],[245,20,245,24],[245,25,245,27],[246,5,246,8],[246,9,246,13],[246,14,246,16],[246,17,246,19],[246,20,246,24],[246,25,246,27],[244,17,244,19],[244,20,244,24],[244,25,244,27],[237,17,237,19],[237,14,237,16],[237,9,237,13],[237,5,237,8],[238,5,238,8],[241,25,241,27],[242,5,242,8],[242,9,242,13],[242,14,242,16],[242,17,242,19],[239,17,239,19],[240,5,240,8],[211,9,211,26],[238,20,238,24],[238,9,238,13],[238,14,238,16],[238,17,238,19],[236,5,236,8],[219,10,219,26],[220,10,220,26],[221,10,221,26],[224,10,224,26]]}
["印刷用シート　「★中間検査申請書」",null,null,null,null,null,null,null,null,null,null,"シート構成に戻る",null,null,null,null,null,null,"入力シート（中間・完了）に戻る"]
[]
[null,null,null,null,null,null,null,null,null,null,null,null,null,null,null,null,null,null,null,null,null,"検査希望日",{"$f":"IF(OR('入力シート（中間・完了）'!K8=\"\",'入力シート（中間・完了）'!M8=\"\",'入力シート（中間・完了）'!O8=\"\"),\"\",\"Ｒ\"&'入力シート（中間・完了）'!K8&\"/\"&'入力シート（中間・完了）'!M8&\"/\"&'入力シート（中間・完了）'!O8)","v":""}]
["C-２３号様式（第四条の八、第四条の十一の二関係）"]
[null,null,null,null,null,null,null,null,null,null,null,null,null,null,null,null,null,null,null,"　担当者名"]
[null,null,null,null,null,null,null,null,null,null,null,null,null,null,null,null,null,null,null,null,{"$f":"'入力シート（中間・完了）'!I11","v":0}]
[null,null,null,null,null,null,null,"中間検査申請書",null,null,null,null,null,null,null,null,null,null,null,null,{"$f":"'入力シート（中間・完了）'!I12","v":0}]
[null,null,null,null,null,null,null,null,null,null,null,null,null,null,null,null,null,null,null,"連絡先℡"]
[null,null,null,null,null,null,null,null,null,null,null,"（第一面）",null,null,null,null,null,null,null,"　会社",null,{"$f":"'入力シート（中間・完了）'!I13","v":0}]
[null,null,null,null,null,null,null,null,null,null,null,null,null,null,null,null,null,null,null,"　携帯",null,{"$f":"'入力シート（中間・完了）'!I14","v":0}]
[]
["　建築基準法第７条の３第１項又は第７条の４第１項（これらの規定を同法第８７条の４又は第８８条第１項において準用する場合を含む。）の規定により、検査を申請します。申請にあたっては、一般財団法人愛知県建築住宅センター確認検査業務約款を遵守します。又、この申請書及び添付図書に記載の事項は、事実に相違ありません。"]
[]
["一般財団法人　愛知県建築住宅センター"]
["　　　理事長　海田　肇　様"]
[null,null,null,null,null,null,null,null,null,null,null,null,null,null,null,null,null,null,null,"令和",{"$f":"'入力シート（中間・完了）'!K17","v":0},"年",{"$f":"'入力シート（中間・完了）'!M17","v":0},"月",{"$f":"'入力シート（中間・完了）'!O17","v":0},"日"]
[]
[null,null,null,null,null,null,null,null,null,null,null,null,"申請者氏名",null,null,null,null,{"$f":"'入力シート（確認・工事届）'!I9","v":0}]
[null,null,null,null,null,null,null,null,null,null,null,null,null,null,null,null,null,{"$f":"'入力シート（確認・工事届）'!I10","v":0}]
["第四面に記載の事項は、事実に相違ありません。"]
[null,null,null,null,null,null,null,null,null,null,null,null,"工事監理者氏名",null,null,null,null,{"$f":"'入力シート（確認・工事届）'!I143","v":0}]
[]
[]
["【検査を申請する建築物等】"]
[null,"■","建築物",null,null,null,null,null,null,null,null,null,null,null,"□","建築設備（昇降機）"]
[null,"□","建築設備（昇降機以外）",null,null,null,null,null,null,null,null,null,null,null,"□","工作物（昇降機）"]
[null,"□","工作物（法第８８条第１項）"]
[]
["※受付欄",null,null,null,null,"※検査の特例欄",null,null,null,null,"※検査欄",null,null,null,"※決裁欄",null,null,null,"※中間検査合格証欄"]
[null,null,null,null,null,null,null,null,null,null,null,null,null,null,null,null,null,null,"令和　　　　　年　　　　　月　　　　　日　　"]
[null,null,null,null,null,null,null,null,null,null,null,null,null,null,null,null,null,null,{"$f":"'入力シート（中間・完了）'!O2","v":"第Ｒ"}]
[null,null,null,null,null,null,null,null,null,null,null,null,null,null,null,null,null,null,"確合建築愛建住セ　　　　　　 　号"]
[null,null,null,null,null,null,null,null,null,null,null,null,null,null,null,null,null,null," 係員氏名"]
[]
[]
["※中間検査結果報告欄"]
["　　検査年月日　　　　　　　：　令和　　　年　　　月　　　日"]
["　　検査に関する特記事項"]
[]
[]
[]
[]
[]
[]
[]
["　　　委任状　　：　　有　・　無"]
["　　　検査結果　　　：　　　合格　　　・　　　不合格　　　　　　　確認検査員氏名　　："]
[]
["　（注）検査に関する特記事項の記載は裏面も使用できます。"]
[]
["※合格証受領方法：",null,null,null,null,null,"□郵送",null,null,"建築主　　・　　代理者　　・　　設計者　　・　　施工者"]
[null,null,null,null,null,null,"□手渡し",null,null,"受取日",null,null,"令和　　　年　　　月　　　日"]
[null,null,null,null,null,null,null,null,null,"会社名",null,null,null,null,null,null,null,null,null,null,null,"名前"]
["（第二面）"]
["建築主、設置者又は築造主等の概要"]
["【１.建築主、設置者又は築造主】"]
[null,"【イ.氏名のフリガナ】",null,null,null,null,null,null,{"$f":"'入力シート（確認・工事届）'!I22","v":0}]
[null,"【ロ.氏名】",null,null,null,null,null,null,{"$f":"'入力シート（確認・工事届）'!I23","v":0}]
[null,null,null,null,null,null,null,null,{"$f":"'入力シート（確認・工事届）'!I24","v":0}]
[null,"【ハ.郵便番号】",null,null,null,null,null,null,{"$f":"'入力シート（確認・工事届）'!I25","v":0}]
[null,"【ニ.住所】",null,null,null,null,null,null,{"$f":"'入力シート（確認・工事届）'!I26","v":0}]
[null,"【ホ.電話番号】",null,null,null,null,null,null,{"$f":"'入力シート（確認・工事届）'!I27","v":0}]
["【２.代理者】"]
[null,"【イ.資格】",null,null,null,null,null,null,{"$f":"IF('入力シート（確認・工事届）'!$J$30=\"\",\"（　　　　）建築士　　（　　　　）登録第　　　　　　　号\",CONCATENATE(\"(　\",'入力シート（確認・工事届）'!$J$30,\"　)\",\"建築士　　\", \"（\",'入力シート（確認・工事届）'!$P$30,\"　）\",\"登録　第　\",'入力シート（確認・工事届）'!$W$30,\"　号\"))","v":"（　　　　）建築士　　（　　　　）登録第　　　　　　　号"}]
[null,"【ロ.氏名】",null,null,null,null,null,null,{"$f":"'入力シート（確認・工事届）'!I31","v":0}]
[null,"【ハ.建築士事務所名】",null,null,null,null,null,null,{"$f":"IF('入力シート（確認・工事届）'!$J$32=\"\",\"（　　　　）建築士事務所　　（　　　　）知事登録　第　　　　　号\",CONCATENATE(\"(　\",'入力シート（確認・工事届）'!$J$32,\"　)\",\"建築士事務所　　\",\"（　\",'入力シート（確認・工事届）'!$Q$32,\"　）\",\"知事登録第　\",'入力シート（確認・工事届）'!$X$32,\"　号\"))","v":"（　　　　）建築士事務所　　（　　　　）知事登録　第　　　　　号"}]
[null,null,null,null,null,null,null,null,{"$f":"'入力シート（確認・工事届）'!I33","v":0}]
[null,"【ニ.郵便番号】",null,null,null,null,null,null,{"$f":"'入力シート（確認・工事届）'!I34","v":0}]
[null,"【ホ.所在地】",null,null,null,null,null,null,{"$f":"'入力シート（確認・工事届）'!I35","v":0}]
[null,"【ヘ.電話番号】",null,null,null,null,null,null,{"$f":"'入力シート（確認・工事届）'!I36","v":0}]
["【３.設計者】"]
[null,"（代表となる設計者）"]
[null,"【イ.資格】",null,null,null,null,null,null,{"$f":"IF('入力シート（確認・工事届）'!$J$41=\"\",\"（　　　　）建築士　　（　　　　）登録第　　　　　　　号\",CONCATENATE(\"(　\",'入力シート（確認・工事届）'!$J$41,\"　)\",\"建築士　　\", \"（\",'入力シート（確認・工事届）'!$P$41,\"　）\",\"登録　第　\",'入力シート（確認・工事届）'!$W$41,\"　号\"))","v":"（　　　　）建築士　　（　　　　）登録第　　　　　　　号"}]
[null,"【ロ.氏名】",null,null,null,null,null,null,{"$f":"'入力シート（確認・工事届）'!I42","v":0}]
[null,"【ハ.建築士事務所名】",null,null,null,null,null,null,{"$f":"IF('入力シート（確認・工事届）'!$J$43=\"\",\"（　　　　）建築士事務所　　（　　　　）知事登録　第　　　　　号\",CONCATENATE(\"(　\",'入力シート（確認・工事届）'!$J$43,\"　)\",\"建築士事務所　　\",\"（　\",'入力シート（確認・工事届）'!$Q$43,\"　）\",\"知事登録第　\",'入力シート（確認・工事届）'!$X$43,\"　号\"))","v":"（　　　　）建築士事務所　　（　　　　）知事登録　第　　　　　号"}]
[null,null,null,null,null,null,null,null,{"$f":"'入力シート（確認・工事届）'!I44","v":0}]
[null,"【ニ.郵便番号】",null,null,null,null,null,null,{"$f":"'入力シート（確認・工事届）'!I45","v":0}]
[null,"【ホ.所在地】",null,null,null,null,null,null,{"$f":"'入力シート（確認・工事届）'!I46","v":0}]
[null,"【ヘ.電話番号】",null,null,null,null,null,null,{"$f":"'入力シート（確認・工事届）'!I47","v":0}]
[null,"【ト.作成した設計図書】",null,null,null,null,null,null,null,{"$f":"'入力シート（確認・工事届）'!I49","v":0}]
[]
[null,"（その他の設計者）"]
[null,"【イ.資格】",null,null,null,null,null,null,{"$f":"IF('入力シート（確認・工事届）'!$J$52=\"\",\"（　　　　）建築士　　（　　　　）登録第　　　　　　　号\",CONCATENATE(\"(　\",'入力シート（確認・工事届）'!$J$52,\"　)\",\"建築士　　\", \"（\",'入力シート（確認・工事届）'!$P$52,\"　）\",\"登録　第　\",'入力シート（確認・工事届）'!$W$52,\"　号\"))","v":"（　　　　）建築士　　（　　　　）登録第　　　　　　　号"}]
[null,"【ロ.氏名】",null,null,null,null,null,null,{"$f":"'入力シート（確認・工事届）'!I53","v":0}]
[null,"【ハ.建築士事務所名】",null,null,null,null,null,null,{"$f":"IF('入力シート（確認・工事届）'!$J$54=\"\",\"（　　　　）建築士事務所　　（　　　　）知事登録　第　　　　　号\",CONCATENATE(\"(　\",'入力シート（確認・工事届）'!$J$54,\"　)\",\"建築士事務所　　\",\"（　\",'入力シート（確認・工事届）'!$Q$54,\"　）\",\"知事登録第　\",'入力シート（確認・工事届）'!$X$54,\"　号\"))","v":"（　　　　）建築士事務所　　（　　　　）知事登録　第　　　　　号"}]
[null,null,null,null,null,null,null,null,{"$f":"'入力シート（確認・工事届）'!I55","v":0}]
[null,"【ニ.郵便番号】",null,null,null,null,null,null,{"$f":"'入力シート（確認・工事届）'!I56","v":0}]
[null,"【ホ.所在地】",null,null,null,null,null,null,{"$f":"'入力シート（確認・工事届）'!I57","v":0}]
[null,"【ヘ.電話番号】",null,null,null,null,null,null,{"$f":"'入力シート（確認・工事届）'!I58","v":0}]
[null,"【ト.作成した設計図書】",null,null,null,null,null,null,null,{"$f":"'入力シート（確認・工事届）'!I60","v":0}]
[]
[null,"【イ.資格】",null,null,null,null,null,null,{"$f":"IF('入力シート（確認・工事届）'!$J$62=\"\",\"（　　　　）建築士　　（　　　　）登録第　　　　　　　号\",CONCATENATE(\"(　\",'入力シート（確認・工事届）'!$J$62,\"　)\",\"建築士　　\", \"（\",'入力シート（確認・工事届）'!$P$62,\"　）\",\"登録　第　\",'入力シート（確認・工事届）'!$W$62,\"　号\"))","v":"（　　　　）建築士　　（　　　　）登録第　　　　　　　号"}]
[null,"【ロ.氏名】",null,null,null,null,null,null,{"$f":"'入力シート（確認・工事届）'!I63","v":0}]
[null,"【ハ.建築士事務所名】",null,null,null,null,null,null,{"$f":"IF('入力シート（確認・工事届）'!$J$64=\"\",\"（　　　　）建築士事務所　　（　　　　）知事登録　第　　　　　号\",CONCATENATE(\"(　\",'入力シート（確認・工事届）'!$J$64,\"　)\",\"建築士事務所　　\",\"（　\",'入力シート（確認・工事届）'!$Q$64,\"　）\",\"知事登録第　\",'入力シート（確認・工事届）'!$X$64,\"　号\"))","v":"（　　　　）建築士事務所　　（　　　　）知事登録　第　　　　　号"}]
[null,null,null,null,null,null,null,null,{"$f":"'入力シート（確認・工事届）'!I65","v":0}]
[null,"【ニ.郵便番号】",null,null,null,null,null,null,{"$f":"'入力シート（確認・工事届）'!I66","v":0}]
[null,"【ホ.所在地】",null,null,null,null,null,null,{"$f":"'入力シート（確認・工事届）'!I67","v":0}]
[null,"【ヘ.電話番号】",null,null,null,null,null,null,{"$f":"'入力シート（確認・工事届）'!I68","v":0}]
[null,"【ト.作成した設計図書】",null,null,null,null,null,null,null,{"$f":"'入力シート（確認・工事届）'!I70","v":0}]
[]
[null,"【イ.資格】",null,null,null,null,null,null,{"$f":"IF('入力シート（確認・工事届）'!$J$72=\"\",\"（　　　　）建築士　　（　　　　）登録第　　　　　　　号\",CONCATENATE(\"(　\",'入力シート（確認・工事届）'!$J$72,\"　)\",\"建築士　　\", \"（\",'入力シート（確認・工事届）'!$P$72,\"　）\",\"登録　第　\",'入力シート（確認・工事届）'!$W$72,\"　号\"))","v":"（　　　　）建築士　　（　　　　）登録第　　　　　　　号"}]
[null,"【ロ.氏名】",null,null,null,null,null,null,{"$f":"'入力シート（確認・工事届）'!I73","v":0}]
[null,"【ハ.建築士事務所名】",null,null,null,null,null,null,{"$f":"IF('入力シート（確認・工事届）'!$J$74=\"\",\"（　　　　）建築士事務所　　（　　　　）知事登録　第　　　　　号\",CONCATENATE(\"(　\",'入力シート（確認・工事届）'!$J$74,\"　)\",\"建築士事務所　　\",\"（　\",'入力シート（確認・工事届）'!$Q$74,\"　）\",\"知事登録第　\",'入力シート（確認・工事届）'!$X$74,\"　号\"))","v":"（　　　　）建築士事務所　　（　　　　）知事登録　第　　　　　号"}]
[null,null,null,null,null,null,null,null,{"$f":"'入力シート（確認・工事届）'!I75","v":0}]
[null,"【ニ.郵便番号】",null,null,null,null,null,null,{"$f":"'入力シート（確認・工事届）'!I76","v":0}]
[null,"【ホ.所在地】",null,null,null,null,null,null,{"$f":"'入力シート（確認・工事届）'!I77","v":0}]
[null,"【ヘ.電話番号】",null,null,null,null,null,null,{"$f":"'入力シート（確認・工事届）'!I78","v":0}]
[null,"【ト.作成した設計図書】",null,null,null,null,null,null,null,{"$f":"'入力シート（確認・工事届）'!I80","v":0}]
[]
[]
["【４.工事監理者】"]
[null,"（代表となる工事監理者）"]
[null,"【イ.資格】",null,null,null,null,null,null,{"$f":"IF('入力シート（確認・工事届）'!$J$142=\"\",\"（　　　　）建築士　　（　　　　）登録第　　　　　　　号\",CONCATENATE(\"(　\",'入力シート（確認・工事届）'!$J$142,\"　)\",\"建築士　　\", \"（\",'入力シート（確認・工事届）'!$P$142,\"　）\",\"登録　第　\",'入力シート（確認・工事届）'!$W$142,\"　号\"))","v":"（　　　　）建築士　　（　　　　）登録第　　　　　　　号"}]
[null,"【ロ.氏名】",null,null,null,null,null,null,{"$f":"'入力シート（確認・工事届）'!I143","v":0}]
[null,"【ハ.建築士事務所名】",null,null,null,null,null,null,{"$f":"IF('入力シート（確認・工事届）'!$J$144=\"\",\"（　　　　）建築士事務所　　（　　　　）知事登録　第　　　　　号\",CONCATENATE(\"(　\",'入力シート（確認・工事届）'!$J$144,\"　)\",\"建築士事務所　　\",\"（　\",'入力シート（確認・工事届）'!$Q$144,\"　）\",\"知事登録第　\",'入力シート（確認・工事届）'!$X$144,\"　号\"))","v":"（　　　　）建築士事務所　　（　　　　）知事登録　第　　　　　号"}]
[null,null,null,null,null,null,null,null,{"$f":"'入力シート（確認・工事届）'!I145","v":0}]
[null,"【ニ.郵便番号】",null,null,null,null,null,null,{"$f":"'入力シート（確認・工事届）'!I146","v":0}]
[null,"【ホ.所在地】",null,null,null,null,null,null,{"$f":"'入力シート（確認・工事届）'!I147","v":0}]
[null,"【ヘ.電話番号】",null,null,null,null,null,null,{"$f":"'入力シート（確認・工事届）'!I148","v":0}]
[null,"【ト.工事と照合した設計図書】",null,null,null,null,null,null,null,null,{"$f":"'入力シート（確認・工事届）'!I149","v":0}]
[]
[null,"（その他の工事監理者）"]
[null,"【イ.資格】",null,null,null,null,null,null,{"$f":"IF('入力シート（確認・工事届）'!$J$152=\"\",\"（　　　　）建築士　　（　　　　）登録第　　　　　　　号\",CONCATENATE(\"(　\",'入力シート（確認・工事届）'!$J$152,\"　)\",\"建築士　　\", \"（\",'入力シート（確認・工事届）'!$P$152,\"　）\",\"登録　第　\",'入力シート（確認・工事届）'!$W$152,\"　号\"))","v":"（　　　　）建築士　　（　　　　）登録第　　　　　　　号"}]
[null,"【ロ.氏名】",null,null,null,null,null,null,{"$f":"'入力シート（確認・工事届）'!I153","v":0}]
[null,"【ハ.建築士事務所名】",null,null,null,null,null,null,{"$f":"IF('入力シート（確認・工事届）'!$J$154=\"\",\"（　　　　）建築士事務所　　（　　　　）知事登録　第　　　　　号\",CONCATENATE(\"(　\",'入力シート（確認・工事届）'!$J$154,\"　)\",\"建築士事務所　　\",\"（　\",'入力シート（確認・工事届）'!$Q$154,\"　）\",\"知事登録第　\",'入力シート（確認・工事届）'!$X$154,\"　号\"))","v":"（　　　　）建築士事務所　　（　　　　）知事登録　第　　　　　号"}]
[null,null,null,null,null,null,null,null,{"$f":"'入力シート（確認・工事届）'!I155","v":0}]
[null,"【ニ.郵便番号】",null,null,null,null,null,null,{"$f":"'入力シート（確認・工事届）'!I156","v":0}]
[null,"【ホ.所在地】",null,null,null,null,null,null,{"$f":"'入力シート（確認・工事届）'!I157","v":0}]
[null,"【ヘ.電話番号】",null,null,null,null,null,null,{"$f":"'入力シート（確認・工事届）'!I158","v":0}]
[null,"【ト.工事と照合した設計図書】",null,null,null,null,null,null,null,null,{"$f":"'入力シート（確認・工事届）'!I159","v":0}]
[]
[null,"【イ.資格】",null,null,null,null,null,null,{"$f":"IF('入力シート（確認・工事届）'!$J$161=\"\",\"（　　　　）建築士　　（　　　　）登録第　　　　　　　号\",CONCATENATE(\"(　\",'入力シート（確認・工事届）'!$J$161,\"　)\",\"建築士　　\", \"（\",'入力シート（確認・工事届）'!$P$161,\"　）\",\"登録　第　\",'入力シート（確認・工事届）'!$W$161,\"　号\"))","v":"（　　　　）建築士　　（　　　　）登録第　　　　　　　号"}]
[null,"【ロ.氏名】",null,null,null,null,null,null,{"$f":"'入力シート（確認・工事届）'!I162","v":0}]
[null,"【ハ.建築士事務所名】",null,null,null,null,null,null,{"$f":"IF('入力シート（確認・工事届）'!$J$163=\"\",\"（　　　　）建築士事務所　　（　　　　）知事登録　第　　　　　号\",CONCATENATE(\"(　\",'入力シート（確認・工事届）'!$J$163,\"　)\",\"建築士事務所　　\",\"（　\",'入力シート（確認・工事届）'!$Q$163,\"　）\",\"知事登録第　\",'入力シート（確認・工事届）'!$X$163,\"　号\"))","v":"（　　　　）建築士事務所　　（　　　　）知事登録　第　　　　　号"}]
[null,null,null,null,null,null,null,null,{"$f":"'入力シート（確認・工事届）'!I164","v":0}]
[null,"【ニ.郵便番号】",null,null,null,null,null,null,{"$f":"'入力シート（確認・工事届）'!I165","v":0}]
[null,"【ホ.所在地】",null,null,null,null,null,null,{"$f":"'入力シート（確認・工事届）'!I166","v":0}]
[null,"【ヘ.電話番号】",null,null,null,null,null,null,{"$f":"'入力シート（確認・工事届）'!I167","v":0}]
[null,"【ト.工事と照合した設計図書】",null,null,null,null,null,null,null,null,{"$f":"'入力シート（確認・工事届）'!I168","v":0}]
[]
[null,"【イ.資格】",null,null,null,null,null,null,{"$f":"IF('入力シート（確認・工事届）'!$J$170=\"\",\"（　　　　）建築士　　（　　　　）登録第　　　　　　　号\",CONCATENATE(\"(　\",'入力シート（確認・工事届）'!$J$170,\"　)\",\"建築士　　\", \"（\",'入力シート（確認・工事届）'!$P$170,\"　）\",\"登録　第　\",'入力シート（確認・工事届）'!$W$170,\"　号\"))","v":"（　　　　）建築士　　（　　　　）登録第　　　　　　　号"}]
[null,"【ロ.氏名】",null,null,null,null,null,null,{"$f":"'入力シート（確認・工事届）'!I171","v":0}]
[null,"【ハ.建築士事務所名】",null,null,null,null,null,null,{"$f":"IF('入力シート（確認・工事届）'!$J$172=\"\",\"（　　　　）建築士事務所　　（　　　　）知事登録　第　　　　　号\",CONCATENATE(\"(　\",'入力シート（確認・工事届）'!$J$172,\"　)\",\"建築士事務所　　\",\"（　\",'入力シート（確認・工事届）'!$Q$172,\"　）\",\"知事登録第　\",'入力シート（確認・工事届）'!$X$172,\"　号\"))","v":"（　　　　）建築士事務所　　（　　　　）知事登録　第　　　　　号"}]
[null,null,null,null,null,null,null,null,{"$f":"'入力シート（確認・工事届）'!I173","v":0}]
[null,"【ニ.郵便番号】",null,null,null,null,null,null,{"$f":"'入力シート（確認・工事届）'!I174","v":0}]
[null,"【ホ.所在地】",null,null,null,null,null,null,{"$f":"'入力シート（確認・工事届）'!I175","v":0}]
[null,"【ヘ.電話番号】",null,null,null,null,null,null,{"$f":"'入力シート（確認・工事届）'!I176","v":0}]
[null,"【ト.工事と照合した設計図書】",null,null,null,null,null,null,null,null,{"$f":"'入力シート（確認・工事届）'!I177","v":0}]
[]
["【５.建築設備の工事監理に関し意見を聴いた者】"]
[null,"（代表となる建築設備の工事監理に関し意見を聴いた者）"]
[null,"【イ.氏名】",null,null,null,null,null,null,{"$f":"'入力シート（確認・工事届）'!I107","v":0}]
[null,"【ロ.勤務先】",null,null,null,null,null,null,{"$f":"'入力シート（確認・工事届）'!I108","v":0}]
[null,"【ハ.郵便番号】",null,null,null,null,null,null,{"$f":"'入力シート（確認・工事届）'!I109","v":0}]
[null,"【ニ.所在地】",null,null,null,null,null,null,{"$f":"'入力シート（確認・工事届）'!I110","v":0}]
[null,"【ホ.電話番号】",null,null,null,null,null,null,{"$f":"'入力シート（確認・工事届）'!I111","v":0}]
[null,"【ヘ.登録番号】",null,null,null,null,null,null,{"$f":"'入力シート（確認・工事届）'!I112","v":0}]
[null,"【ト.意見を聴いた設計図書】",null,null,null,null,null,null,null,null,{"$f":"'入力シート（確認・工事届）'!I113","v":0}]
[null,"（その他の建築設備の工事監理に関し意見を聴いた者）"]
[null,"【イ.氏名】",null,null,null,null,null,null,{"$f":"'入力シート（確認・工事届）'!I116","v":0}]
[null,"【ロ.勤務先】",null,null,null,null,null,null,{"$f":"'入力シート（確認・工事届）'!I117","v":0}]
[null,"【ハ.郵便番号】",null,null,null,null,null,null,{"$f":"'入力シート（確認・工事届）'!I118","v":0}]
[null,"【ニ.所在地】",null,null,null,null,null,null,{"$f":"'入力シート（確認・工事届）'!I119","v":0}]
[null,"【ホ.電話番号】",null,null,null,null,null,null,{"$f":"'入力シート（確認・工事届）'!I120","v":0}]
[null,"【ヘ.登録番号】",null,null,null,null,null,null,{"$f":"'入力シート（確認・工事届）'!I121","v":0}]
[null,"【ト.意見を聴いた設計図書】",null,null,null,null,null,null,null,null,{"$f":"'入力シート（確認・工事届）'!I122","v":0}]
[]
[null,"【イ.氏名】",null,null,null,null,null,null,{"$f":"'入力シート（確認・工事届）'!I124","v":0}]
[null,"【ロ.勤務先】",null,null,null,null,null,null,{"$f":"'入力シート（確認・工事届）'!I125","v":0}]
[null,"【ハ.郵便番号】",null,null,null,null,null,null,{"$f":"'入力シート（確認・工事届）'!I126","v":0}]
[null,"【ニ.所在地】",null,null,null,null,null,null,{"$f":"'入力シート（確認・工事届）'!I127","v":0}]
[null,"【ホ.電話番号】",null,null,null,null,null,null,{"$f":"'入力シート（確認・工事届）'!I128","v":0}]
[null,"【ヘ.登録番号】",null,null,null,null,null,null,{"$f":"'入力シート（確認・工事届）'!I129","v":0}]
[null,"【ト.意見を聴いた設計図書】",null,null,null,null,null,null,null,null,{"$f":"'入力シート（確認・工事届）'!I130","v":0}]
[]
[null,"【イ.氏名】",null,null,null,null,null,null,{"$f":"'入力シート（確認・工事届）'!I132","v":0}]
[null,"【ロ.勤務先】",null,null,null,null,null,null,{"$f":"'入力シート（確認・工事届）'!I133","v":0}]
[null,"【ハ.郵便番号】",null,null,null,null,null,null,{"$f":"'入力シート（確認・工事届）'!I134","v":0}]
[null,"【ニ.所在地】",null,null,null,null,null,null,{"$f":"'入力シート（確認・工事届）'!I135","v":0}]
[null,"【ホ.電話番号】",null,null,null,null,null,null,{"$f":"'入力シート（確認・工事届）'!I136","v":0}]
[null,"【ヘ.登録番号】",null,null,null,null,null,null,{"$f":"'入力シート（確認・工事届）'!I137","v":0}]
[null,"【ト.意見を聴いた設計図書】",null,null,null,null,null,null,null,null,{"$f":"'入力シート（確認・工事届）'!I138","v":0}]
[]
["【６.工事施工者】"]
[null,"【イ.氏名】",null,null,null,null,null,null,{"$f":"'入力シート（確認・工事届）'!I180","v":0}]
[null,"【ロ.営業所名】",null,null,null,null,null,null,{"$f":"IF('入力シート（確認・工事届）'!$N$181=\"\",\"建設業の許可（　　　　　　　）　第　　　　　　　　　号\",CONCATENATE(\"建設業の許可（　\",'入力シート（確認・工事届）'!$N$181,\"　）　　第　\",'入力シート（確認・工事届）'!$T$181,\"　号\"))","v":"建設業の許可（　　　　　　　）　第　　　　　　　　　号"}]
[null,null,null,null,null,null,null,null,{"$f":"'入力シート（確認・工事届）'!I182","v":0}]
[null,"【ハ.郵便番号】",null,null,null,null,null,null,{"$f":"'入力シート（確認・工事届）'!I183","v":0}]
[null,"【ニ.所在地】",null,null,null,null,null,null,{"$f":"'入力シート（確認・工事届）'!I184","v":0}]
[null,"【ホ.電話番号】",null,null,null,null,null,null,{"$f":"'入力シート（確認・工事届）'!I185","v":0}]
["【７.備考】"]
[null,{"$f":"'入力シート（中間・完了）'!B75","v":0}]
[]
[]
["（第三面）"]
["申請する工事の概要"]
["【１．建築場所、設置場所又は築造場所】"]
[null,"【イ．地名地番】",null,null,null,null,0]
[null,null,{"$f":"'入力シート（確認・工事届）'!B228","v":0}]
[]
[]
[]
[null,"【ロ．","住居表示】",null,null,null,0]
[null,null,{"$f":"'入力シート（確認・工事届）'!B234","v":0}]
["【２．工事種別】"]
[null,"【イ．建築基準法施行令第10条各号に掲げる建築物の区分】",null,null,null,null,null,null,null,null,null,null,null,null,null,null,null,"第",{"$f":"IF('入力シート（確認・工事届）'!Y396=\"\",\"\",'入力シート（確認・工事届）'!Y396)","v":""},null,null,null,null,null,"号"]
[null,"【ロ．工事種別】",null,null,null,null,{"$f":"IF('入力シート（確認・工事届）'!AD270=TRUE,\"■\",IF('入力シート（確認・工事届）'!AD270=FALSE,\"□\"))","v":"□"},"新築",null,null,{"$f":"IF('入力シート（確認・工事届）'!AE270=TRUE,\"■\",IF('入力シート（確認・工事届）'!AE270=FALSE,\"□\"))","v":"□"},"増築",null,null,{"$f":"IF('入力シート（確認・工事届）'!AF270=TRUE,\"■\",IF('入力シート（確認・工事届）'!AF270=FALSE,\"□\"))","v":"□"},"改築",null,null,{"$f":"IF('入力シート（確認・工事届）'!AG270=TRUE,\"■\",IF('入力シート（確認・工事届）'!AG270=FALSE,\"□\"))","v":"□"},"移転"]
[null,null,null,null,null,null,{"$f":"IF('入力シート（確認・工事届）'!AI270=TRUE,\"■\",IF('入力シート（確認・工事届）'!AI270=FALSE,\"□\"))","v":"□"},"大規模の修繕",null,null,null,null,{"$f":"IF('入力シート（確認・工事届）'!AJ270=TRUE,\"■\",IF('入力シート（確認・工事届）'!AJ270=FALSE,\"□\"))","v":"□"},"大規模の模様替",null,null,null,null,null,"□","建築設備の設置"]
[null,"【ハ．建築基準法第68条の20第２項の検査の特例に係る認証番号】",null,null,null,null,null,null,null,null,null,null,null,null,null,null,null,null,null,"第",{"$f":"IF('入力シート（中間・完了）'!U35=\"\",\"\",'入力シート（中間・完了）'!U35)","v":""},null,null,null,null,null,"号"]
["【３．確認済証番号】",null,null,null,null,null,null,null,null,{"$f":"IF('入力シート（中間・完了）'!Q2=\"\",\"\",'入力シート（中間・完了）'!O2&'入力シート（中間・完了）'!Q2&'入力シート（中間・完了）'!R2&'入力シート（中間・完了）'!X2)","v":""},null,null,null,null,null,null,null,null,null,null,"号"]
["【４．確認済証交付年月日】",null,null,null,null,null,null,null,null,{"$f":"'入力シート（中間・完了）'!O3","v":"令和"},{"$f":"'入力シート（中間・完了）'!Q3","v":0},"年",{"$f":"'入力シート（中間・完了）'!S3","v":0},"月",{"$f":"'入力シート（中間・完了）'!U3","v":0},"日"]
["【５．確認済証交付者】",null,null,null,null,null,null,null,null,{"$f":"'入力シート（中間・完了）'!O4","v":""}]
["【６．工事着手年月日】",null,null,null,null,null,null,null,null,{"$f":"'入力シート（中間・完了）'!J44","v":"令和"},{"$f":"'入力シート（中間・完了）'!L44","v":0},"年",{"$f":"'入力シート（中間・完了）'!N44","v":0},"月",{"$f":"'入力シート（中間・完了）'!P44","v":0},"日"]
["【７．工事完了予定年月日】",null,null,null,null,null,null,null,null,"令和",{"$f":"'入力シート（中間・完了）'!L47","v":0},"年",{"$f":"'入力シート（中間・完了）'!N47","v":0},"月",{"$f":"'入力シート（中間・完了）'!P47","v":0},"日"]
["【８．特定工程】"]
[null,"【イ．特定工程】",null,null,null,null,null,null,null,null,{"$f":"IF('入力シート（中間・完了）'!K51=\"\",\"\",'入力シート（中間・完了）'!K51)","v":""}]
[null,"【ロ．特定工程工事終了（予定）年月日】",null,null,null,null,null,null,null,null,null,null,"令和",{"$f":"'入力シート（中間・完了）'!L53","v":0},"年",{"$f":"'入力シート（中間・完了）'!N53","v":0},"月",{"$f":"'入力シート（中間・完了）'!P53","v":0},"日"]
[null,"【ハ．検査対象床面積】",null,null,null,null,null,null,null,null,{"$f":"IF('入力シート（中間・完了）'!K54=\"\",\"\",'入力シート（中間・完了）'!K54)","v":""}]
["【９．今回申請以前の中間検査】",null,null,null,null,null,null,null,null,"（","第",null,{"$f":"'入力シート（中間・完了）'!L57","v":0},null,"回","）"]
[null,"【イ．特定工程】",null,null,null,null,null,null,null,null,{"$f":"IF('入力シート（中間・完了）'!K58=\"\",\"\",'入力シート（中間・完了）'!K58)","v":""}]
[null,"【ロ．中間検査合格証交付者】",null,null,null,null,null,null,null,null,{"$f":"IF('入力シート（中間・完了）'!K60=\"\",\"\",'入力シート（中間・完了）'!K60)","v":""}]
[null,"【ハ．中間検査合格証番号】",null,null,null,null,null,null,null,null,{"$f":"IF('入力シート（中間・完了）'!K61=\"\",\"\",'入力シート（中間・完了）'!K61)","v":""}]
[null,"【ニ．交付年月日】",null,null,null,null,null,null,null,null,null,{"$f":"'入力シート（中間・完了）'!K62","v":"令和"},{"$f":"'入力シート（中間・完了）'!M62","v":0},"年",{"$f":"'入力シート（中間・完了）'!O62","v":0},"月",{"$f":"'入力シート（中間・完了）'!Q62","v":0},"日"]
["【１０．今回申請以降の中間検査】",null,null,null,null,null,null,null,null,"（","第",null,{"$f":"'入力シート（中間・完了）'!L65","v":0},null,"回","）"]
[null,"【イ．特定工程】",null,null,null,null,null,null,null,null,{"$f":"IF('入力シート（中間・完了）'!K66=\"\",\"\",'入力シート（中間・完了）'!K66)","v":""}]
[null,"【ロ．特定工程工事終了予定年月日】",null,null,null,null,null,null,null,null,null,"令和",{"$f":"'入力シート（中間・完了）'!M68","v":0},"年",{"$f":"'入力シート（中間・完了）'!O68","v":0},"月",{"$f":"'入力シート（中間・完了）'!Q68","v":0},"日"]
[]
["【１１.確認以降の軽微な変更の概要】"]
[null,"【イ．","変更された設計図書の種類】",null,null,null,null,null,null,null,null,{"$f":"'入力シート（中間・完了）'!L71","v":0}]
[null,"【ロ．","変更の概要】",null,null,null,null,null,{"$f":"'入力シート（中間・完了）'!I72","v":0}]
["【１２.備考】"]
[null,{"$f":"'入力シート（中間・完了）'!B75","v":0}]
[]
[]
["（第四面）"]
["工事監理の状況"]
[null,null,null,null,null,"確認を行った部位・材料の種類等",null,null,null,"照合内容",null,null,null,null,"照合を行った設計図書",null,null,"設計図書の内容について設計者に確認した事項",null,null,"照合方法",null,null,null,null,"　 照合結果\n（不適の場合には建築主に対して行った報告の内容）"]
["敷地の形状、高さ、衛生及び安全",null,null,null,null,{"$f":"'入力シート（中間・完了）'!F152","v":0},null,null,null,{"$f":"'入力シート（中間・完了）'!J152","v":0},null,null,null,null,{"$f":"'入力シート（中間・完了）'!O152","v":0},null,null,{"$f":"'入力シート（中間・完了）'!R152","v":0},null,null,{"$f":"'入力シート（中間・完了）'!U152","v":0},null,null,null,null,{"$f":"'入力シート（中間・完了）'!Z152","v":0}]
["主要構造部及び主要構造部以外の構造耐力上主要な部分に用いる材料（接合材料を含む）の種類、品質、形状及び寸法",null,null,null,null,{"$f":"'入力シート（中間・完了）'!F153","v":0},null,null,null,{"$f":"'入力シート（中間・完了）'!J153","v":0},null,null,null,null,{"$f":"'入力シート（中間・完了）'!O153","v":0},null,null,{"$f":"'入力シート（中間・完了）'!R153","v":0},null,null,{"$f":"'入力シート（中間・完了）'!U153","v":0},null,null,null,null,{"$f":"'入力シート（中間・完了）'!Z153","v":0}]
["主要構造部及び主要構造部以外の構造耐力上主要な部分に用いる材料の接合状況、接合部分の形状等",null,null,null,null,{"$f":"'入力シート（中間・完了）'!F154","v":0},null,null,null,{"$f":"'入力シート（中間・完了）'!J154","v":0},null,null,null,null,{"$f":"'入力シート（中間・完了）'!O154","v":0},null,null,{"$f":"'入力シート（中間・完了）'!R154","v":0},null,null,{"$f":"'入力シート（中間・完了）'!U154","v":0},null,null,null,null,{"$f":"'入力シート（中間・完了）'!Z154","v":0}]
["建築物の各部分の位置、形状及び大きさ",null,null,null,null,{"$f":"'入力シート（中間・完了）'!F155","v":0},null,null,null,{"$f":"'入力シート（中間・完了）'!J155","v":0},null,null,null,null,{"$f":"'入力シート（中間・完了）'!O155","v":0},null,null,{"$f":"'入力シート（中間・完了）'!R155","v":0},null,null,{"$f":"'入力シート（中間・完了）'!U155","v":0},null,null,null,null,{"$f":"'入力シート（中間・完了）'!Z155","v":0}]
["構造耐力上主要な部分の防錆、防腐及び防蟻措置及び状況",null,null,null,null,{"$f":"'入力シート（中間・完了）'!F156","v":0},null,null,null,{"$f":"'入力シート（中間・完了）'!J156","v":0},null,null,null,null,{"$f":"'入力シート（中間・完了）'!O156","v":0},null,null,{"$f":"'入力シート（中間・完了）'!R156","v":0},null,null,{"$f":"'入力シート（中間・完了）'!U156","v":0},null,null,null,null,{"$f":"'入力シート（中間・完了）'!Z156","v":0}]
["特定天井に用いる材料の種類並びに当該特定天井の構造及び施工状況",null,null,null,null,{"$f":"'入力シート（中間・完了）'!F157","v":0},null,null,null,{"$f":"'入力シート（中間・完了）'!J157","v":0},null,null,null,null,{"$f":"'入力シート（中間・完了）'!O157","v":0},null,null,{"$f":"'入力シート（中間・完了）'!R157","v":0},null,null,{"$f":"'入力シート（中間・完了）'!U157","v":0},null,null,null,null,{"$f":"'入力シート（中間・完了）'!Z157","v":0}]
["居室の内装の仕上げに用いる建築材料の種別及び当該建築材料を用いる部分の面積",null,null,null,null,{"$f":"'入力シート（中間・完了）'!F158","v":0},null,null,null,{"$f":"'入力シート（中間・完了）'!J158","v":0},null,null,null,null,{"$f":"'入力シート（中間・完了）'!O158","v":0},null,null,{"$f":"'入力シート（中間・完了）'!R158","v":0},null,null,{"$f":"'入力シート（中間・完了）'!U158","v":0},null,null,null,null,{"$f":"'入力シート（中間・完了）'!Z158","v":0}]
["天井及び壁の室内に面する部分に係る仕上げの材料の種別及び厚さ",null,null,null,null,{"$f":"'入力シート（中間・完了）'!F159","v":0},null,null,null,{"$f":"'入力シート（中間・完了）'!J159","v":0},null,null,null,null,{"$f":"'入力シート（中間・完了）'!O159","v":0},null,null,{"$f":"'入力シート（中間・完了）'!R159","v":0},null,null,{"$f":"'入力シート（中間・完了）'!U159","v":0},null,null,null,null,{"$f":"'入力シート（中間・完了）'!Z159","v":0}]
["開口部に設ける建具の種類及び大きさ",null,null,null,null,{"$f":"'入力シート（中間・完了）'!F160","v":0},null,null,null,{"$f":"'入力シート（中間・完了）'!J160","v":0},null,null,null,null,{"$f":"'入力シート（中間・完了）'!O160","v":0},null,null,{"$f":"'入力シート（中間・完了）'!R160","v":0},null,null,{"$f":"'入力シート（中間・完了）'!U160","v":0},null,null,null,null,{"$f":"'入力シート（中間・完了）'!Z160","v":0}]
["建築設備に用いる材料の種類及びその照合した内容並びに当該建築設備の構造及び施工状況（区画貫通部の処理状況を含む。）",null,null,null,null,{"$f":"'入力シート（中間・完了）'!F161","v":0},null,null,null,{"$f":"'入力シート（中間・完了）'!J161","v":0},null,null,null,null,{"$f":"'入力シート（中間・完了）'!O161","v":0},null,null,{"$f":"'入力シート（中間・完了）'!R161","v":0},null,null,{"$f":"'入力シート（中間・完了）'!U161","v":0},null,null,null,null,{"$f":"'入力シート（中間・完了）'!Z161","v":0}]
["備考",null,null,null,null,{"$f":"'入力シート（中間・完了）'!F162","v":0},null,null,null,{"$f":"'入力シート（中間・完了）'!J162","v":0},null,null,null,null,{"$f":"'入力シート（中間・完了）'!O162","v":0},null,null,{"$f":"'入力シート（中間・完了）'!R162","v":0},null,null,{"$f":"'入力シート（中間・完了）'!U162","v":0},null,null,null,null,{"$f":"'入力シート（中間・完了）'!Z162","v":0}]

{"sheet":"★完了検査申請書","index":11,"n_rows":247,"n_cols":27,"rows_kept":247,"cut":false,"hidden":false,"merged":[[222,10,222,26],[223,10,223,26],[216,11,216,12],[221,11,221,12],[219,10,219,26],[224,10,224,26],[2,22,2,27],[6,7,7,17],[5,20,5,27],[8,11,8,13],[8,21,8,27],[9,21,9,27],[6,20,6,27],[61,8,61,15],[63,8,63,26],[64,8,64,26],[65,8,65,26],[66,8,66,26],[67,8,67,13],[53,0,53,26],[56,8,56,26],[57,8,57,26],[58,8,58,26],[59,8,59,13],[29,0,33,4],[29,5,33,9],[29,10,33,13],[29,14,33,17],[29,18,29,27],[30,18,30,27],[31,18,31,27],[32,18,33,27],[11,0,11,27],[17,17,17,26],[18,17,18,26],[20,17,20,26],[28,0,28,4],[28,5,28,9],[28,10,28,13],[28,14,28,17],[28,18,28,27],[84,8,84,26],[85,8,85,26],[86,8,86,13],[87,8,87,26],[88,8,88,15],[89,9,89,24],[60,8,60,26],[76,8,76,13],[77,8,77,26],[78,8,78,15],[79,9,79,24],[82,8,82,26],[83,8,83,26],[68,8,68,26],[69,8,69,15],[72,8,72,26],[73,8,73,26],[74,8,74,26],[75,8,75,26],[97,8,97,15],[98,9,98,24],[100,8,100,26],[101,8,101,26],[102,8,102,26],[103,8,103,26],[91,8,91,26],[92,8,92,26],[93,8,93,26],[94,8,94,26],[95,8,95,13],[96,8,96,26],[114,8,114,26],[115,8,115,26],[116,8,116,13],[117,8,117,26],[118,8,118,15],[119,10,119,24],[104,8,104,13],[105,8,105,26],[106,8,106,15],[107,9,107,24],[112,8,112,26],[113,8,113,26],[128,8,128,15],[129,10,129,24],[131,8,131,26],[132,8,132,26],[133,8,133,26],[134,8,134,26],[122,8,122,26],[123,8,123,26],[124,8,124,26],[125,8,125,26],[126,8,126,13],[127,8,127,26],[142,8,142,26],[143,8,143,26],[144,8,144,13],[145,8,145,26],[146,8,146,15],[147,10,147,24],[135,8,135,13],[136,8,136,26],[137,8,137,15],[138,10,138,24],[140,8,140,26],[141,8,141,26],[157,10,157,26],[159,8,159,26],[160,8,160,26],[161,8,161,13],[162,8,162,26],[163,8,163,15],[151,8,151,26],[152,8,152,26],[153,8,153,13],[154,8,154,26],[155,8,155,15],[156,8,156,15],[185,8,185,26],[171,8,171,15],[173,10,173,26],[175,8,175,26],[176,8,176,26],[177,8,177,13],[172,8,172,15],[164,8,164,15],[165,10,165,26],[167,8,167,26],[168,8,168,26],[169,8,169,13],[170,8,170,26],[227,11,227,26],[228,8,228,26],[230,1,232,26],[233,0,233,26],[235,0,235,4],[235,5,235,8],[235,9,235,13],[235,14,235,16],[235,17,235,19],[235,20,235,24],[235,25,235,27],[236,0,236,4],[236,5,236,8],[236,9,236,13],[236,14,236,16],[236,17,236,19],[236,20,236,24],[236,25,236,27],[237,25,237,27],[238,0,238,4],[238,5,238,8],[238,9,238,13],[238,14,238,16],[238,17,238,19],[238,20,238,24],[238,25,238,27],[237,0,237,4],[237,5,237,8],[237,9,237,13],[237,14,237,16],[237,17,237,19],[237,20,237,24],[239,25,239,27],[240,0,240,4],[240,5,240,8],[240,9,240,13],[240,14,240,16],[240,17,240,19],[240,20,240,24],[240,25,240,27],[239,0,239,4],[239,5,239,8],[239,9,239,13],[239,14,239,16],[239,17,239,19],[239,20,239,24],[241,25,241,27],[242,0,242,4],[242,5,242,8],[242,9,242,13],[242,14,242,16],[242,17,242,19],[242,20,242,24],[242,25,242,27],[241,0,241,4],[241,5,241,8],[241,9,241,13],[241,14,241,16],[241,17,241,19],[241,20,241,24],[243,25,243,27],[244,0,244,4],[244,5,244,8],[244,9,244,13],[244,14,244,16],[244,17,244,19],[244,20,244,24],[244,25,244,27],[243,0,243,4],[243,5,243,8],[243,9,243,13],[243,14,243,16],[243,17,243,19],[243,20,243,24],[245,25,245,27],[246,0,246,4],[246,5,246,8],[246,9,246,13],[246,14,246,16],[246,17,246,19],[246,20,246,24],[246,25,246,27],[245,0,245,4],[245,5,245,8],[245,9,245,13],[245,14,245,16],[245,17,245,19],[245,20,245,24],[52,23,52,27],[52,12,52,20],[0,11,0,16],[0,18,0,27],[217,10,217,26],[218,10,218,26],[211,9,211,26],[198,2,201,26],[203,2,203,26],[205,18,205,23],[208,20,208,25],[209,10,209,19],[214,9,214,15],[186,8,186,26],[187,8,187,13],[188,8,188,26],[189,8,189,15],[191,1,193,26],[194,0,194,26],[178,8,178,26],[179,8,179,15],[180,8,180,15],[181,10,181,26],[184,8,184,26]]}
["印刷用シート　「★完了検査申請書」",null,null,null,null,null,null,null,null,null,null,"シート構成に戻る",null,null,null,null,null,null,"入力シート（中間・完了）に戻る"]
[]
[null,null,null,null,null,null,null,null,null,null,null,null,null,null,null,null,null,null,null,null,null,"検査希望日",{"$f":"IF(OR('入力シート（中間・完了）'!K81=\"\",'入力シート（中間・完了）'!M81=\"\",'入力シート（中間・完了）'!O81=\"\"),\"\",\"R\"&'入力シート（中間・完了）'!K81&\"/\"&'入力シート（中間・完了）'!M81&\"/\"&'入力シート（中間・完了）'!O81)","v":""}]
["C-31号様式（第四条、第四条の四の二関係）"]
[null,null,null,null,null,null,null,null,null,null,null,null,null,null,null,null,null,null,null,"　担当者名"]
[null,null,null,null,null,null,null,null,null,null,null,null,null,null,null,null,null,null,null,null,{"$f":"'入力シート（中間・完了）'!I84","v":0}]
[null,null,null,null,null,null,null,"完了検査申請書",null,null,null,null,null,null,null,null,null,null,null,null,{"$f":"'入力シート（中間・完了）'!I85","v":0}]
[null,null,null,null,null,null,null,null,null,null,null,null,null,null,null,null,null,null,null,"連絡先℡"]
[null,null,null,null,null,null,null,null,null,null,null,"（第一面）",null,null,null,null,null,null,null,"　会社",null,{"$f":"'入力シート（中間・完了）'!I86","v":0}]
[null,null,null,null,null,null,null,null,null,null,null,null,null,null,null,null,null,null,null,"　携帯",null,{"$f":"'入力シート（中間・完了）'!I87","v":0}]
[]
["　建築基準法第７条第１項又は第７条の２第１項（これらの規定を同法第８７条の４又は第８８条第１項若しくは第２項において準用する場合を含む。）の規定により、検査を申請します。申請にあたっては、一般財団法人愛知県建築住宅センター確認検査業務約款を遵守します。又、この申請書及び添付図書に記載の事項は、事実に相違ありません。"]
[]
["一般財団法人　愛知県建築住宅センター"]
["　　　理事長　海田　肇　様"]
[null,null,null,null,null,null,null,null,null,null,null,null,null,null,null,null,null,null,null,"令和",{"$f":"'入力シート（中間・完了）'!K90","v":0},"年",{"$f":"'入力シート（中間・完了）'!M90","v":0},"月",{"$f":"'入力シート（中間・完了）'!O90","v":0},"日"]
[]
[null,null,null,null,null,null,null,null,null,null,null,null,"申請者氏名",null,null,null,null,{"$f":"IF(B25=\"■\",'入力シート（確認・工事届）'!I9)","v":0}]
[null,null,null,null,null,null,null,null,null,null,null,null,null,null,null,null,null,{"$f":"'入力シート（確認・工事届）'!I10","v":0}]
["第四面に記載の事項は、事実に相違ありません。"]
[null,null,null,null,null,null,null,null,null,null,null,null,"工事監理者氏名",null,null,null,null,{"$f":"'入力シート（確認・工事届）'!I143","v":0}]
[]
[]
["【検査を申請する建築物等】"]
[null,"■","建築物",null,null,null,null,null,null,null,null,null,null,null,"□","建築設備（昇降機）"]
[null,"□","建築設備（昇降機以外）",null,null,null,null,null,null,null,null,null,null,null,"□","工作物（昇降機）"]
[null,"□","工作物（法第８８条第１項）",null,null,null,null,null,null,null,null,null,null,null,"□","工作物（法第８８条第２項）"]
[]
["※受付欄",null,null,null,null,"※検査の特例欄",null,null,null,null,"※検査欄",null,null,null,"※決裁欄",null,null,null,"※検査済証欄"]
[null,null,null,null,null,null,null,null,null,null,null,null,null,null,null,null,null,null,"令和　　　　　年　　　　　月　　　　　日　　"]
[null,null,null,null,null,null,null,null,null,null,null,null,null,null,null,null,null,null,{"$f":"'入力シート（中間・完了）'!O2","v":"第Ｒ"}]
[null,null,null,null,null,null,null,null,null,null,null,null,null,null,null,null,null,null,"確済建築愛建住セ　　　　　　 　号"]
[null,null,null,null,null,null,null,null,null,null,null,null,null,null,null,null,null,null," 係員氏名"]
[]
[]
["※完了検査結果報告欄"]
["　　検査年月日　　　　　　　：　令和　　　年　　　月　　　日"]
["　　検査に関する特記事項"]
[]
[]
[]
[]
[]
[]
[]
["　　　委任状　　：　　有　・　無"]
["　　　検査結果　　　：　　　合格　　　・　　　不合格　　　　　　　確認検査員氏名　　："]
[]
["　（注）検査に関する特記事項の記載は裏面も使用できます。"]
[]
["※合格証受領方法：",null,null,null,null,null,"□郵送",null,null,"建築主　　・　　代理者　　・　　設計者　　・　　施工者"]
[null,null,null,null,null,null,"□手渡し",null,null,"受取日",null,null,"令和　　　年　　　月　　　日"]
[null,null,null,null,null,null,null,null,null,"会社名",null,null,null,null,null,null,null,null,null,null,null,"名前"]
["（第二面）"]
["建築主、設置者又は築造主等の概要"]
["【１.建築主、設置者又は築造主】"]
[null,"【イ.氏名のフリガナ】",null,null,null,null,null,null,{"$f":"'入力シート（確認・工事届）'!I22","v":0}]
[null,"【ロ.氏名】",null,null,null,null,null,null,{"$f":"'入力シート（確認・工事届）'!I23","v":0}]
[null,null,null,null,null,null,null,null,{"$f":"'入力シート（確認・工事届）'!I24","v":0}]
[null,"【ハ.郵便番号】",null,null,null,null,null,null,{"$f":"'入力シート（確認・工事届）'!I25","v":0}]
[null,"【ニ.住所】",null,null,null,null,null,null,{"$f":"'入力シート（確認・工事届）'!I26","v":0}]
[null,"【ホ.電話番号】",null,null,null,null,null,null,{"$f":"'入力シート（確認・工事届）'!I27","v":0}]
["【２.代理者】"]
[null,"【イ.資格】",null,null,null,null,null,null,{"$f":"IF('入力シート（確認・工事届）'!$J$30=\"\",\"（　　　　）建築士　　（　　　　）登録第　　　　　　　号\",CONCATENATE(\"(　\",'入力シート（確認・工事届）'!$J$30,\"　)\",\"建築士　　\", \"（\",'入力シート（確認・工事届）'!$P$30,\"　）\",\"登録　第　\",'入力シート（確認・工事届）'!$W$30,\"　号\"))","v":"（　　　　）建築士　　（　　　　）登録第　　　　　　　号"}]
[null,"【ロ.氏名】",null,null,null,null,null,null,{"$f":"'入力シート（確認・工事届）'!I31","v":0}]
[null,"【ハ.建築士事務所名】",null,null,null,null,null,null,{"$f":"IF('入力シート（確認・工事届）'!$J$32=\"\",\"（　　　　）建築士事務所　　（　　　　）知事登録　第　　　　　号\",CONCATENATE(\"(　\",'入力シート（確認・工事届）'!$J$32,\"　)\",\"建築士事務所　　\",\"（　\",'入力シート（確認・工事届）'!$Q$32,\"　）\",\"知事登録第　\",'入力シート（確認・工事届）'!$X$32,\"　号\"))","v":"（　　　　）建築士事務所　　（　　　　）知事登録　第　　　　　号"}]
[null,null,null,null,null,null,null,null,{"$f":"'入力シート（確認・工事届）'!I33","v":0}]
[null,"【ニ.郵便番号】",null,null,null,null,null,null,{"$f":"'入力シート（確認・工事届）'!I34","v":0}]
[null,"【ホ.所在地】",null,null,null,null,null,null,{"$f":"'入力シート（確認・工事届）'!I35","v":0}]
[null,"【ヘ.電話番号】",null,null,null,null,null,null,{"$f":"'入力シート（確認・工事届）'!I36","v":0}]
["【３.設計者】"]
[null,"（代表となる設計者）"]
[null,"【イ.資格】",null,null,null,null,null,null,{"$f":"IF('入力シート（確認・工事届）'!$J$41=\"\",\"（　　　　）建築士　　（　　　　）登録第　　　　　　　号\",CONCATENATE(\"(　\",'入力シート（確認・工事届）'!$J$41,\"　)\",\"建築士　　\", \"（\",'入力シート（確認・工事届）'!$P$41,\"　）\",\"登録　第　\",'入力シート（確認・工事届）'!$W$41,\"　号\"))","v":"（　　　　）建築士　　（　　　　）登録第　　　　　　　号"}]
[null,"【ロ.氏名】",null,null,null,null,null,null,{"$f":"'入力シート（確認・工事届）'!I42","v":0}]
[null,"【ハ.建築士事務所名】",null,null,null,null,null,null,{"$f":"IF('入力シート（確認・工事届）'!$J$43=\"\",\"（　　　　）建築士事務所　　（　　　　）知事登録　第　　　　　号\",CONCATENATE(\"(　\",'入力シート（確認・工事届）'!$J$43,\"　)\",\"建築士事務所　　\",\"（　\",'入力シート（確認・工事届）'!$Q$43,\"　）\",\"知事登録第　\",'入力シート（確認・工事届）'!$X$43,\"　号\"))","v":"（　　　　）建築士事務所　　（　　　　）知事登録　第　　　　　号"}]
[null,null,null,null,null,null,null,null,{"$f":"'入力シート（確認・工事届）'!I44","v":0}]
[null,"【ニ.郵便番号】",null,null,null,null,null,null,{"$f":"'入力シート（確認・工事届）'!I45","v":0}]
[null,"【ホ.所在地】",null,null,null,null,null,null,{"$f":"'入力シート（確認・工事届）'!I46","v":0}]
[null,"【ヘ.電話番号】",null,null,null,null,null,null,{"$f":"'入力シート（確認・工事届）'!I47","v":0}]
[null,"【ト.作成した設計図書】",null,null,null,null,null,null,null,{"$f":"'入力シート（確認・工事届）'!I49","v":0}]
[]
[null,"（その他の設計者）"]
[null,"【イ.資格】",null,null,null,null,null,null,{"$f":"IF('入力シート（確認・工事届）'!$J$52=\"\",\"（　　　　）建築士　　（　　　　）登録第　　　　　　　号\",CONCATENATE(\"(　\",'入力シート（確認・工事届）'!$J$52,\"　)\",\"建築士　　\", \"（\",'入力シート（確認・工事届）'!$P$52,\"　）\",\"登録　第　\",'入力シート（確認・工事届）'!$W$52,\"　号\"))","v":"（　　　　）建築士　　（　　　　）登録第　　　　　　　号"}]
[null,"【ロ.氏名】",null,null,null,null,null,null,{"$f":"'入力シート（確認・工事届）'!I53","v":0}]
[null,"【ハ.建築士事務所名】",null,null,null,null,null,null,{"$f":"IF('入力シート（確認・工事届）'!$J$54=\"\",\"（　　　　）建築士事務所　　（　　　　）知事登録　第　　　　　号\",CONCATENATE(\"(　\",'入力シート（確認・工事届）'!$J$54,\"　)\",\"建築士事務所　　\",\"（　\",'入力シート（確認・工事届）'!$Q$54,\"　）\",\"知事登録第　\",'入力シート（確認・工事届）'!$X$54,\"　号\"))","v":"（　　　　）建築士事務所　　（　　　　）知事登録　第　　　　　号"}]
[null,null,null,null,null,null,null,null,{"$f":"'入力シート（確認・工事届）'!I55","v":0}]
[null,"【ニ.郵便番号】",null,null,null,null,null,null,{"$f":"'入力シート（確認・工事届）'!I56","v":0}]
[null,"【ホ.所在地】",null,null,null,null,null,null,{"$f":"'入力シート（確認・工事届）'!I57","v":0}]
[null,"【ヘ.電話番号】",null,null,null,null,null,null,{"$f":"'入力シート（確認・工事届）'!I58","v":0}]
[null,"【ト.作成した設計図書】",null,null,null,null,null,null,null,{"$f":"'入力シート（確認・工事届）'!I60","v":0}]
[]
[null,"【イ.資格】",null,null,null,null,null,null,{"$f":"IF('入力シート（確認・工事届）'!$J$62=\"\",\"（　　　　）建築士　　（　　　　）登録第　　　　　　　号\",CONCATENATE(\"(　\",'入力シート（確認・工事届）'!$J$62,\"　)\",\"建築士　　\", \"（\",'入力シート（確認・工事届）'!$P$62,\"　）\",\"登録　第　\",'入力シート（確認・工事届）'!$W$62,\"　号\"))","v":"（　　　　）建築士　　（　　　　）登録第　　　　　　　号"}]
[null,"【ロ.氏名】",null,null,null,null,null,null,{"$f":"'入力シート（確認・工事届）'!I63","v":0}]
[null,"【ハ.建築士事務所名】",null,null,null,null,null,null,{"$f":"IF('入力シート（確認・工事届）'!$J$64=\"\",\"（　　　　）建築士事務所　　（　　　　）知事登録　第　　　　　号\",CONCATENATE(\"(　\",'入力シート（確認・工事届）'!$J$64,\"　)\",\"建築士事務所　　\",\"（　\",'入力シート（確認・工事届）'!$Q$64,\"　）\",\"知事登録第　\",'入力シート（確認・工事届）'!$X$64,\"　号\"))","v":"（　　　　）建築士事務所　　（　　　　）知事登録　第　　　　　号"}]
[null,null,null,null,null,null,null,null,{"$f":"'入力シート（確認・工事届）'!I65","v":0}]
[null,"【ニ.郵便番号】",null,null,null,null,null,null,{"$f":"'入力シート（確認・工事届）'!I66","v":0}]
[null,"【ホ.所在地】",null,null,null,null,null,null,{"$f":"'入力シート（確認・工事届）'!I67","v":0}]
[null,"【ヘ.電話番号】",null,null,null,null,null,null,{"$f":"'入力シート（確認・工事届）'!I68","v":0}]
[null,"【ト.作成した設計図書】",null,null,null,null,null,null,null,{"$f":"'入力シート（確認・工事届）'!I70","v":0}]
[]
[null,"【イ.資格】",null,null,null,null,null,null,{"$f":"IF('入力シート（確認・工事届）'!$J$72=\"\",\"（　　　　）建築士　　（　　　　）登録第　　　　　　　号\",CONCATENATE(\"(　\",'入力シート（確認・工事届）'!$J$72,\"　)\",\"建築士　　\", \"（\",'入力シート（確認・工事届）'!$P$72,\"　）\",\"登録　第　\",'入力シート（確認・工事届）'!$W$72,\"　号\"))","v":"（　　　　）建築士　　（　　　　）登録第　　　　　　　号"}]
[null,"【ロ.氏名】",null,null,null,null,null,null,{"$f":"'入力シート（確認・工事届）'!I73","v":0}]
[null,"【ハ.建築士事務所名】",null,null,null,null,null,null,{"$f":"IF('入力シート（確認・工事届）'!$J$74=\"\",\"（　　　　）建築士事務所　　（　　　　）知事登録　第　　　　　号\",CONCATENATE(\"(　\",'入力シート（確認・工事届）'!$J$74,\"　)\",\"建築士事務所　　\",\"（　\",'入力シート（確認・工事届）'!$Q$74,\"　）\",\"知事登録第　\",'入力シート（確認・工事届）'!$X$74,\"　号\"))","v":"（　　　　）建築士事務所　　（　　　　）知事登録　第　　　　　号"}]
[null,null,null,null,null,null,null,null,{"$f":"'入力シート（確認・工事届）'!I75","v":0}]
[null,"【ニ.郵便番号】",null,null,null,null,null,null,{"$f":"'入力シート（確認・工事届）'!I76","v":0}]
[null,"【ホ.所在地】",null,null,null,null,null,null,{"$f":"'入力シート（確認・工事届）'!I77","v":0}]
[null,"【ヘ.電話番号】",null,null,null,null,null,null,{"$f":"'入力シート（確認・工事届）'!I78","v":0}]
[null,"【ト.作成した設計図書】",null,null,null,null,null,null,null,{"$f":"'入力シート（確認・工事届）'!I80","v":0}]
[]
[]
["【４.工事監理者】"]
[null,"（代表となる工事監理者）"]
[null,"【イ.資格】",null,null,null,null,null,null,{"$f":"IF('入力シート（確認・工事届）'!$J$142=\"\",\"（　　　　）建築士　　（　　　　）登録第　　　　　　　号\",CONCATENATE(\"(　\",'入力シート（確認・工事届）'!$J$142,\"　)\",\"建築士　　\", \"（\",'入力シート（確認・工事届）'!$P$142,\"　）\",\"登録　第　\",'入力シート（確認・工事届）'!$W$142,\"　号\"))","v":"（　　　　）建築士　　（　　　　）登録第　　　　　　　号"}]
[null,"【ロ.氏名】",null,null,null,null,null,null,{"$f":"'入力シート（確認・工事届）'!I143","v":0}]
[null,"【ハ.建築士事務所名】",null,null,null,null,null,null,{"$f":"IF('入力シート（確認・工事届）'!$J$144=\"\",\"（　　　　）建築士事務所　　（　　　　）知事登録　第　　　　　号\",CONCATENATE(\"(　\",'入力シート（確認・工事届）'!$J$144,\"　)\",\"建築士事務所　　\",\"（　\",'入力シート（確認・工事届）'!$Q$144,\"　）\",\"知事登録第　\",'入力シート（確認・工事届）'!$X$144,\"　号\"))","v":"（　　　　）建築士事務所　　（　　　　）知事登録　第　　　　　号"}]
[null,null,null,null,null,null,null,null,{"$f":"'入力シート（確認・工事届）'!I145","v":0}]
[null,"【ニ.郵便番号】",null,null,null,null,null,null,{"$f":"'入力シート（確認・工事届）'!I146","v":0}]
[null,"【ホ.所在地】",null,null,null,null,null,null,{"$f":"'入力シート（確認・工事届）'!I147","v":0}]
[null,"【ヘ.電話番号】",null,null,null,null,null,null,{"$f":"'入力シート（確認・工事届）'!I148","v":0}]
[null,"【ト.工事と照合した設計図書】",null,null,null,null,null,null,null,null,{"$f":"'入力シート（確認・工事届）'!I149","v":0}]
[]
[null,"（その他の工事監理者）"]
[null,"【イ.資格】",null,null,null,null,null,null,{"$f":"IF('入力シート（確認・工事届）'!$J$152=\"\",\"（　　　　）建築士　　（　　　　）登録第　　　　　　　号\",CONCATENATE(\"(　\",'入力シート（確認・工事届）'!$J$152,\"　)\",\"建築士　　\", \"（\",'入力シート（確認・工事届）'!$P$152,\"　）\",\"登録　第　\",'入力シート（確認・工事届）'!$W$152,\"　号\"))","v":"（　　　　）建築士　　（　　　　）登録第　　　　　　　号"}]
[null,"【ロ.氏名】",null,null,null,null,null,null,{"$f":"'入力シート（確認・工事届）'!I153","v":0}]
[null,"【ハ.建築士事務所名】",null,null,null,null,null,null,{"$f":"IF('入力シート（確認・工事届）'!$J$154=\"\",\"（　　　　）建築士事務所　　（　　　　）知事登録　第　　　　　号\",CONCATENATE(\"(　\",'入力シート（確認・工事届）'!$J$154,\"　)\",\"建築士事務所　　\",\"（　\",'入力シート（確認・工事届）'!$Q$154,\"　）\",\"知事登録第　\",'入力シート（確認・工事届）'!$X$154,\"　号\"))","v":"（　　　　）建築士事務所　　（　　　　）知事登録　第　　　　　号"}]
[null,null,null,null,null,null,null,null,{"$f":"'入力シート（確認・工事届）'!I155","v":0}]
[null,"【ニ.郵便番号】",null,null,null,null,null,null,{"$f":"'入力シート（確認・工事届）'!I156","v":0}]
[null,"【ホ.所在地】",null,null,null,null,null,null,{"$f":"'入力シート（確認・工事届）'!I157","v":0}]
[null,"【ヘ.電話番号】",null,null,null,null,null,null,{"$f":"'入力シート（確認・工事届）'!I158","v":0}]
[null,"【ト.工事と照合した設計図書】",null,null,null,null,null,null,null,null,{"$f":"'入力シート（確認・工事届）'!I159","v":0}]
[]
[null,"【イ.資格】",null,null,null,null,null,null,{"$f":"IF('入力シート（確認・工事届）'!$J$161=\"\",\"（　　　　）建築士　　（　　　　）登録第　　　　　　　号\",CONCATENATE(\"(　\",'入力シート（確認・工事届）'!$J$161,\"　)\",\"建築士　　\", \"（\",'入力シート（確認・工事届）'!$P$161,\"　）\",\"登録　第　\",'入力シート（確認・工事届）'!$W$161,\"　号\"))","v":"（　　　　）建築士　　（　　　　）登録第　　　　　　　号"}]
[null,"【ロ.氏名】",null,null,null,null,null,null,{"$f":"'入力シート（確認・工事届）'!I162","v":0}]
[null,"【ハ.建築士事務所名】",null,null,null,null,null,null,{"$f":"IF('入力シート（確認・工事届）'!$J$163=\"\",\"（　　　　）建築士事務所　　（　　　　）知事登録　第　　　　　号\",CONCATENATE(\"(　\",'入力シート（確認・工事届）'!$J$163,\"　)\",\"建築士事務所　　\",\"（　\",'入力シート（確認・工事届）'!$Q$163,\"　）\",\"知事登録第　\",'入力シート（確認・工事届）'!$X$163,\"　号\"))","v":"（　　　　）建築士事務所　　（　　　　）知事登録　第　　　　　号"}]
[null,null,null,null,null,null,null,null,{"$f":"'入力シート（確認・工事届）'!I164","v":0}]
[null,"【ニ.郵便番号】",null,null,null,null,null,null,{"$f":"'入力シート（確認・工事届）'!I165","v":0}]
[null,"【ホ.所在地】",null,null,null,null,null,null,{"$f":"'入力シート（確認・工事届）'!I166","v":0}]
[null,"【ヘ.電話番号】",null,null,null,null,null,null,{"$f":"'入力シート（確認・工事届）'!I167","v":0}]
[null,"【ト.工事と照合した設計図書】",null,null,null,null,null,null,null,null,{"$f":"'入力シート（確認・工事届）'!I168","v":0}]
[]
[null,"【イ.資格】",null,null,null,null,null,null,{"$f":"IF('入力シート（確認・工事届）'!$J$170=\"\",\"（　　　　）建築士　　（　　　　）登録第　　　　　　　号\",CONCATENATE(\"(　\",'入力シート（確認・工事届）'!$J$170,\"　)\",\"建築士　　\", \"（\",'入力シート（確認・工事届）'!$P$170,\"　）\",\"登録　第　\",'入力シート（確認・工事届）'!$W$170,\"　号\"))","v":"（　　　　）建築士　　（　　　　）登録第　　　　　　　号"}]
[null,"【ロ.氏名】",null,null,null,null,null,null,{"$f":"'入力シート（確認・工事届）'!I171","v":0}]
[null,"【ハ.建築士事務所名】",null,null,null,null,null,null,{"$f":"IF('入力シート（確認・工事届）'!$J$172=\"\",\"（　　　　）建築士事務所　　（　　　　）知事登録　第　　　　　号\",CONCATENATE(\"(　\",'入力シート（確認・工事届）'!$J$172,\"　)\",\"建築士事務所　　\",\"（　\",'入力シート（確認・工事届）'!$Q$172,\"　）\",\"知事登録第　\",'入力シート（確認・工事届）'!$X$172,\"　号\"))","v":"（　　　　）建築士事務所　　（　　　　）知事登録　第　　　　　号"}]
[null,null,null,null,null,null,null,null,{"$f":"'入力シート（確認・工事届）'!I173","v":0}]
[null,"【ニ.郵便番号】",null,null,null,null,null,null,{"$f":"'入力シート（確認・工事届）'!I174","v":0}]
[null,"【ホ.所在地】",null,null,null,null,null,null,{"$f":"'入力シート（確認・工事届）'!I175","v":0}]
[null,"【ヘ.電話番号】",null,null,null,null,null,null,{"$f":"'入力シート（確認・工事届）'!I176","v":0}]
[null,"【ト.工事と照合した設計図書】",null,null,null,null,null,null,null,null,{"$f":"'入力シート（確認・工事届）'!I177","v":0}]
[]
["【５.建築設備の工事監理に関し意見を聴いた者】"]
[null,"（代表となる建築設備の工事監理に関し意見を聴いた者）"]
[null,"【イ.氏名】",null,null,null,null,null,null,{"$f":"'入力シート（確認・工事届）'!I107","v":0}]
[null,"【ロ.勤務先】",null,null,null,null,null,null,{"$f":"'入力シート（確認・工事届）'!I108","v":0}]
[null,"【ハ.郵便番号】",null,null,null,null,null,null,{"$f":"'入力シート（確認・工事届）'!I109","v":0}]
[null,"【ニ.所在地】",null,null,null,null,null,null,{"$f":"'入力シート（確認・工事届）'!I110","v":0}]
[null,"【ホ.電話番号】",null,null,null,null,null,null,{"$f":"'入力シート（確認・工事届）'!I111","v":0}]
[null,"【ヘ.登録番号】",null,null,null,null,null,null,{"$f":"'入力シート（確認・工事届）'!I112","v":0}]
[null,"【ト.意見を聴いた設計図書】",null,null,null,null,null,null,null,null,{"$f":"'入力シート（確認・工事届）'!I113","v":0}]
[null,"（その他の建築設備の工事監理に関し意見を聴いた者）"]
[null,"【イ.氏名】",null,null,null,null,null,null,{"$f":"'入力シート（確認・工事届）'!I116","v":0}]
[null,"【ロ.勤務先】",null,null,null,null,null,null,{"$f":"'入力シート（確認・工事届）'!I117","v":0}]
[null,"【ハ.郵便番号】",null,null,null,null,null,null,{"$f":"'入力シート（確認・工事届）'!I118","v":0}]
[null,"【ニ.所在地】",null,null,null,null,null,null,{"$f":"'入力シート（確認・工事届）'!I119","v":0}]
[null,"【ホ.電話番号】",null,null,null,null,null,null,{"$f":"'入力シート（確認・工事届）'!I120","v":0}]
[null,"【ヘ.登録番号】",null,null,null,null,null,null,{"$f":"'入力シート（確認・工事届）'!I121","v":0}]
[null,"【ト.意見を聴いた設計図書】",null,null,null,null,null,null,null,null,{"$f":"'入力シート（確認・工事届）'!I122","v":0}]
[]
[null,"【イ.氏名】",null,null,null,null,null,null,{"$f":"'入力シート（確認・工事届）'!I124","v":0}]
[null,"【ロ.勤務先】",null,null,null,null,null,null,{"$f":"'入力シート（確認・工事届）'!I125","v":0}]
[null,"【ハ.郵便番号】",null,null,null,null,null,null,{"$f":"'入力シート（確認・工事届）'!I126","v":0}]
[null,"【ニ.所在地】",null,null,null,null,null,null,{"$f":"'入力シート（確認・工事届）'!I127","v":0}]
[null,"【ホ.電話番号】",null,null,null,null,null,null,{"$f":"'入力シート（確認・工事届）'!I128","v":0}]
[null,"【ヘ.登録番号】",null,null,null,null,null,null,{"$f":"'入力シート（確認・工事届）'!I129","v":0}]
[null,"【ト.意見を聴いた設計図書】",null,null,null,null,null,null,null,null,{"$f":"'入力シート（確認・工事届）'!I130","v":0}]
[]
[null,"【イ.氏名】",null,null,null,null,null,null,{"$f":"'入力シート（確認・工事届）'!I132","v":0}]
[null,"【ロ.勤務先】",null,null,null,null,null,null,{"$f":"'入力シート（確認・工事届）'!I133","v":0}]
[null,"【ハ.郵便番号】",null,null,null,null,null,null,{"$f":"'入力シート（確認・工事届）'!I134","v":0}]
[null,"【ニ.所在地】",null,null,null,null,null,null,{"$f":"'入力シート（確認・工事届）'!I135","v":0}]
[null,"【ホ.電話番号】",null,null,null,null,null,null,{"$f":"'入力シート（確認・工事届）'!I136","v":0}]
[null,"【ヘ.登録番号】",null,null,null,null,null,null,{"$f":"'入力シート（確認・工事届）'!I137","v":0}]
[null,"【ト.意見を聴いた設計図書】",null,null,null,null,null,null,null,null,{"$f":"'入力シート（確認・工事届）'!I138","v":0}]
[]
["【６.工事施工者】"]
[null,"【イ.氏名】",null,null,null,null,null,null,{"$f":"'入力シート（確認・工事届）'!I180","v":0}]
[null,"【ロ.営業所名】",null,null,null,null,null,null,{"$f":"IF('入力シート（確認・工事届）'!$N$181=\"\",\"建設業の許可（　　　　　　　）　第　　　　　　　　　号\",CONCATENATE(\"建設業の許可（　\",'入力シート（確認・工事届）'!$N$181,\"　）　　第　\",'入力シート（確認・工事届）'!$T$181,\"　号\"))","v":"建設業の許可（　　　　　　　）　第　　　　　　　　　号"}]
[null,null,null,null,null,null,null,null,{"$f":"'入力シート（確認・工事届）'!I182","v":0}]
[null,"【ハ.郵便番号】",null,null,null,null,null,null,{"$f":"'入力シート（確認・工事届）'!I183","v":0}]
[null,"【ニ.所在地】",null,null,null,null,null,null,{"$f":"'入力シート（確認・工事届）'!I184","v":0}]
[null,"【ホ.電話番号】",null,null,null,null,null,null,{"$f":"'入力シート（確認・工事届）'!I185","v":0}]
["【７.備考】"]
[null,{"$f":"'入力シート（確認・工事届）'!B195","v":0}]
[]
[]
["（第三面）"]
["申請する工事の概要"]
["【１．建築場所、設置場所又は築造場所】"]
[null,"【イ．地名地番】",null,null,null,null,0]
[null,null,{"$f":"'入力シート（確認・工事届）'!B228","v":0}]
[]
[]
[]
[null,"【ロ．","住居表示】",null,null,null,0]
[null,null,{"$f":"'入力シート（確認・工事届）'!B234","v":0}]
["【２．工事種別】"]
[null,"【イ．建築基準法施行令第10条各号に掲げる建築物の区分】",null,null,null,null,null,null,null,null,null,null,null,null,null,null,null,"第",{"$f":"IF('入力シート（確認・工事届）'!Y396=\"\",\"\",'入力シート（確認・工事届）'!Y396)","v":""},null,null,null,null,null,"号"]
[null,"【ロ．工事種別】",null,null,null,null,{"$f":"IF('入力シート（確認・工事届）'!AD270=TRUE,\"■\",IF('入力シート（確認・工事届）'!AD270=FALSE,\"□\"))","v":"□"},"新築",null,null,{"$f":"IF('入力シート（確認・工事届）'!AE270=TRUE,\"■\",IF('入力シート（確認・工事届）'!AE270=FALSE,\"□\"))","v":"□"},"増築",null,null,{"$f":"IF('入力シート（確認・工事届）'!AF270=TRUE,\"■\",IF('入力シート（確認・工事届）'!AF270=FALSE,\"□\"))","v":"□"},"改築",null,null,{"$f":"IF('入力シート（確認・工事届）'!AG270=TRUE,\"■\",IF('入力シート（確認・工事届）'!AG270=FALSE,\"□\"))","v":"□"},"移転"]
[null,null,null,null,null,null,{"$f":"IF('入力シート（確認・工事届）'!AI270=TRUE,\"■\",IF('入力シート（確認・工事届）'!AI270=FALSE,\"□\"))","v":"□"},"大規模の修繕",null,null,null,null,{"$f":"IF('入力シート（確認・工事届）'!AJ270=TRUE,\"■\",IF('入力シート（確認・工事届）'!AJ270=FALSE,\"□\"))","v":"□"},"大規模の模様替",null,null,null,null,null,"□","建築設備の設置"]
[null,"【ハ．建築基準法第68条の20第２項の検査の特例に係る認証番号】",null,null,null,null,null,null,null,null,null,null,null,null,null,null,null,null,null,"第",{"$f":"IF('入力シート（中間・完了）'!U108=\"\",\"\",'入力シート（中間・完了）'!U108:Z108)","v":""},null,null,null,null,null,"号"]
["【３．確認済証番号】",null,null,null,null,null,null,null,null,null,{"$f":"IF('入力シート（中間・完了）'!Q2=\"\",\"\",'入力シート（中間・完了）'!O2&'入力シート（中間・完了）'!Q2&'入力シート（中間・完了）'!R2&'入力シート（中間・完了）'!X2)","v":""},null,null,null,null,null,null,null,null,null,"号"]
["【４．確認済証交付年月日】",null,null,null,null,null,null,null,null,{"$f":"'入力シート（中間・完了）'!O3","v":"令和"},{"$f":"'入力シート（中間・完了）'!Q3","v":0},"年",{"$f":"'入力シート（中間・完了）'!S3","v":0},"月",{"$f":"'入力シート（中間・完了）'!U3","v":0},"日"]
["【５．確認済証交付者】",null,null,null,null,null,null,null,null,{"$f":"'入力シート（中間・完了）'!O4","v":""}]
["【６．工事着手年月日】",null,null,null,null,null,null,null,null,{"$f":"'入力シート（中間・完了）'!J44","v":"令和"},{"$f":"'入力シート（中間・完了）'!L117","v":0},"年",{"$f":"'入力シート（中間・完了）'!N117","v":0},"月",{"$f":"'入力シート（中間・完了）'!P117","v":0},"日"]
["【７．工事完了（予定）年月日】",null,null,null,null,null,null,null,null,"令和",{"$f":"'入力シート（中間・完了）'!L120","v":0},"年",{"$f":"'入力シート（中間・完了）'!N120","v":0},"月",{"$f":"'入力シート（中間・完了）'!P120","v":0},"日"]
["【８．検査対象床面積】",null,null,null,null,null,null,null,null,{"$f":"IF('入力シート（中間・完了）'!K123=\"\",\"\",'入力シート（中間・完了）'!K123)","v":""}]
["【９．検査経過】"]
[null,null,null,null,null,null,null,null,null,"（","第",{"$f":"'入力シート（中間・完了）'!L126","v":""},null,"回","）"]
[null,"【イ．特定工程】",null,null,null,null,null,null,null,null,{"$f":"'入力シート（中間・完了）'!K127","v":0}]
[null,"【ロ．中間検査合格証交付者】",null,null,null,null,null,null,null,null,{"$f":"'入力シート（中間・完了）'!K129","v":""}]
[null,"【ハ．中間検査合格証番号】",null,null,null,null,null,null,null,null,{"$f":"'入力シート（中間・完了）'!K130","v":""}]
[null,"【ニ．交付年月日】",null,null,null,null,null,null,null,null,null,{"$f":"'入力シート（中間・完了）'!K131","v":"令和"},{"$f":"'入力シート（中間・完了）'!M131","v":0},"年",{"$f":"'入力シート（中間・完了）'!O131","v":0},"月",{"$f":"'入力シート（中間・完了）'!Q131","v":0},"日"]
[null,null,null,null,null,null,null,null,null,"（","第",{"$f":"'入力シート（中間・完了）'!L133","v":""},null,"回","）"]
[null,"【イ．特定工程】",null,null,null,null,null,null,null,null,{"$f":"'入力シート（中間・完了）'!K134","v":0}]
[null,"【ロ．中間検査合格証交付者】",null,null,null,null,null,null,null,null,{"$f":"'入力シート（中間・完了）'!K136","v":""}]
[null,"【ハ．中間検査合格証番号】",null,null,null,null,null,null,null,null,{"$f":"'入力シート（中間・完了）'!K137","v":""}]
[null,"【ニ．交付年月日】",null,null,null,null,null,null,null,null,null,{"$f":"'入力シート（中間・完了）'!K138","v":"令和"},{"$f":"'入力シート（中間・完了）'!M138","v":0},"年",{"$f":"'入力シート（中間・完了）'!O138","v":0},"月",{"$f":"'入力シート（中間・完了）'!Q138","v":0},"日"]
["【１０.確認以降の軽微な変更の概要】"]
[null,"【イ．変更された設計図書の種類】",null,null,null,null,null,null,null,null,null,{"$f":"'入力シート（中間・完了）'!L141","v":0}]
[null,"【ロ．変更の概要】",null,null,null,null,null,null,{"$f":"'入力シート（中間・完了）'!I142","v":0}]
["【１１.備考】"]
[null,{"$f":"'入力シート（中間・完了）'!B145","v":0}]
[]
[]
["（第四面）"]
["工事監理の状況"]
[null,null,null,null,null,"確認を行った部位・材料の種類等",null,null,null,"照合内容",null,null,null,null,"照合を行った設計図書",null,null,"設計図書の内容について設計者に確認した事項",null,null,"照合方法",null,null,null,null,"　 照合結果\n（不適の場合には建築主に対して行った報告の内容）"]
["敷地の形状、高さ、衛生及び安全",null,null,null,null,{"$f":"'入力シート（中間・完了）'!F152","v":0},null,null,null,{"$f":"'入力シート（中間・完了）'!J152","v":0},null,null,null,null,{"$f":"'入力シート（中間・完了）'!O152","v":0},null,null,{"$f":"'入力シート（中間・完了）'!R152","v":0},null,null,{"$f":"'入力シート（中間・完了）'!U152","v":0},null,null,null,null,{"$f":"'入力シート（中間・完了）'!Z152","v":0}]
["主要構造部及び主要構造部以外の構造耐力上主要な部分に用いる材料（接合材料を含む）の種類、品質、形状及び寸法",null,null,null,null,{"$f":"'入力シート（中間・完了）'!F153","v":0},null,null,null,{"$f":"'入力シート（中間・完了）'!J153","v":0},null,null,null,null,{"$f":"'入力シート（中間・完了）'!O153","v":0},null,null,{"$f":"'入力シート（中間・完了）'!R153","v":0},null,null,{"$f":"'入力シート（中間・完了）'!U153","v":0},null,null,null,null,{"$f":"'入力シート（中間・完了）'!Z153","v":0}]
["主要構造部及び主要構造部以外の構造耐力上主要な部分に用いる材料の接合状況、接合部分の形状等",null,null,null,null,{"$f":"'入力シート（中間・完了）'!F154","v":0},null,null,null,{"$f":"'入力シート（中間・完了）'!J154","v":0},null,null,null,null,{"$f":"'入力シート（中間・完了）'!O154","v":0},null,null,{"$f":"'入力シート（中間・完了）'!R154","v":0},null,null,{"$f":"'入力シート（中間・完了）'!U154","v":0},null,null,null,null,{"$f":"'入力シート（中間・完了）'!Z154","v":0}]
["建築物の各部分の位置、形状及び大きさ",null,null,null,null,{"$f":"'入力シート（中間・完了）'!F155","v":0},null,null,null,{"$f":"'入力シート（中間・完了）'!J155","v":0},null,null,null,null,{"$f":"'入力シート（中間・完了）'!O155","v":0},null,null,{"$f":"'入力シート（中間・完了）'!R155","v":0},null,null,{"$f":"'入力シート（中間・完了）'!U155","v":0},null,null,null,null,{"$f":"'入力シート（中間・完了）'!Z155","v":0}]
["構造耐力上主要な部分の防錆、防腐及び防蟻措置及び状況",null,null,null,null,{"$f":"'入力シート（中間・完了）'!F156","v":0},null,null,null,{"$f":"'入力シート（中間・完了）'!J156","v":0},null,null,null,null,{"$f":"'入力シート（中間・完了）'!O156","v":0},null,null,{"$f":"'入力シート（中間・完了）'!R156","v":0},null,null,{"$f":"'入力シート（中間・完了）'!U156","v":0},null,null,null,null,{"$f":"'入力シート（中間・完了）'!Z156","v":0}]
["特定天井に用いる材料の種類並びに当該特定天井の構造及び施工状況",null,null,null,null,{"$f":"'入力シート（中間・完了）'!F157","v":0},null,null,null,{"$f":"'入力シート（中間・完了）'!J157","v":0},null,null,null,null,{"$f":"'入力シート（中間・完了）'!O157","v":0},null,null,{"$f":"'入力シート（中間・完了）'!R157","v":0},null,null,{"$f":"'入力シート（中間・完了）'!U157","v":0},null,null,null,null,{"$f":"'入力シート（中間・完了）'!Z157","v":0}]
["居室の内装の仕上げに用いる建築材料の種別及び当該建築材料を用いる部分の面積",null,null,null,null,{"$f":"'入力シート（中間・完了）'!F158","v":0},null,null,null,{"$f":"'入力シート（中間・完了）'!J158","v":0},null,null,null,null,{"$f":"'入力シート（中間・完了）'!O158","v":0},null,null,{"$f":"'入力シート（中間・完了）'!R158","v":0},null,null,{"$f":"'入力シート（中間・完了）'!U158","v":0},null,null,null,null,{"$f":"'入力シート（中間・完了）'!Z158","v":0}]
["天井及び壁の室内に面する部分に係る仕上げの材料の種別及び厚さ",null,null,null,null,{"$f":"'入力シート（中間・完了）'!F159","v":0},null,null,null,{"$f":"'入力シート（中間・完了）'!J159","v":0},null,null,null,null,{"$f":"'入力シート（中間・完了）'!O159","v":0},null,null,{"$f":"'入力シート（中間・完了）'!R159","v":0},null,null,{"$f":"'入力シート（中間・完了）'!U159","v":0},null,null,null,null,{"$f":"'入力シート（中間・完了）'!Z159","v":0}]
["開口部に設ける建具の種類及び大きさ",null,null,null,null,{"$f":"'入力シート（中間・完了）'!F160","v":0},null,null,null,{"$f":"'入力シート（中間・完了）'!J160","v":0},null,null,null,null,{"$f":"'入力シート（中間・完了）'!O160","v":0},null,null,{"$f":"'入力シート（中間・完了）'!R160","v":0},null,null,{"$f":"'入力シート（中間・完了）'!U160","v":0},null,null,null,null,{"$f":"'入力シート（中間・完了）'!Z160","v":0}]
["建築設備に用いる材料の種類及びその照合した内容並びに当該建築設備の構造及び施工状況（区画貫通部の処理状況を含む。）",null,null,null,null,{"$f":"'入力シート（中間・完了）'!F161","v":0},null,null,null,{"$f":"'入力シート（中間・完了）'!J161","v":0},null,null,null,null,{"$f":"'入力シート（中間・完了）'!O161","v":0},null,null,{"$f":"'入力シート（中間・完了）'!R161","v":0},null,null,{"$f":"'入力シート（中間・完了）'!U161","v":0},null,null,null,null,{"$f":"'入力シート（中間・完了）'!Z161","v":0}]
["備考",null,null,null,null,{"$f":"'入力シート（中間・完了）'!F162","v":0},null,null,null,{"$f":"'入力シート（中間・完了）'!J162","v":0},null,null,null,null,{"$f":"'入力シート（中間・完了）'!O162","v":0},null,null,{"$f":"'入力シート（中間・完了）'!R162","v":0},null,null,{"$f":"'入力シート（中間・完了）'!U162","v":0},null,null,null,null,{"$f":"'入力シート（中間・完了）'!Z162","v":0}]

{"sheet":"☆連名用(確認)","index":12,"n_rows":26,"n_cols":19,"rows_kept":26,"cut":false,"hidden":false,"merged":[[2,0,2,26],[4,8,4,26],[5,8,5,26],[7,8,7,14],[6,8,6,26],[0,11,0,16],[0,18,0,27],[25,8,25,17],[12,8,12,26],[13,8,13,26],[15,8,15,14],[16,8,16,26],[21,8,21,26],[23,8,23,14],[24,8,24,26],[22,8,22,26],[8,8,8,26],[9,8,9,17],[20,8,20,26],[17,8,17,17],[14,8,14,26]]}
["印刷用シート　「☆連名用（確認）」",null,null,null,null,null,null,null,null,null,null,"シート構成に戻る",null,null,null,null,null,null,"入力シート（確認・工事届）に戻る"]
[]
["別紙"]
["【建築主】"]
[null,"【イ.氏名のフリガナ】",null,null,null,null,null,null,{"$f":"'入力シート（確認・工事届）'!I202","v":0}]
[null,"【ロ.氏名】",null,null,null,null,null,null,{"$f":"'入力シート（確認・工事届）'!I203","v":0}]
[null,null,null,null,null,null,null,null,{"$f":"'入力シート（確認・工事届）'!I204","v":0}]
[null,"【ハ.郵便番号】",null,null,null,null,null,null,{"$f":"'入力シート（確認・工事届）'!I205","v":0}]
[null,"【ニ.住所】",null,null,null,null,null,null,{"$f":"'入力シート（確認・工事届）'!I206","v":0}]
[null,"【ホ.電話番号】",null,null,null,null,null,null,{"$f":"'入力シート（確認・工事届）'!I207","v":0}]
[]
["【建築主】"]
[null,"【イ.氏名のフリガナ】",null,null,null,null,null,null,{"$f":"'入力シート（確認・工事届）'!I210","v":0}]
[null,"【ロ.氏名】",null,null,null,null,null,null,{"$f":"'入力シート（確認・工事届）'!I211","v":0}]
[null,null,null,null,null,null,null,null,{"$f":"'入力シート（確認・工事届）'!I212","v":0}]
[null,"【ハ.郵便番号】",null,null,null,null,null,null,{"$f":"'入力シート（確認・工事届）'!I213","v":0}]
[null,"【ニ.住所】",null,null,null,null,null,null,{"$f":"'入力シート（確認・工事届）'!I214","v":0}]
[null,"【ホ.電話番号】",null,null,null,null,null,null,{"$f":"'入力シート（確認・工事届）'!I215","v":0}]
[]
["【建築主】"]
[null,"【イ.氏名のフリガナ】",null,null,null,null,null,null,{"$f":"'入力シート（確認・工事届）'!I218","v":0}]
[null,"【ロ.氏名】",null,null,null,null,null,null,{"$f":"'入力シート（確認・工事届）'!I219","v":0}]
[null,null,null,null,null,null,null,null,{"$f":"'入力シート（確認・工事届）'!I220","v":0}]
[null,"【ハ.郵便番号】",null,null,null,null,null,null,{"$f":"'入力シート（確認・工事届）'!I221","v":0}]
[null,"【ニ.住所】",null,null,null,null,null,null,{"$f":"'入力シート（確認・工事届）'!I222","v":0}]
[null,"【ホ.電話番号】",null,null,null,null,null,null,{"$f":"'入力シート（確認・工事届）'!I223","v":0}]

{"sheet":"☆連名用(概要書)","index":13,"n_rows":23,"n_cols":19,"rows_kept":23,"cut":false,"hidden":false,"merged":[[6,8,6,26],[0,11,0,16],[0,18,0,27],[2,0,2,26],[4,8,4,26],[5,8,5,26],[7,8,7,14],[8,8,8,26],[11,8,11,26],[12,8,12,26],[13,8,13,26],[21,8,21,14],[22,8,22,26],[14,8,14,14],[15,8,15,26],[18,8,18,26],[19,8,19,26],[20,8,20,26]]}
["印刷用シート　「☆連名用（概要書）」",null,null,null,null,null,null,null,null,null,null,"シート構成に戻る",null,null,null,null,null,null,"入力シート（確認・工事届）に戻る"]
[]
["別紙"]
["【建築主】"]
[null,"【イ.氏名のフリガナ】",null,null,null,null,null,null,{"$f":"'入力シート（確認・工事届）'!I202","v":0}]
[null,"【ロ.氏名】",null,null,null,null,null,null,{"$f":"'入力シート（確認・工事届）'!I203","v":0}]
[null,null,null,null,null,null,null,null,{"$f":"'入力シート（確認・工事届）'!I204","v":0}]
[null,"【ハ.郵便番号】",null,null,null,null,null,null,{"$f":"'入力シート（確認・工事届）'!I205","v":0}]
[null,"【ニ.住所】",null,null,null,null,null,null,{"$f":"'入力シート（確認・工事届）'!I206","v":0}]
[]
["【建築主】"]
[null,"【イ.氏名のフリガナ】",null,null,null,null,null,null,{"$f":"'入力シート（確認・工事届）'!I210","v":0}]
[null,"【ロ.氏名】",null,null,null,null,null,null,{"$f":"'入力シート（確認・工事届）'!I211","v":0}]
[null,null,null,null,null,null,null,null,{"$f":"'入力シート（確認・工事届）'!I212","v":0}]
[null,"【ハ.郵便番号】",null,null,null,null,null,null,{"$f":"'入力シート（確認・工事届）'!I213","v":0}]
[null,"【ニ.住所】",null,null,null,null,null,null,{"$f":"'入力シート（確認・工事届）'!I214","v":0}]
[]
["【建築主】"]
[null,"【イ.氏名のフリガナ】",null,null,null,null,null,null,{"$f":"'入力シート（確認・工事届）'!I218","v":0}]
[null,"【ロ.氏名】",null,null,null,null,null,null,{"$f":"'入力シート（確認・工事届）'!I219","v":0}]
[null,null,null,null,null,null,null,null,{"$f":"'入力シート（確認・工事届）'!I220","v":0}]
[null,"【ハ.郵便番号】",null,null,null,null,null,null,{"$f":"'入力シート（確認・工事届）'!I221","v":0}]
[null,"【ニ.住所】",null,null,null,null,null,null,{"$f":"'入力シート（確認・工事届）'!I222","v":0}]

{"sheet":"☆連名用(工事届)","index":14,"n_rows":24,"n_cols":19,"rows_kept":24,"cut":false,"hidden":false,"merged":[[9,7,9,16],[6,7,6,23],[0,11,0,16],[0,18,0,27],[21,7,21,13],[2,0,2,25],[5,7,5,23],[7,7,7,13],[8,7,8,25],[22,7,22,25],[23,7,23,16],[12,7,12,23],[14,7,14,13],[15,7,15,25],[16,7,16,16],[13,7,13,23],[20,7,20,23],[19,7,19,23]]}
["印刷用シート　「☆連名用（工事届）」",null,null,null,null,null,null,null,null,null,null,"シート構成に戻る",null,null,null,null,null,null,"入力シート（確認・工事届）に戻る"]
[]
["別紙"]
[]
["建築主"]
[null,"氏名",null,null,null,null,null,{"$f":"'入力シート（確認・工事届）'!H764","v":""}]
[null,null,null,null,null,null,null,{"$f":"'入力シート（確認・工事届）'!H765","v":""}]
[null,"郵便番号",null,null,null,null,null,{"$f":"'入力シート（確認・工事届）'!H766","v":""}]
[null,"住所",null,null,null,null,null,{"$f":"'入力シート（確認・工事届）'!H767","v":""}]
[null,"電話番号",null,null,null,null,null,{"$f":"'入力シート（確認・工事届）'!H768","v":""}]
[]
["建築主"]
[null,"氏名",null,null,null,null,null,{"$f":"'入力シート（確認・工事届）'!H771","v":""}]
[null,null,null,null,null,null,null,{"$f":"'入力シート（確認・工事届）'!H772","v":""}]
[null,"郵便番号",null,null,null,null,null,{"$f":"'入力シート（確認・工事届）'!H773","v":""}]
[null,"住所",null,null,null,null,null,{"$f":"'入力シート（確認・工事届）'!H774","v":""}]
[null,"電話番号",null,null,null,null,null,{"$f":"'入力シート（確認・工事届）'!H775","v":""}]
[]
["建築主"]
[null,"氏名",null,null,null,null,null,{"$f":"'入力シート（確認・工事届）'!H778","v":""}]
[null,null,null,null,null,null,null,{"$f":"'入力シート（確認・工事届）'!H779","v":""}]
[null,"郵便番号",null,null,null,null,null,{"$f":"'入力シート（確認・工事届）'!H780","v":""}]
[null,"住所",null,null,null,null,null,{"$f":"'入力シート（確認・工事届）'!H781","v":""}]
[null,"電話番号",null,null,null,null,null,{"$f":"'入力シート（確認・工事届）'!H782","v":""}]

{"sheet":"項目リスト","index":15,"n_rows":75,"n_cols":21,"rows_kept":75,"cut":false,"hidden":true,"merged":[]}
["申請書",null,null,null,null,null,null,null,null,null,null,null,null,null,"工事届"]
["資格","一級","二級","木造","施工者","事務所登録","作成図書","判定機関","判定機関所在地","用途地域","建物構造","用途区分（建築物）","名称（建築物）","特定工程","主要用途工事届１","主要用途工事届２","県","省エネ適判","省エネ適判所在地","元号","番号記号"]
["一級","大臣","愛知県知事","愛知県知事","なし","愛知県",null,"㈱建築構造センター","愛知県名古屋市中区","第一種低層住居専用地域",null,"08010","一戸建ての住宅","屋根ふき工事及び構造耐力上主要な軸組（枠組壁工法の場合は、耐力壁）の工事","01",11,"愛知県知事","一般財団法人愛知県建築住宅センター","愛知県名古屋市中区","令和","第Ｒ"]
["二級",null,"岐阜県知事","岐阜県知事","大臣","岐阜県","設計図書一式","㈱確認サービス","愛知県名古屋市中区","第二種低層住居専用地域","木造","08020","長屋","鉄骨造の部分において、初めて工事を施工する階の建方工事","02",12,"岐阜県知事",null,null,"平成","第Ｈ"]
["木造",null,"三重県知事","三重県知事","愛知県知事","三重県","設計図書（意匠図）","㈱東京建築検査機構","愛知県名古屋市中区","第一種中高層住居専用地域","在来木造","08030","共同住宅","RC造の部分において、初めて工事を施工する階の直上の階の主要構造部である床版の配筋（プレキャストコンクリート部材にあっては、接合部）の工事","03",13,"三重県知事"]
[null,null,"静岡県知事","静岡県知事","岐阜県知事","静岡県","設計図書(構造図）","㈱グッド・アイズ建築検査機構","東京都新宿区","第二種中高層住居専用地域","木造（枠組壁工法）","08040","寄宿舎","2階の床及びこれを支持するはりに鉄筋を配置する工事","04",14,"静岡県知事"]
[null,null,"愛媛県知事","愛媛県知事","三重県知事","愛媛県","設計図書（構造計算書）","(一財)日本建築センター　本部","東京都千代田区","第一種住居地域","丸太組構法","08050","下宿","構造耐力上主要な軸組を構成する各部材を接続する接合部の工事","05",15]
[null,null,"茨城県知事","茨城県知事","静岡県知事","茨城県",null,"(一財)日本建築センター　大阪事務所","大阪府大阪市中央区","第二種住居地域","木質系パネル造","08060","住宅で事務所、店舗その他これらに類する用途を兼ねるもの","木造の部分において、初めて工事を施工する階の建方工事",null,16]
[null,null,"岡山県知事","岡山県知事","愛媛県知事","岡山県",null,"(一財)ベターリビング　本部","東京都千代田区","準住居地域","鉄骨造","08070","幼稚園","２階の床及びこれを支持するはりに鉄筋を配置（プレキャストコンクリート部材にあっては床版を接合）する工事",null,17]
[null,null,"沖縄県知事","沖縄県知事","茨城県知事","沖縄県",null,"(一財)ベターリビング　名古屋事務所","愛知県名古屋市中区","近隣商業地域","鉄筋コンクリート造","08080","小学校","木造の軸組若しくは耐力壁及び屋根工事",null,18]
[null,null,"岩手県知事","岩手県知事","岡山県知事","岩手県",null,"(一財)日本建築設備・昇降機センター","東京都港区","商業地域","鉄骨鉄筋コンクリート造","08082","義務教育学校","屋根版の配筋工事",null,19]
[null,null,"宮崎県知事","宮崎県知事","沖縄県知事","宮崎県",null,"(一財)住宅金融普及協会","東京都文京区","準工業地域","壁式鉄筋コンクリート造","08090","中学校、高等学校又は中等教育学校","構造耐力上主要な軸組（枠組壁工法の場合は、耐力壁）の工事",null,20]
[null,null,"宮城県知事","宮城県知事","岩手県知事","宮城県",null,"(一財)日本建築総合試験所","大阪府吹田市","工業地域","プレキャストコンクリート造","08100","特別支援学校","基礎に鉄筋を配置する工事",null,21]
[null,null,"京都府知事","京都府知事","宮崎県知事","京都府",null,"日本建築検査協会㈱","東京都中央区","工業専用地域",null,"08110","大学又は高等専門学校","屋根の小屋組工事及び構造耐力上主要な軸組の工事",null,22]
[null,null,"熊本県知事","熊本県知事","宮城県知事","熊本県",null,"ビューローベリタスジャパン㈱御茶ノ水事務所","東京都千代田区","田園住居地域",null,"08120","専修学校","２階の床（地上階の階数が１の場合は、屋根床版）及びこれを支持するはりに鉄筋を配置する工事",null,23]
[null,null,"群馬県知事","群馬県知事","京都府知事","群馬県",null,"ビューローベリタスジャパン㈱横浜事務所","神奈川県横浜市","指定なし",null,"08130","各種学校","２階の床版（地上階の階数が１の場合は、屋根床版）の取付工事",null,24]
[null,null,"広島県知事","広島県知事","熊本県知事","広島県",null,"公益財団法人三重県建設技術センター","三重県津市",null,null,"08132","幼保連携型認定こども園","屋根工事",null,25]
[null,null,"香川県知事","香川県知事","群馬県知事","香川県",null,"NPO法人静岡県建築技術安心支援センター","静岡県静岡市葵区",null,null,"08140","図書館その他これに類するもの",null,null,26]
[null,null,"高知県知事","高知県知事","広島県知事","高知県",null,null,null,null,null,"08150","博物館その他これに類するもの",null,null,27]
[null,null,"佐賀県知事","佐賀県知事","香川県知事","佐賀県",null,null,null,null,null,"08152","美術館その他これに類するもの",null,null,28]
[null,null,"埼玉県知事","埼玉県知事","高知県知事","埼玉県",null,null,null,null,null,"08160","神社、寺院、教会その他これらに類するもの",null,null,29]
[null,null,"山形県知事","山形県知事","佐賀県知事","山形県",null,null,null,null,null,"08170","老人ホーム、福祉ホームその他これに類するもの",null,null,30]
[null,null,"山口県知事","山口県知事","埼玉県知事","山口県",null,null,null,null,null,"08180","保育所その他これに類するもの",null,null,31]
[null,null,"山梨県知事","山梨県知事","山形県知事","山梨県",null,null,null,null,null,"08190","助産所（入所する者の寝室があるものに限る。）",null,null,32]
[null,null,"滋賀県知事","滋賀県知事","山口県知事","滋賀県",null,null,null,null,null,"08192","助産所（入所する者の寝室がないものに限る。）",null,null,33]
[null,null,"鹿児島県知事","鹿児島県知事","山梨県知事","鹿児島県",null,null,null,null,null,"08210","児童福祉施設等（建築基準法施行令第19条第1項に規定する児童福祉施設等をいい、前４項に掲げるものを除く。）次項において同じ。）（入所する者の寝室があるものに限る。）",null,null,34]
[null,null,"秋田県知事","秋田県知事","滋賀県知事","秋田県",null,null,null,null,null,"08220","児童福祉施設等（入所する者の寝室がないものに限る。）",null,null,35]
[null,null,"新潟県知事","新潟県知事","鹿児島県知事","新潟県",null,null,null,null,null,"08230","公衆浴場（個室付浴場業に係る公衆浴場を除く。）",null,null,36]
[null,null,"神奈川県知事","神奈川県知事","秋田県知事","神奈川県",null,null,null,null,null,"08240","診療所（患者の収容施設のあるものに限る。）",null,null,37]
[null,null,"青森県知事","青森県知事","新潟県知事","青森県",null,null,null,null,null,"08250","診療所（患者の収容施設のないものに限る。）",null,null,38]
[null,null,"石川県知事","石川県知事","神奈川県知事","石川県",null,null,null,null,null,"08260","病院",null,null,39]
[null,null,"千葉県知事","千葉県知事","青森県知事","千葉県",null,null,null,null,null,"08270","巡査派出所",null,null,40]
[null,null,"大阪府知事","大阪府知事","石川県知事","大阪府",null,null,null,null,null,"08280","公衆電話所",null,null,41]
[null,null,"大分県知事","大分県知事","千葉県知事","大分県",null,null,null,null,null,"08290","郵便法（昭和22年法律第165号）の規定により行う郵便の業務の用に供する施設",null,null,42]
[null,null,"長崎県知事","長崎県知事","大阪府知事","長崎県",null,null,null,null,null,"08300","地方公共団体の支庁又は支所",null,null,43]
[null,null,"長野県知事","長野県知事","大分県知事","長野県",null,null,null,null,null,"08310","公衆便所、休憩所又は路線バスの停留所の上家",null,null,44]
[null,null,"鳥取県知事","鳥取県知事","長崎県知事","鳥取県",null,null,null,null,null,"08320","建築基準法施行令第130条の４第５号に基づき建設大臣が指定する施設",null,null,45]
[null,null,"島根県知事","島根県知事","長野県知事","島根県",null,null,null,null,null,"08330","税務署、警察署、保健所又は消防署その他これらに類するもの",null,null,46]
[null,null,"東京都知事","東京都知事","鳥取県知事","東京都",null,null,null,null,null,"08340","工場（自動車修理工場を除く。）",null,null,99]
[null,null,"徳島県知事","徳島県知事","島根県知事","徳島県",null,null,null,null,null,"08350","自動車修理工場"]
[null,null,"栃木県知事","栃木県知事","東京都知事","栃木県",null,null,null,null,null,"08360","危険物の貯蔵又は処理に供するもの"]
[null,null,"奈良県知事","奈良県知事","徳島県知事","奈良県",null,null,null,null,null,"08370","ボーリング場、スケート場、水泳場、スキー場、ゴルフ練習場又はバッティング練習場"]
[null,null,"富山県知事","富山県知事","栃木県知事","富山県",null,null,null,null,null,"08380","体育館又はスポーツの練習場（前項に掲げるものを除く。）"]
[null,null,"福井県知事","福井県知事","奈良県知事","福井県",null,null,null,null,null,"08390","マージャン屋、ぱちんこ屋、射的場、勝馬投票券発売所、場外車券売場その他これらに類するもの又はカラオケボックスその他これらに類するもの"]
[null,null,"福岡県知事","福岡県知事","富山県知事","福岡県",null,null,null,null,null,"08400","ホテル又は旅館"]
[null,null,"福島県知事","福島県知事","福井県知事","福島県",null,null,null,null,null,"08410","自動車教習所"]
[null,null,"兵庫県知事","兵庫県知事","福岡県知事","兵庫県",null,null,null,null,null,"08420","畜舎"]
[null,null,"北海道知事","北海道知事","福島県知事","北海道",null,null,null,null,null,"08430","堆肥舎又は水産物の増殖場若しくは養殖場"]
[null,null,"和歌山県知事","和歌山県知事","兵庫県知事","和歌山県",null,null,null,null,null,"08438","日用品の販売を主たる目的とする店舗"]
[null,null,null,null,"北海道知事",null,null,null,null,null,null,"08440","百貨店、マーケットその他の物品販売業を営む店舗（前項に掲げるもの、専ら性的好奇心をそそる写真その他の物品の販売を行うもの並びに田園住居地域及びその周辺の地域で生産された農産物の販売を主たる目的とするものを除く。）"]
[null,null,null,null,"和歌山県知事",null,null,null,null,null,null,"08450","飲食店（次項に掲げるもの並びに田園住居地域及びその周辺の地域で生産された農産物を材料とする料理の提供を主たる目的とするものを除く。）"]
[null,null,null,null,null,null,null,null,null,null,null,"08452","食堂又は喫茶店"]
[null,null,null,null,null,null,null,null,null,null,null,"08456","理髪店、美容院、クリーニング取次店、質屋、貸衣装屋、貸本屋その他これらに類するサービス業を営む店舗、洋服店、畳屋、建具屋、自転車店、家庭電気器具店その他これらに類するサービス業を営む店舗で作業場の床面積の合計が50平方メートル以内のもの（原動機を使用する場合にあつては、その出力の合計が0.75キロワット以下のものに限る。）、自家販売のために食品製造業を営むパン屋、米屋、豆腐屋、菓子屋その他これらに類するもの（田園住居地域及びその周辺の地域で生産された農産物を原材料とする食品の製造又は加工を主たる目的とするものを除く。）で作業場の床面積の合計が50平方メートル以内のもの（原動機を使用する場合にあつては、その出力の合計が0.75キロワット以下のものに限る。）又は学習塾、華道教室、囲碁教室その他これらに類する施設"]
[null,null,null,null,null,null,null,null,null,null,null,"08458","銀行の支店、損害保険代理店、宅地建物取引業を営む店舗その他これらに類するサービス業を営む店舗"]
[null,null,null,null,null,null,null,null,null,null,null,"08460","物品販売業を営む店舗以外の店舗（前２項に掲げるものを除く。）"]
[null,null,null,null,null,null,null,null,null,null,null,"08470","事務所"]
[null,null,null,null,null,null,null,null,null,null,null,"08480","映画スタジオ又はテレビスタジオ"]
[null,null,null,null,null,null,null,null,null,null,null,"08490","自動車車庫"]
[null,null,null,null,null,null,null,null,null,null,null,"08500","自転車駐車場"]
[null,null,null,null,null,null,null,null,null,null,null,"08510","倉庫業を営む倉庫"]
[null,null,null,null,null,null,null,null,null,null,null,"08520","倉庫業を営まない倉庫"]
[null,null,null,null,null,null,null,null,null,null,null,"08530","劇場、映画館又は演芸場"]
[null,null,null,null,null,null,null,null,null,null,null,"08540","観覧場"]
[null,null,null,null,null,null,null,null,null,null,null,"08550","公会堂又は集会場"]
[null,null,null,null,null,null,null,null,null,null,null,"08560","展示場"]
[null,null,null,null,null,null,null,null,null,null,null,"08570","料理店"]
[null,null,null,null,null,null,null,null,null,null,null,"08580","キャバレー、カフェー、ナイトクラブ又はバー"]
[null,null,null,null,null,null,null,null,null,null,null,"08590","ダンスホール"]
[null,null,null,null,null,null,null,null,null,null,null,"08600","個室付浴場業に係る公衆浴場、ヌードスタジオ、のぞき劇場、ストリップ劇場、専ら異性を同伴する客の休憩の用に供する施設、専ら性的好奇心をそそる写真その他の物品の販売を目的とする店舗その他これらに類するもの"]
[null,null,null,null,null,null,null,null,null,null,null,"08610","卸売市場"]
[null,null,null,null,null,null,null,null,null,null,null,"08620","火葬場又はと畜場、汚物処理場、ごみ焼却場その他の処理施設"]
[null,null,null,null,null,null,null,null,null,null,null,"08630","農産物の生産、集荷、処理又は貯蔵に供するもの"]
[null,null,null,null,null,null,null,null,null,null,null,"08640","農業の生産資材の貯蔵に供するもの"]
[null,null,null,null,null,null,null,null,null,null,null,"08650","田園住居地域及びその周辺の地域で生産された農産物の販売を主たる目的とする店舗、当該農産物を材料とする料理の提供を主たる目的とする飲食店又は自家販売のために食品製造業を営むパン屋、米屋、豆腐屋、菓子屋その他これらに類するもの（当該農産物を原材料とする食品の製造又は加工を主たる目的とするものに限る。）で作業場の床面積の合計が50平方メートル以内のもの（原動機を使用する場合にあつては、その出力の合計が0.75キロワット以下のものに限る。）"]
[null,null,null,null,null,null,null,null,null,null,null,"08990","その他"]